Workbook

Sheet JE + LEdger
B3: Statement | C3: Subclass | D3: Class | E3: Account | F3: Debit | G3: Credit | K3: Row Labels | L3: Sum of Debit | M3: Sum of Credit | N3: Sum of Balance
B4: BS | C4: PPE | D4: Asset | E4: Machinery | F4: 200 | K4: Account Receivables | L4: 3000 | M4: 2880 | N4: 120
B5: BS | C5: Cash | D5: Asset | E5: Cash | F5: 1000 | K5: Accrued Expenses | M5: 20 | N5: -20
E6: Balance Sheet Opening Balance | G6: =+SUM(F4:F6) -> 1200 | K6: Building | L6: 1000 | N6: 1000
K7: Capital | M7: 2080 | N7: -2080
B8: BS | C8: PPE | D8: Asset | E8: Depreciation Fund | G8: 120 | K8: Cash | L8: 4880 | M8: 2510 | N8: 2370
B9: BS | C9: Equity | D9: Equity | E9: Capital | G9: 1080 | K9: Deferred Revenue | M9: 1000 | N9: -1000
E10: Balance Sheet Opening Balance | F10: =+SUM(G8:G9) -> 1200 | K10: Depreciation | L10: 170 | N10: 170
K11: Depreciation Fund | L11: 120 | M11: 290 | N11: -170
B12: BS | C12: PPE | D12: Asset | E12: Building | F12: 1000 | K12: Improvement | L12: 100 | N12: 100
B13: BS | C13: Tax Credit | D13: Asset | E13: VAT | F13: 200 | K13: Interests | L13: 10 | N13: 10
B14: BS | C14: Trade Payables | D14: Liabilities | E14: Payables | G14: 1200 | K14: Loan | L14: 1200 | M14: 1200 | N14: 0
K15: Machinery | L15: 700 | M15: 200 | N15: 500
B16: BS | C16: Trade Payables | D16: Liabilities | E16: Payables | F16: 1200 | K16: Payables | M16: 1200 | N16: -1200
B17: BS | C17: Financial Payables | D17: Liabilities | E17: Loan | G17: 1200 | K17: Payables | L17: 1200 | N17: 1200
K18: Revenue | L18: 1000 | N18: 1000
B19: BS | C19: Trade Receivables | D19: Asset | E19: Account Receivables | F19: 120 | K19: Salaries | L19: 420 | N19: 420
B20: BS | C20: PPE | D20: Asset | E20: Depreciation Fund | F20: 120 | K20: Sales | M20: 2400 | N20: -2400
B21: P&L | C21: Other Sales | D21: 1. Sales | E21: Surplus on sales | G21: 20 | K21: Surplus on sales | M21: 20 | N21: -20
B22: BS | C22: Tax Payables | D22: Liabilities | E22: VAT | G22: 20 | K22: VAT | L22: 500 | M22: 500 | N22: 0
B23: BS | C23: PPE | D23: Asset | E23: Machinery | G23: 200 | K23: VAT to be paid | L23: 180 | M23: 180 | N23: 0
K24: (blank) | N24: 0
B25: BS | C25: PPE | D25: Asset | E25: Improvement | F25: 100 | K25: Balance Sheet Opening Balance | L25: 1200 | M25: 1200 | N25: 0
B26: BS | C26: PPE | D26: Asset | E26: Machinery | F26: 500 | K26: Grand Total | L26: 15680 | M26: 15680 | N26: 0
B27: BS | C27: Tax Credit | D27: Asset | E27: VAT | F27: =+SUM(F25:F26)*20% -> 120
B28: BS | C28: Cash | D28: Asset | E28: Cash | G28: =+SUM(F25:F27) -> 720
B30: BS | C30: Cash | D30: Asset | E30: Cash | F30: 1000
B31: BS | C31: Equity | D31: Equity | E31: Capital | G31: 1000
B33: BS | C33: Financial Payables | D33: Liabilities | E33: Loan | F33: 1200
B34: P&L | C34: Financial Expenses | D34: 4. Financial Results | E34: Interests | F34: 10
B35: BS | C35: Cash | D35: Asset | E35: Cash | G35: 1210
B37: BS | C37: Trade Receivables | D37: Asset | E37: Account Receivables | F37: 1440
B38: P&L | C38: Sales | D38: 1. Sales | E38: Sales | G38: 1200
B39: BS | C39: Tax Payables | D39: Liabilities | E39: VAT | G39: =+G38*20% -> 240
B41: BS | C41: Cash | D41: Asset | E41: Cash | F41: 1440
B42: BS | C42: Trade Receivables | D42: Asset | E42: Account Receivables | G42: 1440
B44: P&L | C44: Depreciation & Amortization | D44: 3. Depreciation & Amortization | E44: Depreciation | F44: 170
B45: BS | C45: PPE | D45: Asset | E45: Depreciation Fund | G45: 170
B47: BS | C47: Trade Receivables | D47: Asset | E47: Account Receivables | F47: 1440
B48: P&L | C48: Sales | D48: 1. Sales | E48: Sales | G48: 1200
...

Sheet Balance Sheet
B2: Statement | C2: BS | F2: Statement | G2: BS
B4: Sum of Balance | C4: Column Labels | D4: PY | F4: Sum of Balance | G4: Column Labels | H4: PY
B5: Row Labels | C5: Asset | F5: Row Labels | G5: Equity
B6: Cash | C6: 2370 | D6: 1000 | F6: Equity | G6: -2080 | H6: 1080
B7: PPE | C7: 1430 | D7: 80 | F7: Equity | G7: -2080
B8: Tax Credit | C8: 0
B9: Trade Receivables | C9: 120
B10: Total Asset | C10: 3920 | F10: Statement | G10: BS
F12: Sum of Balance | G12: Column Labels
F13: Row Labels | G13: Liabilities
F14: Accrued Expenses | G14: -20
F15: Deferred Revenue | G15: -1000
F16: Financial Payables | G16: 0
F17: Tax Payables | G17: -180
F18: Trade Payables | G18: 0
F19: VAT Payables | G19: 180
F20: Total Liabilities | G20: -1020
F22: Equity + Liabilities | G22: =+GETPIVOTDATA("Balance",$F$12,"Class","Liabilities")+GETPIVOTDATA("Balance",$F$4,"Class","Equity") -> -3100
F23: Result for the year | G23: =+GETPIVOTDATA("Balance",'P&L'!$B$5) -> -820
B24: Asset | C24: =+GETPIVOTDATA("Balance",$B$4,"Class","Asset") -> 3920 | F24: Total | G24: =+SUM(G22:G23) -> -3920

Sheet P&L
B3: Statement | C3: P&L
B5: Row Labels | C5: Sum of Balance
B6: 1. Sales | C6: -1420
B7: Other Sales | C7: -20
B8: Sales | C8: -1400
B9: 2. Expenses | C9: 420
B10: Employee Expenses | C10: 420
B11: 3. Depreciation & Amortization | C11: 170
B12: Depreciation & Amortization | C12: 170
B13: 4. Financial Results | C13: 10
B14: Financial Expenses | C14: 10
B15: Result for the Year | C15: -820

Sheet CF
C2: CY
B3: P&L Result | C3: =-GETPIVOTDATA("Balance",'P&L'!$B$5) -> 820
B4: Depreciation | C4: =+GETPIVOTDATA("Balance",'P&L'!$B$5,"Subclass","Depreciation & Amortization","Class","3. Depreciation & Amortization") -> 170
B5: Deferred Income | C5: =-GETPIVOTDATA("Balance",'Balance Sheet'!$F$12,"Subclass","Deferred Revenue","Class","Liabilities") -> 1000
B6: Accrued Expenses | C6: =-GETPIVOTDATA("Balance",'Balance Sheet'!$F$12,"Subclass","Accrued Expenses","Class","Liabilities") -> 20
B7: Operating Cash Flow before change in WC | C7: =+SUM(C3:C6) -> 2010
B9: Change in AR | C9: =-GETPIVOTDATA("Balance",'Balance Sheet'!$B$4,"Subclass","Trade Receivables","Class","Asset")+'Balance Sheet'!D9 -> -120
B10: Operating Cash Flow | C10: =+C9 -> -120
B12: Investing in PPE | C12: =-GETPIVOTDATA("Balance",'Balance Sheet'!$B$4,"Subclass","PPE","Class","Asset")+'Balance Sheet'!D7-GETPIVOTDATA("Balance",'P&L'!$B$5,"Subclass","Depreciation & Amortization","Class","3. Depreciation & Amortization") -> -1520
B13: Investing Cash Flow | C13: =+C12 -> -1520
B15: Capital Contribution | C15: =-GETPIVOTDATA("Balance",'Balance Sheet'!$F$4,"Subclass","Equity","Class","Equity")-'Balance Sheet'!H6 -> 1000
B16: Financing Cash Flow | C16: =+C15 -> 1000
B18: Cash Flow | C18: =+C7+C10+C13+C16 -> 1370
B20: Cash CY | C20: =+GETPIVOTDATA("Balance",'Balance Sheet'!$B$4,"Subclass","Cash","Class","Asset") -> 2370
B21: Cash LY | C21: =+'Balance Sheet'!D6 -> 1000
B22: Change in Cash | C22: =+C20-C21 -> 1370
B24: Check | C24: =+C18-C22 -> 0

Sheet Sheet1
C3: CY
B4: P&L Result | C4: =-GETPIVOTDATA("Balance",'P&L'!$B$5) -> 820
B5: Depreciation | C5: 170
B6: Deferred Income | C6: 1000
B7: Accrued Expenses | C7: 20
B8: Operating Cash Flow before change in WC | C8: =+SUM(C4:C7) -> 2010
B10: Change in AR | C10: -120
B11: Operating Cash Flow | C11: =+C10 -> -120
B13: Investing in PPE | C13: -1520
B14: Investing Cash Flow | C14: =+C13 -> -1520
B16: Capital Contribution | C16: 1000
B17: Financing Cash Flow | C17: =+C16 -> 1000
B19: Cash Flow | C19: =+C8+C11+C14+C17 -> 1370
B21: Cash CY | C21: =+GETPIVOTDATA("Balance",'Balance Sheet'!$B$4,"Subclass","Cash","Class","Asset") -> 2370
B22: Cash LY | C22: 1000
B23: Change in Cash | C23: =+C21-C22 -> 1370
B25: Check | C25: =+C19-C23 -> 0
