Workbook

Sheet JE
A3: # | B3: Description | C3: Debit | D3: Credit
A4: 1 | B4: accrued expenses | C4: 400
B5: interest | D5: 400
A8: 2 | B8: invoice to be received | C8: 1600
B9: VAT | C9: =22%*C8 -> 352
B10: Trade PaYABLES | D10: 1952
A13: 3 | B13: Cash | C13: 24400
B14: ACCOUNTS RECEIVABLES | D14: 24400
A18: 4 | B18: account payables | C18: 9164
B19: payables to social authority | C19: 200
B20: cash | D20: 9364
A23: 5 | B23: warehouse | C23: 100000
B24: VAT | C24: =C23*22% -> 22000
B25: Payables | D25: 122000
A28: 5 | B28: Trade payables | C28: 122000
B29: Notes payable | D29: 122000
A33: 6 | B33: Goods | C33: 40000
B34: VAT | C34: 8800
B35: Trade Payable | D35: 4880
A38: 7 | B38: Profit and Loss | C38: 6700
B39: Retaining earnings | D39: 6700
A42: 7 | B42: Receivable | C42: 100000
B43: Capital | D43: 100000
A45: 8 | B45: Receivable | D45: 70000
B46: Cash | C46: 70000
A48: 9 | B48: Capital | C48: 45000
B49: Receivable | D49: 30000
B50: Payable | D50: 15000
A52: 10 | B52: Revenues | D52: 120000
B53: VAT | D53: 26400
B54: Receivables | C54: 146400
A56: 10 | B56: Revenues | C56: 4100
B57: Provision Fund | D57: 4100
A60: 11 | B60: Inventory | C60: 8000
B61: Expenses | D61: 8000
A64: 11 | B64: Loan | C64: 40000
B65: Expenses | C65: 2400
B66: Cash | D66: 42400
A67: 12
A70: 13

Sheet Ledgers
B3: CASH | E3: CAPITAL (EQUITY) | H3: ACCOUNTS PAYABLES | K3: LOAN | N3: Payable to the Authority | Q3: Warehouse | T3: Profit in prior Period | W3: Interest Expenses
B4: 81712 | F4: 50000 | I4: 7212 | L4: 40000 | O4: 200 | Q4: 100000 | T4: 6700 | U4: 6700
B5: 24400 | F5: 100000 | I5: 1952 | K5: 40000 | N5: 200 | X5: 400
C6: 9364 | E6: 45000 | H6: 9164 | W6: 2400
B7: 70000 | H7: 122000 | I7: 122000
C8: 42400 | I8: 48800
B10: =+SUM(B4:B9) -> 176112 | C10: =+SUM(C4:C9) -> 51764 | E10: =+SUM(E4:E9) -> 45000 | F10: =+SUM(F4:F9) -> 150000 | H10: =+SUM(H4:H9) -> 131164 | I10: =+SUM(I4:I9) -> 179964 | K10: =+SUM(K4:K9) -> 40000 | L10: =+SUM(L4:L9) -> 40000 | N10: =+SUM(N4:N9) -> 200 | O10: =+SUM(O4:O9) -> 200 | Q10: =+SUM(Q4:Q9) -> 100000 | R10: =+SUM(R4:R9) -> 0 | T10: =+SUM(T4:T9) -> 6700 | U10: =+SUM(U4:U9) -> 6700 | W10: =+SUM(W4:W9) -> 2400 | X10: =+SUM(X4:X9) -> 400
C11: =+B10-C10 -> 124348 | F11: =+E10-F10 -> -105000 | I11: =+H10-I10 -> -48800 | L11: =+K10-L10 -> 0 | O11: =+N10-O10 -> 0 | R11: =+Q10-R10 -> 100000 | U11: =+T10-U10 -> 0 | X11: =+W10-X10 -> 2000
B13: PURCHASE OF GOODS | E13: VAT | H13: SALE OF GOODS | K13: ACCOUNTS RECEIV. | N13: Notes Payables | Q13: INVOICES TO BE RECEIVED | T13: Accrued Expenses | W13: Retained Earnings
B14: 40000 | E14: 352 | F14: 24000 | H14: 9000 | I14: 120000 | K14: 24400 | O14: 122000 | R14: 1600 | U14: 400 | X14: =+U4 -> 6700
C15: 8000 | E15: 22000 | F15: 13200 | I15: 60000 | L15: 24400 | Q15: 1600 | T15: 400
E16: 8800 | K16: 144000
K17: 73200
B20: =+SUM(B14:B19) -> 40000 | C20: =+SUM(C14:C19) -> 8000 | E20: =+SUM(E14:E19) -> 31152 | F20: =+SUM(F14:F19) -> 37200 | H20: =+SUM(H14:H19) -> 9000 | I20: =+SUM(I14:I19) -> 180000 | K20: =+SUM(K14:K19) -> 241600 | L20: =+SUM(L14:L19) -> 24400 | N20: =+SUM(N14:N19) -> 0 | O20: =+SUM(O14:O19) -> 122000 | Q20: =+SUM(Q14:Q19) -> 1600 | R20: =+SUM(R14:R19) -> 1600 | T20: =+SUM(T14:T19) -> 400 | U20: =+SUM(U14:U19) -> 400 | W20: =+SUM(W14:W19) -> 0 | X20: =+SUM(X14:X19) -> 6700
C21: =+B20-C20 -> 32000 | F21: =+E20-F20 -> -6048 | I21: =+H20-I20 -> -171000 | L21: =+K20-L20 -> 217200 | O21: =+N20-O20 -> -122000 | R21: =+Q20-R20 -> 0 | U21: =+T20-U20 -> 0 | X21: =+W20-X20 -> -6700
B24: Receivable to Shareholders | E24: Payable to Shareholders | H24: Cost for the website | K24: Provision for maintenance | N24: Provision fund | Q24: Deferred income | T24: Inventory
B25: 100000 | F25: 15000 | H25: 100 | O25: 4100 | R25: 9000 | T25: 8000
C26: 70000 | K26: 4000
C27: 30000
B31: =+SUM(B25:B30) -> 100000 | C31: =+SUM(C25:C30) -> 100000 | E31: =+SUM(E25:E30) -> 0 | F31: =+SUM(F25:F30) -> 15000 | H31: =+SUM(H25:H30) -> 100 | I31: =+SUM(I25:I30) -> 0 | K31: =+SUM(K26:K30) -> 4000 | L31: =+SUM(L25:L30) -> 0 | N31: =+SUM(N25:N30) -> 0 | O31: =+SUM(O25:O30) -> 4100 | Q31: =+SUM(Q25:Q30) -> 0 | R31: =+SUM(R25:R30) -> 9000 | T31: =+SUM(T25:T30) -> 8000 | U31: =+SUM(U25:U30) -> 0
C32: =+B31-C31 -> 0 | F32: =+E31-F31 -> -15000 | I32: =+H31-I31 -> 100 | L32: =+K31-L31 -> 4000 | O32: =+N31-O31 -> -4100 | R32: =+Q31-R31 -> -9000 | U32: =+T31-U31 -> 8000

Sheet JE (Soluzioni)
A3: # | B3: Description | C3: Debit | D3: Credit
A4: 1 | B4: accrued expenses | C4: 400
B5: interest | D5: 400
A8: 2 | B8: invoice to be received | C8: 1600
B9: VAT | C9: =22%*C8 -> 352
B10: Trade PaYABLES | D10: 1952
A13: 3 | B13: Cash | C13: 24400
B14: ACCOUNTS RECEIVABLES | D14: 24400
A18: 4 | B18: account payables | C18: 9164
B19: payables to social authority | C19: 200
B20: cash | D20: 9364
A23: 5 | B23: warehouse | C23: 100000
B24: VAT | C24: =C23*22% -> 22000
B25: Payables | D25: 122000
A28: 5 | B28: Trade payables | C28: 122000
B29: Notes payable | D29: 122000
A33: 6 | B33: Purchase of Goods | C33: 40000
B34: VAT Receivables | C34: 8800
B35: Trade Payables | D35: =+C33+C34 -> 48800
A38: 7 | B38: Profit in prior period | C38: 6700
B39: Retained Earnings (Reserve) | D39: =+C38 -> 6700
A42: 7 | B42: Receivable to shareholders | C42: 100000
B43: Capital | D43: 100000
A45: 8 | B45: Cash | C45: 70000
B46: Receivable to shareholders | D46: =+C45 -> 70000
A48: 9 | B48: Capital | C48: 45000
B49: Receivable to shareholders | D49: 30000
B50: Payable to shareholder Y | D50: 15000
A52: 10 | B52: Receivable | C52: 144000
B53: VAT Payables | D53: 24000
B54: Revenue | D54: 120000
A56: 10 | B56: Maintenance provision | C56: 4000
B57: Website cost provision | C57: 100
B58: Provision fund | D58: =+C56+C57 -> 4100
A60: 11 | B60: Trade receivables | C60: 73200
B61: VAT on sales | D61: 13200
B62: Revenue | D62: 60000
A64: 11 | B64: Revenue from services | C64: 9000
B65: Deferred income | D65: =+C64 -> 9000
A67: 12 | B67: Inventory | C67: 8000
...

Sheet BS
B3: Asset | C3: Amount | D3: Equity | E3: Amount
B4: Warehouse | C4: =+Ledgers!R11 -> 100000 | D4: Capital | E4: =-Ledgers!F11 -> 105000
D5: Retained Earnings | E5: =-Ledgers!X21 -> 6700
B6: Accounts Receivables | C6: =+Ledgers!L21 -> 217200 | D6: =+PL!B21 -> Profit and loss for the period | E6: =PL!C21 -> 132900
B7: Cash | C7: =+Ledgers!C11 -> 124348
B8: Inventory | C8: =+Ledgers!U32 -> 8000 | D8: Total Equity | E8: =+SUM(E4:E7) -> 244600
D10: Liabilities
D11: Payable to shareholders | E11: =-Ledgers!F32 -> 15000
D12: ACCOUNTS PAYABLES | E12: =-Ledgers!I11-Ledgers!O21 -> 170800
D13: Loan | E13: =-Ledgers!L11 -> 0
D14: VAT Payables | E14: =-Ledgers!F21 -> 6048
D16: Provisions | E16: =-+Ledgers!O32 -> 4100
D19: Deferred income | E19: =-Ledgers!R32 -> 9000
B22: Total Assets | C22: =+SUM(C4:C21) -> 449548 | D22: Total Liabilities & Equity | E22: =+SUM(E8:E21) -> 449548 | F22: =+C22-E22 -> 0

Sheet PL
B3: Revenue | C3: =+SUM(C4:C10) -> 171000
B4: Sales of goods | C4: =-Ledgers!I21 -> 171000
B11: Expenses | C11: =+SUM(C12:C20) -> 38100
B12: Purchase of goods | C12: =+Ledgers!C21 -> 32000
B13: Wages
B14: Social Charges
B15: Energy expenses
B17: Provision | C17: =+Ledgers!L32+Ledgers!I32 -> 4100
B18: Interests | C18: =+Ledgers!X11 -> 2000
B21: Profit and loss for the period | C21: =+C3-C11 -> 132900
