Workbook

Sheet Riclassificazioni
A1: Legenda | C1: Celle Marroni. Celle dedicate ai commenti, da lasciare in bianco in questo foglio. Per inserire i commenti, che dovranno altresì essere inseriti nel modulo online, utilizzare la funzione inserisci nota nella relativa cella. Per un esempio vedi la nota di commento della cella F14 (per renderla visibile passa il cursore sulla cella in questione)
C2: Celle gialle. Contengono formule, da non modificare
C3: Celle bianche. Devono essere compilate
B4: +/- | C4: Le celle con +/- indicano che il segno dell'importo può essere positivo o negativo. In tutti gli altri casi non inserire il segno
A5: ATTENZIONE!!! COMPILARE IL PRESENTE MODULO TENENDO CONTO DELLE ISTRUZIONI CONTENUTE NEL MODULO ONLINE
A7: COD. | B7: VARIABILE | C7: VOCI come da Work Project online (MODULO I) di Analisi Finanziaria, in cui sono indicate le regole di compilazione. Compilare il presente foglio Excel consultando il PDF del modulo online | D7: VOCI (in English) | E7: Segno del numero | F7: Anno t | G7: Anno t+1 | H7: Anno t+2 | I7: Anno t+3 | J7: Anno t+4
A8: 100 | B8: SERIAL | C8: Matricola | D8: Serial
A9: 110 | B9: SURNAME | C9: Cognome | D9: Surname
A10: 120 | B10: NAME | C10: Nome | D10: Name
A11: 130 | B11: EMAIL | C11: Email | D11: Email
A12: 140 | B12: FIRM | C12: Denominazione dell'Emittente quotato | D12: Name of the listed company
A13: 150 | C13: Il modulo che ci si appresta a compilare:
A14: 160 | C14: Indicare la Matricola, Cognome e Nome dell'eventuale altro partecipante:
A15: 170 | C15: Note di commento
A16: 180 | B16: YEAR | C16: Anno di riferimento del presente Modulo. Esercizio chiuso al 31/12 dell'anno | D16: Year of the Module
A17: 190 | B17: N_SHARES | C17: Numero di azioni in circolazione al 31/12, senza distinzione relativamente alla tipologia (es. azioni ordinarie e di risparmio) | D17: Numbers of shares
A18: 200 | B18: SHARE_PRICE | C18: Prezzo di borsa delle azioni ordinarie al 31/12. Valore da esprimere in unità di euro con due numeri decimali dopo la virgola | D18: Share Market Price
A19: 210 | B19: MKT_CAP | C19: Capitalizzazione di borsa in unità di euro | D19: Market Capitalization | F19: =F18*F17 -> 0 | G19: =G18*G17 -> 0 | H19: =H18*H17 -> 0 | I19: =I18*I17 -> 0 | J19: =J18*J17 -> 0
A20: 220 | B20: DIV_ORD_SH_DEL | C20: Dividendo per azione ordinaria deliberato dagli amministratori sull'utile conseguito nell'anno di analisi (in unità di €) | D20: Dividend per ordinary share
A21: 230 | B21: DIV_ORD_SH_DIS | C21: Dividendo per azione ordinaria distribuito nell'anno di analisi, sull'utile dell'esercizio precendente (in unità di €)
A22: 240 | B22: TOT_DIV | C22: Dividendi complessivi (distribuiti) (in unità di €) | D22: Total dividends | F22: =F21*F17 -> 0 | G22: =G21*G17 -> 0 | H22: =H21*H17 -> 0 | I22: =I21*I17 -> 0 | J22: =J21*J17 -> 0
A23: 250 | B23: MKT_SEG | C23: Segmento di mercato in cui è quotato l'Emittente | D23: Segment
A24: 260 | B24: INDUSTRY | C24: Industry dell'Emittente | D24: Industry
A25: 270 | B25: SECTOR | C25: Sector dell'Emittente | D25: Sector
A26: 280 | B26: DIR&COORD | C26: L'emittente è soggetto ad attività di direzione e coordinamento? | D26: The firm is directed and coordinated
A27: 290 | C27: Indicare, in estrema sintesi, cosa viene indicato relativamente all'attività di direzione e coordinamento
A28: 300 | B28: N_EMPL | C28: Numero di dipendenti | D28: Number of employee
A29: 310 | B29: N_SUBS | C29: Numero di società controllate consolidate con il metodo integrale | D29: Number of subsidiaries
A30: 320 | B30: N_SUBS_ITA | C30: Numero di società ITALIANE controllate e consolidate con il metodo integrale | D30: Number of Italian subsidiaries
A31: 330 | B31: N_SUBS_EUR | C31: Numero di società EUROPEE (escluse le Italiane) controllate e consolidate con il metodo integrale | D31: Number of European subsidiaries
A32: 340 | B32: N_SUBS_EXEUR | C32: Numero di società EXTRA-EUROPEE controllate e consolidate con il metodo integrale | D32: Number of Non European subsidiaries
A33: 350 | C33: Descrivere in sintesi in cosa consiste il business (o i business) del gruppo (analisi di settore)
A34: 360 | B34: PDF_AR | C34: La società quotata presenta un unico PDF in cui è contenuto l'annual report consolidato del gruppo e quello separato della holding? | D34: One PDF for both consolidated and separate financial statements
A35: 370 | B35: PG_PDF_AR | C35: Da quante pagine è composto il PDF? | D35: Number of pages of the PDF
A36: 380 | B36: PG_PDF_CONS | C36: Quante pagine sono dedicate al bilancio consolidato? | D36: Number of pages for the consolidated
A37: 390 | B37: PG_PDF_SEP | C37: Quante pagine sono dedicate al bilancio separato della holding? | D37: Number of pages for the separate
A38: 400 | B38: ASS_HUFL | C38: Investimenti Immobiliari (in migliaia di €) | D38: Assets held under finance leases
A39: 410 | B39: ASS_HUFL_EV | C39: Gli investimenti immobiliari sono valutati:
A40: 420 | B40: PR_PL_EQ | C40: Immobili Impianti e Macchinari (in migliaia di €) | D40: Property, plant and equipment owned
A41: 430 | B41: PR_PL_EQ_EV | C41: Gli Immobili Impianti e Macchinari sono valutati:
...

Sheet Indicatori
A1: Il presente foglio contiene solo formule, quindi non deve essere modificato, ma può essere solo stampato
A2: Società: | B2: =Riclassificazioni!F12 -> 0 | K2: Società: | L2: =Riclassificazioni!F12 -> 0
B3: INDICE (in English) | C3: Variabile | D3: Calcolo | E3: Anno | F3: Anno | G3: Anno | H3: Anno | I3: Anno | K3: Codice nominatore dell'indice | L3: Variabile del nominatore | M3: Valore assoluto del nominatore per il | N3: Valore assoluto del nominatore per il | O3: Valore assoluto del nominatore per il | P3: Valore assoluto del nominatore per il | Q3: Valore assoluto del nominatore per il | R3: Codice denominatore dell'indice | S3: Variabile del denominatore | T3: Valore assoluto del de nominatore per il | U3: Valore assoluto del de nominatore per il | V3: Valore assoluto del de nominatore per il | W3: Valore assoluto del de nominatore per il | X3: Valore assoluto del de nominatore per il
E4: =Riclassificazioni!$F16 -> 0 | F4: =Riclassificazioni!$G16 -> 0 | G4: =Riclassificazioni!$H16 -> 0 | H4: =Riclassificazioni!$I16 -> 0 | I4: =Riclassificazioni!$J16 -> 0 | M4: =Riclassificazioni!$F16 -> 0 | N4: =Riclassificazioni!$G16 -> 0 | O4: =Riclassificazioni!$H16 -> 0 | P4: =Riclassificazioni!$I16 -> 0 | Q4: =Riclassificazioni!$J16 -> 0 | T4: =Riclassificazioni!$F16 -> 0 | U4: =Riclassificazioni!$G16 -> 0 | V4: =Riclassificazioni!$H16 -> 0 | W4: =Riclassificazioni!$I16 -> 0 | X4: =Riclassificazioni!$J16 -> 0
A5: Profitability | B5: Return on Equity (ROE) | C5: ROE | D5: NET_INC/EQ_SHARE | E5: =M5/T5 -> #DIV/0! | F5: =N5/U5 -> #DIV/0! | G5: =O5/V5 -> #DIV/0! | H5: =P5/W5 -> #DIV/0! | I5: =Q5/X5 -> #DIV/0! | K5: 1270 | L5: =VLOOKUP($K5,Riclassificazioni!$A:$J,2) -> NET_INC | M5: =VLOOKUP($K5,Riclassificazioni!$A:$J,6) -> 0 | N5: =VLOOKUP($K5,Riclassificazioni!$A:$J,7) -> 0 | O5: =VLOOKUP($K5,Riclassificazioni!$A:$J,8) -> 0 | P5: =VLOOKUP($K5,Riclassificazioni!$A:$J,9) -> 0 | Q5: =VLOOKUP($K5,Riclassificazioni!$A:$J,10) -> 0 | R5: 680 | S5: =VLOOKUP($R5,Riclassificazioni!$A:$J,2) -> EQ_SHARE | T5: =VLOOKUP($R5,Riclassificazioni!$A:$J,6) -> 0 | U5: =VLOOKUP($R5,Riclassificazioni!$A:$J,7) -> 0 | V5: =VLOOKUP($R5,Riclassificazioni!$A:$J,8) -> 0 | W5: =VLOOKUP($R5,Riclassificazioni!$A:$J,9) -> 0 | X5: =VLOOKUP($R5,Riclassificazioni!$A:$J,10) -> 0
B6: Return on Equity of the parent | C6: ROE_H | D6: NET_INC_H/EQ_SHARE_H | E6: =M6/T6 -> #DIV/0! | F6: =N6/U6 -> #DIV/0! | G6: =O6/V6 -> #DIV/0! | H6: =P6/W6 -> #DIV/0! | I6: =Q6/X6 -> #DIV/0! | K6: 1280 | L6: =VLOOKUP($K6,Riclassificazioni!$A:$J,2) -> NET_INC_H | M6: =VLOOKUP($K6,Riclassificazioni!$A:$J,6) -> 0 | N6: =VLOOKUP($K6,Riclassificazioni!$A:$J,7) -> 0 | O6: =VLOOKUP($K6,Riclassificazioni!$A:$J,8) -> 0 | P6: =VLOOKUP($K6,Riclassificazioni!$A:$J,9) -> 0 | Q6: =VLOOKUP($K6,Riclassificazioni!$A:$J,10) -> 0 | R6: 690 | S6: =VLOOKUP($R6,Riclassificazioni!$A:$J,2) -> EQ_SHARE_H | T6: =VLOOKUP($R6,Riclassificazioni!$A:$J,6) -> 0 | U6: =VLOOKUP($R6,Riclassificazioni!$A:$J,7) -> 0 | V6: =VLOOKUP($R6,Riclassificazioni!$A:$J,8) -> 0 | W6: =VLOOKUP($R6,Riclassificazioni!$A:$J,9) -> 0 | X6: =VLOOKUP($R6,Riclassificazioni!$A:$J,10) -> 0
B7: Return on Equity of the non-controlling interests | C7: ROE_OS | D7: NET_INC_NCI/EQ_SHARE_NCI | E7: =M7/T7 -> #DIV/0! | F7: =N7/U7 -> #DIV/0! | G7: =O7/V7 -> #DIV/0! | H7: =P7/W7 -> #DIV/0! | I7: =Q7/X7 -> #DIV/0! | K7: 1290 | L7: =VLOOKUP($K7,Riclassificazioni!$A:$J,2) -> NET_INC_NCI | M7: =VLOOKUP($K7,Riclassificazioni!$A:$J,6) -> 0 | N7: =VLOOKUP($K7,Riclassificazioni!$A:$J,7) -> 0 | O7: =VLOOKUP($K7,Riclassificazioni!$A:$J,8) -> 0 | P7: =VLOOKUP($K7,Riclassificazioni!$A:$J,9) -> 0 | Q7: =VLOOKUP($K7,Riclassificazioni!$A:$J,10) -> 0 | R7: 700 | S7: =VLOOKUP($R7,Riclassificazioni!$A:$J,2) -> EQ_SHARE_NCI | T7: =VLOOKUP($R7,Riclassificazioni!$A:$J,6) -> 0 | U7: =VLOOKUP($R7,Riclassificazioni!$A:$J,7) -> 0 | V7: =VLOOKUP($R7,Riclassificazioni!$A:$J,8) -> 0 | W7: =VLOOKUP($R7,Riclassificazioni!$A:$J,9) -> 0 | X7: =VLOOKUP($R7,Riclassificazioni!$A:$J,10) -> 0
B8: Return on Investment (ROI) | C8: ROI | D8: OP_INC/OP_ASSET | E8: =M8/T8 -> #DIV/0! | F8: =N8/U8 -> #DIV/0! | G8: =O8/V8 -> #DIV/0! | H8: =P8/W8 -> #DIV/0! | I8: =Q8/X8 -> #DIV/0! | K8: 1160 | L8: =VLOOKUP($K8,Riclassificazioni!$A:$J,2) -> OP_INC | M8: =VLOOKUP($K8,Riclassificazioni!$A:$J,6) -> 0 | N8: =VLOOKUP($K8,Riclassificazioni!$A:$J,7) -> 0 | O8: =VLOOKUP($K8,Riclassificazioni!$A:$J,8) -> 0 | P8: =VLOOKUP($K8,Riclassificazioni!$A:$J,9) -> 0 | Q8: =VLOOKUP($K8,Riclassificazioni!$A:$J,10) -> 0 | R8: 1440 | S8: =VLOOKUP($R8,Riclassificazioni!$A:$J,2) -> OP_ASSET | T8: =VLOOKUP($R8,Riclassificazioni!$A:$J,6) -> 0 | U8: =VLOOKUP($R8,Riclassificazioni!$A:$J,7) -> 0 | V8: =VLOOKUP($R8,Riclassificazioni!$A:$J,8) -> 0 | W8: =VLOOKUP($R8,Riclassificazioni!$A:$J,9) -> 0 | X8: =VLOOKUP($R8,Riclassificazioni!$A:$J,10) -> 0
B9: Incidence of operating assets | C9: INC_OP_ASSET | D9: OP_ASSET/TOT_ASSET | E9: =M9/T9 -> #DIV/0! | F9: =N9/U9 -> #DIV/0! | G9: =O9/V9 -> #DIV/0! | H9: =P9/W9 -> #DIV/0! | I9: =Q9/X9 -> #DIV/0! | K9: 1440 | L9: =VLOOKUP($K9,Riclassificazioni!$A:$J,2) -> OP_ASSET | M9: =VLOOKUP($K9,Riclassificazioni!$A:$J,6) -> 0 | N9: =VLOOKUP($K9,Riclassificazioni!$A:$J,7) -> 0 | O9: =VLOOKUP($K9,Riclassificazioni!$A:$J,8) -> 0 | P9: =VLOOKUP($K9,Riclassificazioni!$A:$J,9) -> 0 | Q9: =VLOOKUP($K9,Riclassificazioni!$A:$J,10) -> 0 | R9: 610 | S9: =VLOOKUP($R9,Riclassificazioni!$A:$J,2) -> TOT_ASSET | T9: =VLOOKUP($R9,Riclassificazioni!$A:$J,6) -> 0 | U9: =VLOOKUP($R9,Riclassificazioni!$A:$J,7) -> 0 | V9: =VLOOKUP($R9,Riclassificazioni!$A:$J,8) -> 0 | W9: =VLOOKUP($R9,Riclassificazioni!$A:$J,9) -> 0 | X9: =VLOOKUP($R9,Riclassificazioni!$A:$J,10) -> 0
B10: Incidence of non operating activities | C10: INC_NONOPACT | D10: NET_INC/OP_INC | E10: =M10/T10 -> #DIV/0! | F10: =N10/U10 -> #DIV/0! | G10: =O10/V10 -> #DIV/0! | H10: =P10/W10 -> #DIV/0! | I10: =Q10/X10 -> #DIV/0! | K10: 1270 | L10: =VLOOKUP($K10,Riclassificazioni!$A:$J,2) -> NET_INC | M10: =VLOOKUP($K10,Riclassificazioni!$A:$J,6) -> 0 | N10: =VLOOKUP($K10,Riclassificazioni!$A:$J,7) -> 0 | O10: =VLOOKUP($K10,Riclassificazioni!$A:$J,8) -> 0 | P10: =VLOOKUP($K10,Riclassificazioni!$A:$J,9) -> 0 | Q10: =VLOOKUP($K10,Riclassificazioni!$A:$J,10) -> 0 | R10: 1160 | S10: =VLOOKUP($R10,Riclassificazioni!$A:$J,2) -> OP_INC | T10: =VLOOKUP($R10,Riclassificazioni!$A:$J,6) -> 0 | U10: =VLOOKUP($R10,Riclassificazioni!$A:$J,7) -> 0 | V10: =VLOOKUP($R10,Riclassificazioni!$A:$J,8) -> 0 | W10: =VLOOKUP($R10,Riclassificazioni!$A:$J,9) -> 0 | X10: =VLOOKUP($R10,Riclassificazioni!$A:$J,10) -> 0
B11: leverage | C11: LEV | D11: TOT_ASSET/EQ_SHARE | E11: =M11/T11 -> #DIV/0! | F11: =N11/U11 -> #DIV/0! | G11: =O11/V11 -> #DIV/0! | H11: =P11/W11 -> #DIV/0! | I11: =Q11/X11 -> #DIV/0! | K11: 610 | L11: =VLOOKUP($K11,Riclassificazioni!$A:$J,2) -> TOT_ASSET | M11: =VLOOKUP($K11,Riclassificazioni!$A:$J,6) -> 0 | N11: =VLOOKUP($K11,Riclassificazioni!$A:$J,7) -> 0 | O11: =VLOOKUP($K11,Riclassificazioni!$A:$J,8) -> 0 | P11: =VLOOKUP($K11,Riclassificazioni!$A:$J,9) -> 0 | Q11: =VLOOKUP($K11,Riclassificazioni!$A:$J,10) -> 0 | R11: 680 | S11: =VLOOKUP($R11,Riclassificazioni!$A:$J,2) -> EQ_SHARE | T11: =VLOOKUP($R11,Riclassificazioni!$A:$J,6) -> 0 | U11: =VLOOKUP($R11,Riclassificazioni!$A:$J,7) -> 0 | V11: =VLOOKUP($R11,Riclassificazioni!$A:$J,8) -> 0 | W11: =VLOOKUP($R11,Riclassificazioni!$A:$J,9) -> 0 | X11: =VLOOKUP($R11,Riclassificazioni!$A:$J,10) -> 0
B12: Operating Asset Turnover | C12: OP_ASSET_TURN | D12: TOT_OP_REV/OP_ASSET | E12: =M12/T12 -> #DIV/0! | F12: =N12/U12 -> #DIV/0! | G12: =O12/V12 -> #DIV/0! | H12: =P12/W12 -> #DIV/0! | I12: =Q12/X12 -> #DIV/0! | K12: 1030 | L12: =VLOOKUP($K12,Riclassificazioni!$A:$J,2) -> TOT_OP_REV | M12: =VLOOKUP($K12,Riclassificazioni!$A:$J,6) -> 0 | N12: =VLOOKUP($K12,Riclassificazioni!$A:$J,7) -> 0 | O12: =VLOOKUP($K12,Riclassificazioni!$A:$J,8) -> 0 | P12: =VLOOKUP($K12,Riclassificazioni!$A:$J,9) -> 0 | Q12: =VLOOKUP($K12,Riclassificazioni!$A:$J,10) -> 0 | R12: 1440 | S12: =VLOOKUP($R12,Riclassificazioni!$A:$J,2) -> OP_ASSET | T12: =VLOOKUP($R12,Riclassificazioni!$A:$J,6) -> 0 | U12: =VLOOKUP($R12,Riclassificazioni!$A:$J,7) -> 0 | V12: =VLOOKUP($R12,Riclassificazioni!$A:$J,8) -> 0 | W12: =VLOOKUP($R12,Riclassificazioni!$A:$J,9) -> 0 | X12: =VLOOKUP($R12,Riclassificazioni!$A:$J,10) -> 0
B13: ASSET TURNOVER | C13: ASSET_TURN | D13: TOT_REVENUE/TOT_ASSET | E13: =M13/T13 -> #DIV/0! | F13: =N13/U13 -> #DIV/0! | G13: =O13/V13 -> #DIV/0! | H13: =P13/W13 -> #DIV/0! | I13: =Q13/X13 -> #DIV/0! | K13: 1570 | L13: =VLOOKUP($K13,Riclassificazioni!$A:$J,2) -> TOT_REVENUE | M13: =VLOOKUP($K13,Riclassificazioni!$A:$J,6) -> 0 | N13: =VLOOKUP($K13,Riclassificazioni!$A:$J,7) -> 0 | O13: =VLOOKUP($K13,Riclassificazioni!$A:$J,8) -> 0 | P13: =VLOOKUP($K13,Riclassificazioni!$A:$J,9) -> 0 | Q13: =VLOOKUP($K13,Riclassificazioni!$A:$J,10) -> 0 | R13: 610 | S13: =VLOOKUP($R13,Riclassificazioni!$A:$J,2) -> TOT_ASSET | T13: =VLOOKUP($R13,Riclassificazioni!$A:$J,6) -> 0 | U13: =VLOOKUP($R13,Riclassificazioni!$A:$J,7) -> 0 | V13: =VLOOKUP($R13,Riclassificazioni!$A:$J,8) -> 0 | W13: =VLOOKUP($R13,Riclassificazioni!$A:$J,9) -> 0 | X13: =VLOOKUP($R13,Riclassificazioni!$A:$J,10) -> 0
B14: ROS | C14: ROS | D14: OP_INC/TOT_OP_REV | E14: =M14/T14 -> #DIV/0! | F14: =N14/U14 -> #DIV/0! | G14: =O14/V14 -> #DIV/0! | H14: =P14/W14 -> #DIV/0! | I14: =Q14/X14 -> #DIV/0! | K14: 1160 | L14: =VLOOKUP($K14,Riclassificazioni!$A:$J,2) -> OP_INC | M14: =VLOOKUP($K14,Riclassificazioni!$A:$J,6) -> 0 | N14: =VLOOKUP($K14,Riclassificazioni!$A:$J,7) -> 0 | O14: =VLOOKUP($K14,Riclassificazioni!$A:$J,8) -> 0 | P14: =VLOOKUP($K14,Riclassificazioni!$A:$J,9) -> 0 | Q14: =VLOOKUP($K14,Riclassificazioni!$A:$J,10) -> 0 | R14: 1030 | S14: =VLOOKUP($R14,Riclassificazioni!$A:$J,2) -> TOT_OP_REV | T14: =VLOOKUP($R14,Riclassificazioni!$A:$J,6) -> 0 | U14: =VLOOKUP($R14,Riclassificazioni!$A:$J,7) -> 0 | V14: =VLOOKUP($R14,Riclassificazioni!$A:$J,8) -> 0 | W14: =VLOOKUP($R14,Riclassificazioni!$A:$J,9) -> 0 | X14: =VLOOKUP($R14,Riclassificazioni!$A:$J,10) -> 0
B15: ROA | C15: ROA | D15: EBIT/TOT_ASSET | E15: =M15/T15 -> #DIV/0! | F15: =N15/U15 -> #DIV/0! | G15: =O15/V15 -> #DIV/0! | H15: =P15/W15 -> #DIV/0! | I15: =Q15/X15 -> #DIV/0! | K15: 1590 | L15: =VLOOKUP($K15,Riclassificazioni!$A:$J,2) -> EBIT | M15: =VLOOKUP($K15,Riclassificazioni!$A:$J,6) -> 0 | N15: =VLOOKUP($K15,Riclassificazioni!$A:$J,7) -> 0 | O15: =VLOOKUP($K15,Riclassificazioni!$A:$J,8) -> 0 | P15: =VLOOKUP($K15,Riclassificazioni!$A:$J,9) -> 0 | Q15: =VLOOKUP($K15,Riclassificazioni!$A:$J,10) -> 0 | R15: 610 | S15: =VLOOKUP($R15,Riclassificazioni!$A:$J,2) -> TOT_ASSET | T15: =VLOOKUP($R15,Riclassificazioni!$A:$J,6) -> 0 | U15: =VLOOKUP($R15,Riclassificazioni!$A:$J,7) -> 0 | V15: =VLOOKUP($R15,Riclassificazioni!$A:$J,8) -> 0 | W15: =VLOOKUP($R15,Riclassificazioni!$A:$J,9) -> 0 | X15: =VLOOKUP($R15,Riclassificazioni!$A:$J,10) -> 0
B16: RONA | C16: RONA | D16: EBIT/ASSET_NETWORKLIAB | E16: =M16/T16 -> #DIV/0! | F16: =N16/U16 -> #DIV/0! | G16: =O16/V16 -> #DIV/0! | H16: =P16/W16 -> #DIV/0! | I16: =Q16/X16 -> #DIV/0! | K16: 1590 | L16: =VLOOKUP($K16,Riclassificazioni!$A:$J,2) -> EBIT | M16: =VLOOKUP($K16,Riclassificazioni!$A:$J,6) -> 0 | N16: =VLOOKUP($K16,Riclassificazioni!$A:$J,7) -> 0 | O16: =VLOOKUP($K16,Riclassificazioni!$A:$J,8) -> 0 | P16: =VLOOKUP($K16,Riclassificazioni!$A:$J,9) -> 0 | Q16: =VLOOKUP($K16,Riclassificazioni!$A:$J,10) -> 0 | R16: 1510 | S16: =VLOOKUP($R16,Riclassificazioni!$A:$J,2) -> ASSET_NETWORKLIAB | T16: =VLOOKUP($R16,Riclassificazioni!$A:$J,6) -> 0 | U16: =VLOOKUP($R16,Riclassificazioni!$A:$J,7) -> 0 | V16: =VLOOKUP($R16,Riclassificazioni!$A:$J,8) -> 0 | W16: =VLOOKUP($R16,Riclassificazioni!$A:$J,9) -> 0 | X16: =VLOOKUP($R16,Riclassificazioni!$A:$J,10) -> 0
B17: ROACE | C17: ROACE | D17: NET_INC/AVG_TOT_ASSET | E17: =M17/T17 -> #DIV/0! | F17: =N17/U17 -> #DIV/0! | G17: =O17/V17 -> #DIV/0! | H17: =P17/W17 -> #DIV/0! | I17: =Q17/X17 -> #DIV/0! | K17: 1270 | L17: =VLOOKUP($K17,Riclassificazioni!$A:$J,2) -> NET_INC | M17: =VLOOKUP($K17,Riclassificazioni!$A:$J,6) -> 0 | N17: =VLOOKUP($K17,Riclassificazioni!$A:$J,7) -> 0 | O17: =VLOOKUP($K17,Riclassificazioni!$A:$J,8) -> 0 | P17: =VLOOKUP($K17,Riclassificazioni!$A:$J,9) -> 0 | Q17: =VLOOKUP($K17,Riclassificazioni!$A:$J,10) -> 0 | R17: 930 | S17: =VLOOKUP($R17,Riclassificazioni!$A:$J,2) -> AVG_TOT_ASSET | T17: =VLOOKUP($R17,Riclassificazioni!$A:$J,6) -> 0 | U17: =VLOOKUP($R17,Riclassificazioni!$A:$J,7) -> 0 | V17: =VLOOKUP($R17,Riclassificazioni!$A:$J,8) -> 0 | W17: =VLOOKUP($R17,Riclassificazioni!$A:$J,9) -> 0 | X17: =VLOOKUP($R17,Riclassificazioni!$A:$J,10) -> 0
B18: Coverage | C18: COVER | D18: OP_INC/FIN_EXP | E18: =M18/T18 -> #DIV/0! | F18: =N18/U18 -> #DIV/0! | G18: =O18/V18 -> #DIV/0! | H18: =P18/W18 -> #DIV/0! | I18: =Q18/X18 -> #DIV/0! | K18: 1160 | L18: =VLOOKUP($K18,Riclassificazioni!$A:$J,2) -> OP_INC | M18: =VLOOKUP($K18,Riclassificazioni!$A:$J,6) -> 0 | N18: =VLOOKUP($K18,Riclassificazioni!$A:$J,7) -> 0 | O18: =VLOOKUP($K18,Riclassificazioni!$A:$J,8) -> 0 | P18: =VLOOKUP($K18,Riclassificazioni!$A:$J,9) -> 0 | Q18: =VLOOKUP($K18,Riclassificazioni!$A:$J,10) -> 0 | R18: 1170 | S18: =VLOOKUP($R18,Riclassificazioni!$A:$J,2) -> FIN_EXP | T18: =VLOOKUP($R18,Riclassificazioni!$A:$J,6) -> 0 | U18: =VLOOKUP($R18,Riclassificazioni!$A:$J,7) -> 0 | V18: =VLOOKUP($R18,Riclassificazioni!$A:$J,8) -> 0 | W18: =VLOOKUP($R18,Riclassificazioni!$A:$J,9) -> 0 | X18: =VLOOKUP($R18,Riclassificazioni!$A:$J,10) -> 0
A19: leverage | B19: ROD | C19: ROD | D19: FIN_EXP/FIN_DEB | E19: =M19/T19 -> #DIV/0! | F19: =N19/U19 -> #DIV/0! | G19: =O19/V19 -> #DIV/0! | H19: =P19/W19 -> #DIV/0! | I19: =Q19/X19 -> #DIV/0! | K19: 1170 | L19: =VLOOKUP($K19,Riclassificazioni!$A:$J,2) -> FIN_EXP | M19: =VLOOKUP($K19,Riclassificazioni!$A:$J,6) -> 0 | N19: =VLOOKUP($K19,Riclassificazioni!$A:$J,7) -> 0 | O19: =VLOOKUP($K19,Riclassificazioni!$A:$J,8) -> 0 | P19: =VLOOKUP($K19,Riclassificazioni!$A:$J,9) -> 0 | Q19: =VLOOKUP($K19,Riclassificazioni!$A:$J,10) -> 0 | R19: 1550 | S19: =VLOOKUP($R19,Riclassificazioni!$A:$J,2) -> FIN_DEB | T19: =VLOOKUP($R19,Riclassificazioni!$A:$J,6) -> 0 | U19: =VLOOKUP($R19,Riclassificazioni!$A:$J,7) -> 0 | V19: =VLOOKUP($R19,Riclassificazioni!$A:$J,8) -> 0 | W19: =VLOOKUP($R19,Riclassificazioni!$A:$J,9) -> 0 | X19: =VLOOKUP($R19,Riclassificazioni!$A:$J,10) -> 0
B20: Incidence of h SHAREHOLDERS | C20: INC_EQ_SHARE | D20: EQ_SHARE_H/EQ_SHARE | E20: =M20/T20 -> #DIV/0! | F20: =N20/U20 -> #DIV/0! | G20: =O20/V20 -> #DIV/0! | H20: =P20/W20 -> #DIV/0! | I20: =Q20/X20 -> #DIV/0! | K20: 690 | L20: =VLOOKUP($K20,Riclassificazioni!$A:$J,2) -> EQ_SHARE_H | M20: =VLOOKUP($K20,Riclassificazioni!$A:$J,6) -> 0 | N20: =VLOOKUP($K20,Riclassificazioni!$A:$J,7) -> 0 | O20: =VLOOKUP($K20,Riclassificazioni!$A:$J,8) -> 0 | P20: =VLOOKUP($K20,Riclassificazioni!$A:$J,9) -> 0 | Q20: =VLOOKUP($K20,Riclassificazioni!$A:$J,10) -> 0 | R20: 680 | S20: =VLOOKUP($R20,Riclassificazioni!$A:$J,2) -> EQ_SHARE | T20: =VLOOKUP($R20,Riclassificazioni!$A:$J,6) -> 0 | U20: =VLOOKUP($R20,Riclassificazioni!$A:$J,7) -> 0 | V20: =VLOOKUP($R20,Riclassificazioni!$A:$J,8) -> 0 | W20: =VLOOKUP($R20,Riclassificazioni!$A:$J,9) -> 0 | X20: =VLOOKUP($R20,Riclassificazioni!$A:$J,10) -> 0
B21: Financial autonomy | C21: FIN_AUT | D21: EQ_SHARE/TOT_EQT_LIAB | E21: =M21/T21 -> #DIV/0! | F21: =N21/U21 -> #DIV/0! | G21: =O21/V21 -> #DIV/0! | H21: =P21/W21 -> #DIV/0! | I21: =Q21/X21 -> #DIV/0! | K21: 680 | L21: =VLOOKUP($K21,Riclassificazioni!$A:$J,2) -> EQ_SHARE | M21: =VLOOKUP($K21,Riclassificazioni!$A:$J,6) -> 0 | N21: =VLOOKUP($K21,Riclassificazioni!$A:$J,7) -> 0 | O21: =VLOOKUP($K21,Riclassificazioni!$A:$J,8) -> 0 | P21: =VLOOKUP($K21,Riclassificazioni!$A:$J,9) -> 0 | Q21: =VLOOKUP($K21,Riclassificazioni!$A:$J,10) -> 0 | R21: 900 | S21: =VLOOKUP($R21,Riclassificazioni!$A:$J,2) -> TOT_EQT_LIAB | T21: =VLOOKUP($R21,Riclassificazioni!$A:$J,6) -> 0 | U21: =VLOOKUP($R21,Riclassificazioni!$A:$J,7) -> 0 | V21: =VLOOKUP($R21,Riclassificazioni!$A:$J,8) -> 0 | W21: =VLOOKUP($R21,Riclassificazioni!$A:$J,9) -> 0 | X21: =VLOOKUP($R21,Riclassificazioni!$A:$J,10) -> 0
B22: Level of liabilities | C22: LEV_LIAB | D22: T_LIAB/EQ_SHARE | E22: =M22/T22 -> #DIV/0! | F22: =N22/U22 -> #DIV/0! | G22: =O22/V22 -> #DIV/0! | H22: =P22/W22 -> #DIV/0! | I22: =Q22/X22 -> #DIV/0! | K22: 1700 | L22: =VLOOKUP($K22,Riclassificazioni!$A:$J,2) -> TOT_LIAB | M22: =VLOOKUP($K22,Riclassificazioni!$A:$J,6) -> 0 | N22: =VLOOKUP($K22,Riclassificazioni!$A:$J,7) -> 0 | O22: =VLOOKUP($K22,Riclassificazioni!$A:$J,8) -> 0 | P22: =VLOOKUP($K22,Riclassificazioni!$A:$J,9) -> 0 | Q22: =VLOOKUP($K22,Riclassificazioni!$A:$J,10) -> 0 | R22: 680 | S22: =VLOOKUP($R22,Riclassificazioni!$A:$J,2) -> EQ_SHARE | T22: =VLOOKUP($R22,Riclassificazioni!$A:$J,6) -> 0 | U22: =VLOOKUP($R22,Riclassificazioni!$A:$J,7) -> 0 | V22: =VLOOKUP($R22,Riclassificazioni!$A:$J,8) -> 0 | W22: =VLOOKUP($R22,Riclassificazioni!$A:$J,9) -> 0 | X22: =VLOOKUP($R22,Riclassificazioni!$A:$J,10) -> 0
B23: Structure of liabilities | C23: STRU_LIAB | D23: FIN_DEB/T_LIAB | E23: =M23/T23 -> #DIV/0! | F23: =N23/U23 -> #DIV/0! | G23: =O23/V23 -> #DIV/0! | H23: =P23/W23 -> #DIV/0! | I23: =Q23/X23 -> #DIV/0! | K23: 1550 | L23: =VLOOKUP($K23,Riclassificazioni!$A:$J,2) -> FIN_DEB | M23: =VLOOKUP($K23,Riclassificazioni!$A:$J,6) -> 0 | N23: =VLOOKUP($K23,Riclassificazioni!$A:$J,7) -> 0 | O23: =VLOOKUP($K23,Riclassificazioni!$A:$J,8) -> 0 | P23: =VLOOKUP($K23,Riclassificazioni!$A:$J,9) -> 0 | Q23: =VLOOKUP($K23,Riclassificazioni!$A:$J,10) -> 0 | R23: 1700 | S23: =VLOOKUP($R23,Riclassificazioni!$A:$J,2) -> TOT_LIAB | T23: =VLOOKUP($R23,Riclassificazioni!$A:$J,6) -> 0 | U23: =VLOOKUP($R23,Riclassificazioni!$A:$J,7) -> 0 | V23: =VLOOKUP($R23,Riclassificazioni!$A:$J,8) -> 0 | W23: =VLOOKUP($R23,Riclassificazioni!$A:$J,9) -> 0 | X23: =VLOOKUP($R23,Riclassificazioni!$A:$J,10) -> 0
B24: Consolidation of financial debt | C24: CONS_FDEBT | D24: N_CURR_FIN_LIAB/FIN_DEB | E24: =M24/T24 -> #DIV/0! | F24: =N24/U24 -> #DIV/0! | G24: =O24/V24 -> #DIV/0! | H24: =P24/W24 -> #DIV/0! | I24: =Q24/X24 -> #DIV/0! | K24: 720 | L24: =VLOOKUP($K24,Riclassificazioni!$A:$J,2) -> N_CURR_FIN_LIAB | M24: =VLOOKUP($K24,Riclassificazioni!$A:$J,6) -> 0 | N24: =VLOOKUP($K24,Riclassificazioni!$A:$J,7) -> 0 | O24: =VLOOKUP($K24,Riclassificazioni!$A:$J,8) -> 0 | P24: =VLOOKUP($K24,Riclassificazioni!$A:$J,9) -> 0 | Q24: =VLOOKUP($K24,Riclassificazioni!$A:$J,10) -> 0 | R24: 1550 | S24: =VLOOKUP($R24,Riclassificazioni!$A:$J,2) -> FIN_DEB | T24: =VLOOKUP($R24,Riclassificazioni!$A:$J,6) -> 0 | U24: =VLOOKUP($R24,Riclassificazioni!$A:$J,7) -> 0 | V24: =VLOOKUP($R24,Riclassificazioni!$A:$J,8) -> 0 | W24: =VLOOKUP($R24,Riclassificazioni!$A:$J,9) -> 0 | X24: =VLOOKUP($R24,Riclassificazioni!$A:$J,10) -> 0
A25: turnover | B25: Inventories Turnover | C25: INVENT_TURN | D25: TOT_OP_REV/AVG_INVENTORIES | E25: =M25/T25 -> #DIV/0! | F25: =N25/U25 -> #DIV/0! | G25: =O25/V25 -> #DIV/0! | H25: =P25/W25 -> #DIV/0! | I25: =Q25/X25 -> #DIV/0! | K25: 1030 | L25: =VLOOKUP($K25,Riclassificazioni!$A:$J,2) -> TOT_OP_REV | M25: =VLOOKUP($K25,Riclassificazioni!$A:$J,6) -> 0 | N25: =VLOOKUP($K25,Riclassificazioni!$A:$J,7) -> 0 | O25: =VLOOKUP($K25,Riclassificazioni!$A:$J,8) -> 0 | P25: =VLOOKUP($K25,Riclassificazioni!$A:$J,9) -> 0 | Q25: =VLOOKUP($K25,Riclassificazioni!$A:$J,10) -> 0 | R25: 940 | S25: =VLOOKUP($R25,Riclassificazioni!$A:$J,2) -> AVG_INVENTORIES | T25: =VLOOKUP($R25,Riclassificazioni!$A:$J,6) -> 0 | U25: =VLOOKUP($R25,Riclassificazioni!$A:$J,7) -> 0 | V25: =VLOOKUP($R25,Riclassificazioni!$A:$J,8) -> 0 | W25: =VLOOKUP($R25,Riclassificazioni!$A:$J,9) -> 0 | X25: =VLOOKUP($R25,Riclassificazioni!$A:$J,10) -> 0
B26: Trade Recevible Turnover | C26: REC_TURN | D26: TOT_OP_REV/AVG_TRADE_REC | E26: =M26/T26 -> #DIV/0! | F26: =N26/U26 -> #DIV/0! | G26: =O26/V26 -> #DIV/0! | H26: =P26/W26 -> #DIV/0! | I26: =Q26/X26 -> #DIV/0! | K26: 1030 | L26: =VLOOKUP($K26,Riclassificazioni!$A:$J,2) -> TOT_OP_REV | M26: =VLOOKUP($K26,Riclassificazioni!$A:$J,6) -> 0 | N26: =VLOOKUP($K26,Riclassificazioni!$A:$J,7) -> 0 | O26: =VLOOKUP($K26,Riclassificazioni!$A:$J,8) -> 0 | P26: =VLOOKUP($K26,Riclassificazioni!$A:$J,9) -> 0 | Q26: =VLOOKUP($K26,Riclassificazioni!$A:$J,10) -> 0 | R26: 950 | S26: =VLOOKUP($R26,Riclassificazioni!$A:$J,2) -> AVG_TRADE_REC | T26: =VLOOKUP($R26,Riclassificazioni!$A:$J,6) -> 0 | U26: =VLOOKUP($R26,Riclassificazioni!$A:$J,7) -> 0 | V26: =VLOOKUP($R26,Riclassificazioni!$A:$J,8) -> 0 | W26: =VLOOKUP($R26,Riclassificazioni!$A:$J,9) -> 0 | X26: =VLOOKUP($R26,Riclassificazioni!$A:$J,10) -> 0
B27: Trade Account Payble TurNover | C27: PAY_TURN | D27: GOODSERV/AVG_TRADELIAB | E27: =M27/T27 -> #DIV/0! | F27: =N27/U27 -> #DIV/0! | G27: =O27/V27 -> #DIV/0! | H27: =P27/W27 -> #DIV/0! | I27: =Q27/X27 -> #DIV/0! | K27: 1600 | L27: =VLOOKUP($K27,Riclassificazioni!$A:$J,2) -> GOODSERV | M27: =VLOOKUP($K27,Riclassificazioni!$A:$J,6) -> 0 | N27: =VLOOKUP($K27,Riclassificazioni!$A:$J,7) -> 0 | O27: =VLOOKUP($K27,Riclassificazioni!$A:$J,8) -> 0 | P27: =VLOOKUP($K27,Riclassificazioni!$A:$J,9) -> 0 | Q27: =VLOOKUP($K27,Riclassificazioni!$A:$J,10) -> 0 | R27: 960 | S27: =VLOOKUP($R27,Riclassificazioni!$A:$J,2) -> AVG_TRADELIAB | T27: =VLOOKUP($R27,Riclassificazioni!$A:$J,6) -> 0 | U27: =VLOOKUP($R27,Riclassificazioni!$A:$J,7) -> 0 | V27: =VLOOKUP($R27,Riclassificazioni!$A:$J,8) -> 0 | W27: =VLOOKUP($R27,Riclassificazioni!$A:$J,9) -> 0 | X27: =VLOOKUP($R27,Riclassificazioni!$A:$J,10) -> 0
B28: Equipment and technical assets turnover | C28: EQUIP_TURN | D28: TOT_OP_REV/PR_PL_EQ | E28: =M28/T28 -> #DIV/0! | F28: =N28/U28 -> #DIV/0! | G28: =O28/V28 -> #DIV/0! | H28: =P28/W28 -> #DIV/0! | I28: =Q28/X28 -> #DIV/0! | K28: 1030 | L28: =VLOOKUP($K28,Riclassificazioni!$A:$J,2) -> TOT_OP_REV | M28: =VLOOKUP($K28,Riclassificazioni!$A:$J,6) -> 0 | N28: =VLOOKUP($K28,Riclassificazioni!$A:$J,7) -> 0 | O28: =VLOOKUP($K28,Riclassificazioni!$A:$J,8) -> 0 | P28: =VLOOKUP($K28,Riclassificazioni!$A:$J,9) -> 0 | Q28: =VLOOKUP($K28,Riclassificazioni!$A:$J,10) -> 0 | R28: 420 | S28: =VLOOKUP($R28,Riclassificazioni!$A:$J,2) -> PR_PL_EQ | T28: =VLOOKUP($R28,Riclassificazioni!$A:$J,6) -> 0 | U28: =VLOOKUP($R28,Riclassificazioni!$A:$J,7) -> 0 | V28: =VLOOKUP($R28,Riclassificazioni!$A:$J,8) -> 0 | W28: =VLOOKUP($R28,Riclassificazioni!$A:$J,9) -> 0 | X28: =VLOOKUP($R28,Riclassificazioni!$A:$J,10) -> 0
A29: duration | B29: Duration of inventories | C29: DUR_INVENT | D29: 360/INVENT_TURN | E29: =360/E25 -> #DIV/0! | F29: =360/F25 -> #DIV/0! | G29: =360/G25 -> #DIV/0! | H29: =360/H25 -> #DIV/0! | I29: =360/I25 -> #DIV/0!
B30: Duration of trade receveible | C30: DUR_REC | D30: 360/REC_TURN | E30: =360/E26 -> #DIV/0! | F30: =360/F26 -> #DIV/0! | G30: =360/G26 -> #DIV/0! | H30: =360/H26 -> #DIV/0! | I30: =360/I26 -> #DIV/0!
B31: Duration of account payble | C31: DUR_PAY | D31: 360/PAY_TURN | E31: =360/E27 -> #DIV/0! | F31: =360/F27 -> #DIV/0! | G31: =360/G27 -> #DIV/0! | H31: =360/H27 -> #DIV/0! | I31: =360/I27 -> #DIV/0!
B32: Duration of working cicle | C32: DUR_WORK | D32: DUR_INVENT+DUR_REC+DUR_PAY | E32: =E29+E30-E31 -> #DIV/0! | F32: =F29+F30-F31 -> #DIV/0! | G32: =G29+G30-G31 -> #DIV/0! | H32: =H29+H30-H31 -> #DIV/0! | I32: =SUM(I29:I31) -> #DIV/0!
B33: Duretion of operating cycle | C33: DUR_OPCYCLE | D33: (360/OP_ASSET_TURN | E33: =360/E29 -> #DIV/0! | F33: =360/F29 -> #DIV/0! | G33: =360/G29 -> #DIV/0! | H33: =360/H29 -> #DIV/0! | I33: =360/I29 -> #DIV/0!
A34: Indici di efficienza | B34: Staff incidence | C34: INC_STAFF | D34: SALARIES/TOT_OP_REV | E34: =M34/T34 -> #DIV/0! | F34: =N34/U34 -> #DIV/0! | G34: =O34/V34 -> #DIV/0! | H34: =P34/W34 -> #DIV/0! | I34: =Q34/X34 -> #DIV/0! | K34: 1060 | L34: =VLOOKUP($K34,Riclassificazioni!$A:$J,2) -> SALARIES | M34: =VLOOKUP($K34,Riclassificazioni!$A:$J,6) -> 0 | N34: =VLOOKUP($K34,Riclassificazioni!$A:$J,7) -> 0 | O34: =VLOOKUP($K34,Riclassificazioni!$A:$J,8) -> 0 | P34: =VLOOKUP($K34,Riclassificazioni!$A:$J,9) -> 0 | Q34: =VLOOKUP($K34,Riclassificazioni!$A:$J,10) -> 0 | R34: 1030 | S34: =VLOOKUP($R34,Riclassificazioni!$A:$J,2) -> TOT_OP_REV | T34: =VLOOKUP($R34,Riclassificazioni!$A:$J,6) -> 0 | U34: =VLOOKUP($R34,Riclassificazioni!$A:$J,7) -> 0 | V34: =VLOOKUP($R34,Riclassificazioni!$A:$J,8) -> 0 | W34: =VLOOKUP($R34,Riclassificazioni!$A:$J,9) -> 0 | X34: =VLOOKUP($R34,Riclassificazioni!$A:$J,10) -> 0
B35: Service incidence | C35: INC_SERV | D35: SERVICE/TOT_OP_REV | E35: =M35/T35 -> #DIV/0! | F35: =N35/U35 -> #DIV/0! | G35: =O35/V35 -> #DIV/0! | H35: =P35/W35 -> #DIV/0! | I35: =Q35/X35 -> #DIV/0! | K35: 1050 | L35: =VLOOKUP($K35,Riclassificazioni!$A:$J,2) -> SERVICES | M35: =VLOOKUP($K35,Riclassificazioni!$A:$J,6) -> 0 | N35: =VLOOKUP($K35,Riclassificazioni!$A:$J,7) -> 0 | O35: =VLOOKUP($K35,Riclassificazioni!$A:$J,8) -> 0 | P35: =VLOOKUP($K35,Riclassificazioni!$A:$J,9) -> 0 | Q35: =VLOOKUP($K35,Riclassificazioni!$A:$J,10) -> 0 | R35: 1030 | S35: =VLOOKUP($R35,Riclassificazioni!$A:$J,2) -> TOT_OP_REV | T35: =VLOOKUP($R35,Riclassificazioni!$A:$J,6) -> 0 | U35: =VLOOKUP($R35,Riclassificazioni!$A:$J,7) -> 0 | V35: =VLOOKUP($R35,Riclassificazioni!$A:$J,8) -> 0 | W35: =VLOOKUP($R35,Riclassificazioni!$A:$J,9) -> 0 | X35: =VLOOKUP($R35,Riclassificazioni!$A:$J,10) -> 0
B36: Goods incidence | C36: INC_GOOD | D36: GOODS/TOT_OP_REV | E36: =M36/T36 -> #DIV/0! | F36: =N36/U36 -> #DIV/0! | G36: =O36/V36 -> #DIV/0! | H36: =P36/W36 -> #DIV/0! | I36: =Q36/X36 -> #DIV/0! | K36: 1040 | L36: =VLOOKUP($K36,Riclassificazioni!$A:$J,2) -> GOODS | M36: =VLOOKUP($K36,Riclassificazioni!$A:$J,6) -> 0 | N36: =VLOOKUP($K36,Riclassificazioni!$A:$J,7) -> 0 | O36: =VLOOKUP($K36,Riclassificazioni!$A:$J,8) -> 0 | P36: =VLOOKUP($K36,Riclassificazioni!$A:$J,9) -> 0 | Q36: =VLOOKUP($K36,Riclassificazioni!$A:$J,10) -> 0 | R36: 1030 | S36: =VLOOKUP($R36,Riclassificazioni!$A:$J,2) -> TOT_OP_REV | T36: =VLOOKUP($R36,Riclassificazioni!$A:$J,6) -> 0 | U36: =VLOOKUP($R36,Riclassificazioni!$A:$J,7) -> 0 | V36: =VLOOKUP($R36,Riclassificazioni!$A:$J,8) -> 0 | W36: =VLOOKUP($R36,Riclassificazioni!$A:$J,9) -> 0 | X36: =VLOOKUP($R36,Riclassificazioni!$A:$J,10) -> 0
B37: EBITDA incidence | C37: INC_EBITDA | D37: EBITDA/TOT_OP_REV | E37: =M37/T37 -> #DIV/0! | F37: =N37/U37 -> #DIV/0! | G37: =O37/V37 -> #DIV/0! | H37: =P37/W37 -> #DIV/0! | I37: =Q37/X37 -> #DIV/0! | K37: 1090 | L37: =VLOOKUP($K37,Riclassificazioni!$A:$J,2) -> EBITDA | M37: =VLOOKUP($K37,Riclassificazioni!$A:$J,6) -> 0 | N37: =VLOOKUP($K37,Riclassificazioni!$A:$J,7) -> 0 | O37: =VLOOKUP($K37,Riclassificazioni!$A:$J,8) -> 0 | P37: =VLOOKUP($K37,Riclassificazioni!$A:$J,9) -> 0 | Q37: =VLOOKUP($K37,Riclassificazioni!$A:$J,10) -> 0 | R37: 1030 | S37: =VLOOKUP($R37,Riclassificazioni!$A:$J,2) -> TOT_OP_REV | T37: =VLOOKUP($R37,Riclassificazioni!$A:$J,6) -> 0 | U37: =VLOOKUP($R37,Riclassificazioni!$A:$J,7) -> 0 | V37: =VLOOKUP($R37,Riclassificazioni!$A:$J,8) -> 0 | W37: =VLOOKUP($R37,Riclassificazioni!$A:$J,9) -> 0 | X37: =VLOOKUP($R37,Riclassificazioni!$A:$J,10) -> 0
B38: Non financial costs incidence | C38: INC_NFCOST | D38: AMMDEPRO_COST/TOT_OP_REV | E38: =M38/T38 -> #DIV/0! | F38: =N38/U38 -> #DIV/0! | G38: =O38/V38 -> #DIV/0! | H38: =P38/W38 -> #DIV/0! | I38: =Q38/X38 -> #DIV/0! | K38: 1620 | L38: =VLOOKUP($K38,Riclassificazioni!$A:$J,2) -> AMMDEPRO_COST | M38: =VLOOKUP($K38,Riclassificazioni!$A:$J,6) -> 0 | N38: =VLOOKUP($K38,Riclassificazioni!$A:$J,7) -> 0 | O38: =VLOOKUP($K38,Riclassificazioni!$A:$J,8) -> 0 | P38: =VLOOKUP($K38,Riclassificazioni!$A:$J,9) -> 0 | Q38: =VLOOKUP($K38,Riclassificazioni!$A:$J,10) -> 0 | R38: 1030 | S38: =VLOOKUP($R38,Riclassificazioni!$A:$J,2) -> TOT_OP_REV | T38: =VLOOKUP($R38,Riclassificazioni!$A:$J,6) -> 0 | U38: =VLOOKUP($R38,Riclassificazioni!$A:$J,7) -> 0 | V38: =VLOOKUP($R38,Riclassificazioni!$A:$J,8) -> 0 | W38: =VLOOKUP($R38,Riclassificazioni!$A:$J,9) -> 0 | X38: =VLOOKUP($R38,Riclassificazioni!$A:$J,10) -> 0
B39: Costs of financial debt incidence | C39: INC_COSTDEBT | D39: FIN_EXP/TOT_OP_REV | E39: =M39/T39 -> #DIV/0! | F39: =N39/U39 -> #DIV/0! | G39: =O39/V39 -> #DIV/0! | H39: =P39/W39 -> #DIV/0! | I39: =Q39/X39 -> #DIV/0! | K39: 1170 | L39: =VLOOKUP($K39,Riclassificazioni!$A:$J,2) -> FIN_EXP | M39: =VLOOKUP($K39,Riclassificazioni!$A:$J,6) -> 0 | N39: =VLOOKUP($K39,Riclassificazioni!$A:$J,7) -> 0 | O39: =VLOOKUP($K39,Riclassificazioni!$A:$J,8) -> 0 | P39: =VLOOKUP($K39,Riclassificazioni!$A:$J,9) -> 0 | Q39: =VLOOKUP($K39,Riclassificazioni!$A:$J,10) -> 0 | R39: 1030 | S39: =VLOOKUP($R39,Riclassificazioni!$A:$J,2) -> TOT_OP_REV | T39: =VLOOKUP($R39,Riclassificazioni!$A:$J,6) -> 0 | U39: =VLOOKUP($R39,Riclassificazioni!$A:$J,7) -> 0 | V39: =VLOOKUP($R39,Riclassificazioni!$A:$J,8) -> 0 | W39: =VLOOKUP($R39,Riclassificazioni!$A:$J,9) -> 0 | X39: =VLOOKUP($R39,Riclassificazioni!$A:$J,10) -> 0
B40: Taxes incidence | C40: INC_TAXES | D40: INC_TAX/TOT_OP_REV | E40: =M40/T40 -> #DIV/0! | F40: =N40/U40 -> #DIV/0! | G40: =O40/V40 -> #DIV/0! | H40: =P40/W40 -> #DIV/0! | I40: =Q40/X40 -> #DIV/0! | K40: 1240 | L40: =VLOOKUP($K40,Riclassificazioni!$A:$J,2) -> INC_TAX | M40: =VLOOKUP($K40,Riclassificazioni!$A:$J,6) -> 0 | N40: =VLOOKUP($K40,Riclassificazioni!$A:$J,7) -> 0 | O40: =VLOOKUP($K40,Riclassificazioni!$A:$J,8) -> 0 | P40: =VLOOKUP($K40,Riclassificazioni!$A:$J,9) -> 0 | Q40: =VLOOKUP($K40,Riclassificazioni!$A:$J,10) -> 0 | R40: 1030 | S40: =VLOOKUP($R40,Riclassificazioni!$A:$J,2) -> TOT_OP_REV | T40: =VLOOKUP($R40,Riclassificazioni!$A:$J,6) -> 0 | U40: =VLOOKUP($R40,Riclassificazioni!$A:$J,7) -> 0 | V40: =VLOOKUP($R40,Riclassificazioni!$A:$J,8) -> 0 | W40: =VLOOKUP($R40,Riclassificazioni!$A:$J,9) -> 0 | X40: =VLOOKUP($R40,Riclassificazioni!$A:$J,10) -> 0
...
