Workbook

Sheet Vecchi Constit ACWI
A1: Constituents MSCI World All Country Index VECCHIA COMPOSIZIONE…..oltre 10 anni fa)
A2: ISIN | B2: BB Ticker | C2: Name | D2: Gics Sector | E2: Gics Industry Group | F2: Gics Industry | G2: Country | H2: Currency | I2: Weight | K2: Sectors | L2: 100
A3: US0378331005 | B3: AAPL UW | C3: APPLE INC | D3: Information Technology | E3: Technology Hardware & Equipmen | F3: Computers & Peripherals | G3: UNITED STATES | H3: USD | I3: 1.7623982 | K3: Information Technology | L3: 12.649187
A4: US30231G1022 | B4: XOM UN | C4: EXXON MOBIL CORP | D4: Energy | E4: Energy | F4: Oil, Gas & Consumable Fuels | G4: UNITED STATES | H4: USD | I4: 1.4738985 | K4: Energy | L4: 11.965988
A5: US5949181045 | B5: MSFT UW | C5: MICROSOFT CORP | D5: Information Technology | E5: Software & Services | F5: Software | G5: UNITED STATES | H5: USD | I5: 0.83869916 | K5: Consumer Staples | L5: 10.00019
A6: US4592001014 | B6: IBM UN | C6: INTL BUSINESS MACHINES CORP | D6: Information Technology | E6: Software & Services | F6: IT Services | G6: UNITED STATES | H6: USD | I6: 0.82339918 | K6: Industrials | L6: 10.595589
A7: US1667641005 | B7: CVX UN | C7: CHEVRON CORP | D7: Energy | E7: Energy | F7: Oil, Gas & Consumable Fuels | G7: UNITED STATES | H7: USD | I7: 0.76599923 | K7: Telecommunication Services | L7: 4.4723955
A8: CH0038863350 | B8: NESN VX | C8: NESTLE SA-REG | D8: Consumer Staples | E8: Food Beverage & Tobacco | F8: Food Products | G8: SWITZERLAND | H8: CHF | I8: 0.70989929 | K8: Health Care | L8: 8.7224913
A9: US3696041033 | B9: GE UN | C9: GENERAL ELECTRIC CO | D9: Industrials | E9: Capital Goods | F9: Industrial Conglomerates | G9: UNITED STATES | H9: USD | I9: 0.70769929 | K9: Financials | L9: 19.379881
A10: US7427181091 | B10: PG UN | C10: PROCTER & GAMBLE CO/THE | D10: Consumer Staples | E10: Household & Personal Products | F10: Household Products | G10: UNITED STATES | H10: USD | I10: 0.65019935 | K10: Materials | L10: 8.2897917
A11: US00206R1023 | B11: T UN | C11: AT&T INC | D11: Telecommunication Services | E11: Telecommunication Services | F11: Diversified Telecommunication | G11: UNITED STATES | H11: USD | I11: 0.63529936 | K11: Consumer Discretionary | L11: 10.28839
A12: US4781601046 | B12: JNJ UN | C12: JOHNSON & JOHNSON | D12: Health Care | E12: Pharmaceuticals, Biotechnology | F12: Pharmaceuticals | G12: UNITED STATES | H12: USD | I12: 0.62499938 | K12: Utilities | L12: 3.6360964
A13: US7170811035 | B13: PFE UN | C13: PFIZER INC | D13: Health Care | E13: Pharmaceuticals, Biotechnology | F13: Pharmaceuticals | G13: UNITED STATES | H13: USD | I13: 0.57689942
A14: GB0005405286 | B14: HSBA LN | C14: HSBC HOLDINGS PLC | D14: Financials | E14: Banks | F14: Commercial Banks | G14: BRITAIN | H14: GBp | I14: 0.55479945 | K14: Currencies | L14: 100
A15: US38259P5089 | B15: GOOG UW | C15: GOOGLE INC-CL A | D15: Information Technology | E15: Software & Services | F15: Internet Software & Services | G15: UNITED STATES | H15: USD | I15: 0.55079945 | K15: USD | L15: 45.453955
A16: US9497461015 | B16: WFC UN | C16: WELLS FARGO & CO | D16: Financials | E16: Banks | F16: Commercial Banks | G16: UNITED STATES | H16: USD | I16: 0.54999945 | K16: CHF | L16: 3.0821969
A17: US46625H1005 | B17: JPM UN | C17: JPMORGAN CHASE & CO | D17: Financials | E17: Diversified Financials | F17: Diversified Financial Services | G17: UNITED STATES | H17: USD | I17: 0.53619946 | K17: GBp | L17: 8.3612916
A18: GB0007980591 | B18: BP/ LN | C18: BP PLC | D18: Energy | E18: Energy | F18: Oil, Gas & Consumable Fuels | G18: BRITAIN | H18: GBp | I18: 0.52219948 | K18: AUD | L18: 3.1774968
A19: US7181721090 | B19: PM UN | C19: PHILIP MORRIS INTERNATIONAL | D19: Consumer Staples | E19: Food Beverage & Tobacco | F19: Tobacco | G19: UNITED STATES | H19: USD | I19: 0.51409949 | K19: EUR | L19: 10.39339
A20: US1912161007 | B20: KO UN | C20: COCA-COLA CO/THE | D20: Consumer Staples | E20: Food Beverage & Tobacco | F20: Beverages | G20: UNITED STATES | H20: USD | I20: 0.50589949 | K20: KRW | L20: 1.960898
A21: US4581401001 | B21: INTC UW | C21: INTEL CORP | D21: Information Technology | E21: Semiconductors & Semiconductor | F21: Semiconductors & Semiconductor | G21: UNITED STATES | H21: USD | I21: 0.49459951 | K21: JPY | L21: 7.8851921
A22: GB00B16GWD56 | B22: VOD LN | C22: VODAFONE GROUP PLC | D22: Telecommunication Services | E22: Telecommunication Services | F22: Wireless Telecommunication Ser | G22: BRITAIN | H22: GBp | I22: 0.48189952 | K22: CAD | L22: 4.4735955
A23: GB00B03MLX29 | B23: RDSA LN | C23: ROYAL DUTCH SHELL PLC-A SHS | D23: Energy | E23: Energy | F23: Oil, Gas & Consumable Fuels | G23: BRITAIN | H23: GBp | I23: 0.46319954 | K23: RUB | L23: 0.77529922
A24: CH0012005267 | B24: NOVN VX | C24: NOVARTIS AG-REG | D24: Health Care | E24: Pharmaceuticals, Biotechnology | F24: Pharmaceuticals | G24: SWITZERLAND | H24: CHF | I24: 0.44749955 | K24: TWD | L24: 1.4559985
A25: AU000000BHP4 | B25: BHP AT | C25: BHP BILLITON LTD | D25: Materials | E25: Materials | F25: Metals & Mining | G25: AUSTRALIA | H25: AUD | I25: 0.43899956 | K25: HKD | L25: 3.4788965
... A48: DE0007236101 | B48: SIE GY | C48: SIEMENS AG-REG | D48: Industrials | E48: Capital Goods | F48: Industrial Conglomerates | G48: GERMANY | H48: EUR | I48: 0.28869971 | K48: PEN | L48: 0.0073999926
A49: GB0008762899 | B49: BG/ LN | C49: BG GROUP PLC | D49: Energy | E49: Energy | F49: Oil, Gas & Consumable Fuels | G49: BRITAIN | H49: GBp | I49: 0.28799971
A50: CA7800871021 | B50: RY CT | C50: ROYAL BANK OF CANADA | D50: Financials | E50: Banks | F50: Commercial Banks | G50: CANADA | H50: CAD | I50: 0.28459972 | K50: Countries | L50: 100
A51: DE000BASF111 | B51: BAS GY | C51: BASF SE | D51: Materials | E51: Materials | F51: Chemicals | G51: GERMANY | H51: EUR | I51: 0.28379972 | K51: UNITED STATES | L51: 45.220355
A52: US0605051046 | B52: BAC UN | C52: BANK OF AMERICA CORP | D52: Financials | E52: Diversified Financials | F52: Diversified Financial Services | G52: UNITED STATES | H52: USD | I52: 0.28309972 | K52: SWITZERLAND | L52: 3.0821969
A53: GB0007188757 | B53: RIO LN | C53: RIO TINTO PLC | D53: Materials | E53: Materials | F53: Metals & Mining | G53: BRITAIN | H53: GBp | I53: 0.28069972 | K53: BRITAIN | L53: 8.3612916
A54: US4370761029 | B54: HD UN | C54: HOME DEPOT INC | D54: Consumer Discretionary | E54: Retailing | F54: Specialty Retail | G54: UNITED STATES | H54: USD | I54: 0.26079974 | K54: AUSTRALIA | L54: 3.1774968
A55: US2546871060 | B55: DIS UN | C55: WALT DISNEY CO/THE | D55: Consumer Discretionary | E55: Media | F55: Media | G55: UNITED STATES | H55: USD | I55: 0.25949974 | K55: FRANCE | L55: 3.4086966
A56: US1491231015 | B56: CAT UN | C56: CATERPILLAR INC | D56: Industrials | E56: Capital Goods | F56: Machinery | G56: UNITED STATES | H56: USD | I56: 0.25859974 | K56: SOUTH KOREA | L56: 1.960898
A57: CA8911605092 | B57: TD CT | C57: TORONTO-DOMINION BANK | D57: Financials | E57: Banks | F57: Commercial Banks | G57: CANADA | H57: CAD | I57: 0.25559974 | K57: JAPAN | L57: 7.8851921
A58: US9130171096 | B58: UTX UN | C58: UNITED TECHNOLOGIES CORP | D58: Industrials | E58: Capital Goods | F58: Aerospace & Defense | G58: UNITED STATES | H58: USD | I58: 0.25369975 | K58: GERMANY | L58: 3.1192969
A59: US0846707026 | B59: BRK/B UN | C59: BERKSHIRE HATHAWAY INC-CL B | D59: Financials | E59: Insurance | F59: Insurance | G59: UNITED STATES | H59: USD | I59: 0.24929975 | K59: CANADA | L59: 4.4735955
A60: RU0007661625 | B60: GAZP RX | C60: GAZPROM OAO | D60: Energy | E60: Energy | F60: Oil, Gas & Consumable Fuels | G60: RUSSIA | H60: RUB | I60: 0.24799975 | K60: RUSSIA | L60: 0.9042991
A61: ES0113900J37 | B61: SAN SQ | C61: BANCO SANTANDER SA | D61: Financials | E61: Banks | F61: Commercial Banks | G61: SPAIN | H61: EUR | I61: 0.24709975 | K61: SPAIN | L61: 1.1164989
... A65: TW0002330008 | B65: 2330 TT | C65: TAIWAN SEMICONDUCTOR MANUFAC | D65: Information Technology | E65: Semiconductors & Semiconductor | F65: Semiconductors & Semiconductor | G65: TAIWAN | H65: TWD | I65: 0.23799976 | K65: BRAZIL | L65: 2.0534979
...

Sheet New ACWI Constit (via ETF)
A1: Ticker dell'emittente | B1: Nome | C1: Settore | D1: Valore di mercato | E1: Ponderazione (%) | F1: Area Geografica | G1: Mercato di quotazione | H1: Valuta
A2: NVDA | B2: NVIDIA CORP | C2: IT | D2: 1.0959142e+09 | E2: 4.79 | F2: Stati Uniti | G2: NASDAQ | H2: USD
A3: MSFT | B3: MICROSOFT CORP | C3: IT | D3: 9.3736331e+08 | E3: 4.1 | F3: Stati Uniti | G3: NASDAQ | H3: USD
A4: AAPL | B4: APPLE INC | C4: IT | D4: 9.0180905e+08 | E4: 3.94 | F4: Stati Uniti | G4: NASDAQ | H4: USD
A5: AMZN | B5: AMAZON COM INC | C5: Consumi Discrezionali | D5: 5.6540352e+08 | E5: 2.47 | F5: Stati Uniti | G5: NASDAQ | H5: USD
A6: META | B6: META PLATFORMS INC CLASS A | C6: Comunicazione | D6: 4.2080416e+08 | E6: 1.84 | F6: Stati Uniti | G6: NASDAQ | H6: USD
A7: NDIA | B7: ISHARES MSCI INDIA UCITS ETF | C7: Finanziari | D7: 3.8512013e+08 | E7: 1.68 | F7: Irlanda | G7: London Stock Exchange | H7: USD
A8: AVGO | B8: BROADCOM INC | C8: IT | D8: 3.5117044e+08 | E8: 1.53 | F8: Stati Uniti | G8: NASDAQ | H8: USD
A9: GOOGL | B9: ALPHABET INC CLASS A | C9: Comunicazione | D9: 3.200063e+08 | E9: 1.4 | F9: Stati Uniti | G9: NASDAQ | H9: USD
A10: GOOG | B10: ALPHABET INC CLASS C | C10: Comunicazione | D10: 2.7582824e+08 | E10: 1.21 | F10: Stati Uniti | G10: NASDAQ | H10: USD
A11: TSLA | B11: TESLA INC | C11: Consumi Discrezionali | D11: 2.5141267e+08 | E11: 1.1 | F11: Stati Uniti | G11: NASDAQ | H11: USD
A12: 2330 | B12: TAIWAN SEMICONDUCTOR MANUFACTURING | C12: IT | D12: 2.4350582e+08 | E12: 1.06 | F12: Taiwan | G12: Taiwan Stock Exchange | H12: TWD
A13: JPM | B13: JPMORGAN CHASE & CO | C13: Finanziari | D13: 215472312 | E13: 0.94 | F13: Stati Uniti | G13: New York Stock Exchange Inc. | H13: USD
A14: BRKB | B14: BERKSHIRE HATHAWAY INC CLASS B | C14: Finanziari | D14: 177604016 | E14: 0.78 | F14: Stati Uniti | G14: New York Stock Exchange Inc. | H14: USD
A15: V | B15: VISA INC CLASS A | C15: Finanziari | D15: 1.5802615e+08 | E15: 0.69 | F15: Stati Uniti | G15: New York Stock Exchange Inc. | H15: USD
A16: LLY | B16: ELI LILLY | C16: Salute | D16: 1.557875e+08 | E16: 0.68 | F16: Stati Uniti | G16: New York Stock Exchange Inc. | H16: USD
A17: NFLX | B17: NETFLIX INC | C17: Comunicazione | D17: 1.3591112e+08 | E17: 0.59 | F17: Stati Uniti | G17: NASDAQ | H17: USD
A18: MA | B18: MASTERCARD INC CLASS A | C18: Finanziari | D18: 1.3487889e+08 | E18: 0.59 | F18: Stati Uniti | G18: New York Stock Exchange Inc. | H18: USD
A19: XOM | B19: EXXON MOBIL CORP | C19: Energia | D19: 1.3062572e+08 | E19: 0.57 | F19: Stati Uniti | G19: New York Stock Exchange Inc. | H19: USD
A20: 700 | B20: TENCENT HOLDINGS LTD | C20: Comunicazione | D20: 1.2706133e+08 | E20: 0.56 | F20: Cina | G20: Hong Kong Exchanges And Clearing Ltd | H20: HKD
A21: 4BRZ | B21: ISHARES MSCI BRAZIL UCITS ET USDHA | C21: Finanziari | D21: 1.110278e+08 | E21: 0.49 | F21: Germania | G21: Xetra | H21: USD
A22: WMT | B22: WALMART INC | C22: Generi di largo consumo | D22: 1.1288592e+08 | E22: 0.49 | F22: Stati Uniti | G22: New York Stock Exchange Inc. | H22: USD
A23: JNJ | B23: JOHNSON & JOHNSON | C23: Salute | D23: 1.1249439e+08 | E23: 0.49 | F23: Stati Uniti | G23: New York Stock Exchange Inc. | H23: USD
A24: COST | B24: COSTCO WHOLESALE CORP | C24: Generi di largo consumo | D24: 1.0876887e+08 | E24: 0.48 | F24: Stati Uniti | G24: NASDAQ | H24: USD
A25: HD | B25: HOME DEPOT INC | C25: Consumi Discrezionali | D25: 1.065678e+08 | E25: 0.47 | F25: Stati Uniti | G25: New York Stock Exchange Inc. | H25: USD
A26: ORCL | B26: ORACLE CORP | C26: IT | D26: 1.0056108e+08 | E26: 0.44 | F26: Stati Uniti | G26: New York Stock Exchange Inc. | H26: USD
A27: CNYA | B27: ISH MSCI CHINA A ETF USD ACC | C27: Finanziari | D27: 98831308 | E27: 0.43 | F27: Irlanda | G27: London Stock Exchange | H27: USD
A28: ABBV | B28: ABBVIE INC | C28: Salute | D28: 98254165 | E28: 0.43 | F28: Stati Uniti | G28: New York Stock Exchange Inc. | H28: USD
A29: PG | B29: PROCTER & GAMBLE | C29: Generi di largo consumo | D29: 96892423 | E29: 0.42 | F29: Stati Uniti | G29: New York Stock Exchange Inc. | H29: USD
A30: BAC | B30: BANK OF AMERICA CORP | C30: Finanziari | D30: 92712296 | E30: 0.41 | F30: Stati Uniti | G30: New York Stock Exchange Inc. | H30: USD
A31: PLTR | B31: PALANTIR TECHNOLOGIES INC CLASS A | C31: IT | D31: 93891279 | E31: 0.41 | F31: Stati Uniti | G31: NASDAQ | H31: USD
A32: CVX | B32: CHEVRON CORP | C32: Energia | D32: 83444403 | E32: 0.36 | F32: Stati Uniti | G32: New York Stock Exchange Inc. | H32: USD
A33: 9988 | B33: ALIBABA GROUP HOLDING LTD | C33: Consumi Discrezionali | D33: 76855885 | E33: 0.34 | F33: Cina | G33: Hong Kong Exchanges And Clearing Ltd | H33: HKD
A34: IKSA | B34: ISHARES MSCI SAUDI ARABIA CAPPED | C34: Finanziari | D34: 78489769 | E34: 0.34 | F34: Irlanda | G34: London Stock Exchange | H34: USD
A35: GE | B35: GE AEROSPACE | C35: Industriali | D35: 76614324 | E35: 0.33 | F35: Stati Uniti | G35: New York Stock Exchange Inc. | H35: USD
A36: KO | B36: COCA-COLA | C36: Generi di largo consumo | D36: 74096200 | E36: 0.32 | F36: Stati Uniti | G36: New York Stock Exchange Inc. | H36: USD
A37: ASML | B37: ASML HOLDING NV | C37: IT | D37: 74365988 | E37: 0.32 | F37: Paesi Bassi | G37: Euronext Amsterdam | H37: EUR
A38: SAP | B38: SAP | C38: IT | D38: 73717101 | E38: 0.32 | F38: Germania | G38: Xetra | H38: EUR
A39: UNH | B39: UNITEDHEALTH GROUP INC | C39: Salute | D39: 73967790 | E39: 0.32 | F39: Stati Uniti | G39: New York Stock Exchange Inc. | H39: USD
A40: WFC | B40: WELLS FARGO | C40: Finanziari | D40: 70401131 | E40: 0.31 | F40: Stati Uniti | G40: New York Stock Exchange Inc. | H40: USD
...

Sheet Serie Storiche
B1: Monetario Area € | C1: Obbl € Short Term (1-3 yrs) | D1: Obbl € MLT | E1: Global Bond Dev Mkts | F1: Obbl Corp. High Yield | G1: Obbl Emerg. Markets | H1: Az Europa | I1: Az Nord America | J1: Az Pacifico | K1: Az Emerg. Markets
B2: Ice Bofa Euro 0-1 anni | C2: Ice Bofa Bond Euro 1-3 Y | D2: Ice Bofa Obbl. Euro | E2: Ice Bofa Obbl. Globale | F2: Ice Bofa Global HY | G2: Ice Bofa Obbl Emergente | H2: MSCI Europe | I2: MSCI North America | J2: MSCI Pacific | K2: MSCI Emerging Markets
A3: 2000 | B3: 0.043210458 | C3: 0.047892032 | D3: 0.083903018 | E3: 0.10487753 | F3: 0.0057225468 | G3: 0.17383462 | H3: -0.019300397 | I3: -0.057888151 | J3: -0.20614969 | K3: -0.25916788
A4: 2001 | B4: 0.047402997 | C4: 0.059393889 | D4: 0.062532541 | E4: 0.047453241 | F4: 0.087266411 | G4: 0.069257981 | H4: -0.15262665 | I4: -0.076290839 | J4: -0.21150835 | K4: 0.029399749
A5: 2002 | B5: 0.035273134 | C5: 0.059999736 | D5: 0.08487556 | E5: 0.0031368277 | F5: -0.16127991 | G5: -0.049689976 | H5: -0.30504445 | I5: -0.34110843 | J5: -0.22793553 | K5: -0.20242283
A6: 2003 | B6: 0.025411503 | C6: 0.033410167 | D6: 0.037685942 | E6: -0.049184812 | F6: 0.087401597 | G6: 0.014666739 | H6: 0.15761029 | I6: 0.082617922 | J6: 0.15629158 | K6: 0.30017289
A7: 2004 | B7: 0.021831288 | C7: 0.033969726 | D7: 0.075593423 | E7: 0.020888849 | F7: 0.043264419 | G7: 0.051034586 | H7: 0.12646241 | I7: 0.032721522 | J7: 0.10709243 | K7: 0.16880286
A8: 2005 | B8: 0.021950303 | C8: 0.020481815 | D8: 0.056697384 | E8: 0.07925695 | F8: 0.16937125 | G8: 0.24110171 | H8: 0.26679539 | I8: 0.23225417 | J8: 0.4174703 | K8: 0.55039624
A9: 2006 | B9: 0.03016019 | C9: 0.017654016 | D9: -0.0028239842 | E9: -0.05107058 | F9: 0.015390709 | G9: -0.0018941893 | H9: 0.20183832 | I9: 0.033003098 | J9: 0.0063905048 | K9: 0.18598341
A10: 2007 | B10: 0.044157779 | C10: 0.037934887 | D10: 0.0097233134 | E10: -0.0086455151 | F10: -0.07089022 | G10: -0.0053456654 | H10: 0.031744812 | I10: -0.028932587 | J10: -0.047486666 | K10: 0.26070317
A11: 2008 | B11: 0.057465407 | C11: 0.070002921 | D11: 0.099693757 | E11: 0.18469272 | F11: -0.24126013 | G11: -0.012968904 | H11: -0.43286399 | I11: -0.34579211 | J11: -0.32865114 | K11: -0.50755916
A12: 2009 | B12: 0.023113024 | C12: 0.042513396 | D12: 0.043247221 | E12: -0.01275322 | F12: 0.56925753 | G12: 0.14658974 | H12: 0.32548822 | I12: 0.25316067 | J12: 0.20469975 | K12: 0.73444663
A13: 2010 | B13: 0.011052959 | C13: 0.0089584445 | D13: 0.01143811 | E13: 0.14098047 | F13: 0.21801765 | G13: 0.17277332 | H13: 0.11747023 | I13: 0.24041419 | J13: 0.24141549 | K13: 0.27476196
A14: 2011 | B14: 0.015905964 | C14: 0.0025226178 | D14: 0.021785493 | E14: 0.13575395 | F14: 0.060595095 | G14: 0.051516516 | H14: -0.075109009 | I14: 0.039165051 | J14: -0.10717121 | K14: -0.15437573
... A27: 2024 | B27: 0.035102196 | C27: 0.036641592 | D27: 0.019536411 | E27: 0.030835549 | F27: 0.16733265 | G27: 0.14425464 | H27: 0.092716357 | I27: 0.32858683 | J27: 0.14489331 | K27: 0.15266077
A29: REND MEDIO annuo
A31: SIGMA annuo
B35: Bofa ML Euro 0-1 anni | C35: Bofa ML Bond Euro 1-3 Y | D35: Bofa ML Obbl. Euro | E35: Bofa ML Obbl. Globale | F35: ML Global HY | G35: Bofa ML Obbl Emergente | H35: MSCI Europe | I35: MSCI North America | J35: MSCI Pacific | K35: MSCI Emerging Markets
A36: Bofa ML Euro 0-1 anni
A37: Bofa ML Bond Euro 1-3 Y
A38: Bofa ML Obbl. Euro
A39: Bofa ML Obbl. Globale
A40: ML Global HY
A41: Bofa ML Obbl Emergente
A42: MSCI Europe
A43: MSCI North America
A44: MSCI Pacific
A45: MSCI Emerging Markets

Sheet Copertura Obbl Globale
B1: WD CITIGROUP WGBI WORLD ALL MATS: TOTAL RETURN HEDGED - (E) | C1: WD CITIGROUP WGBI WORLD ALL MATS: TOTAL RETURN - (E) | D1: CGBI WGBI EMU ALL MATS. (E) - TOT RETURN IND
A2: 36585 | B2: 0.006986195 | C2: 0.0089103345 | D2: 0.0062819245
A3: 36616 | B3: 0.013425251 | C3: 0.0373187 | D3: 0.015954725
A4: 36644 | B4: 0.00058092648 | C4: 0.015751944 | D4: -0.00049358839
A5: 36677 | B5: 0.004043633 | C5: -0.0097054817 | D5: 0.0024691607
A6: 36707 | B6: 0.0060818395 | C6: -0.0090824207 | D6: 0.0042023143
A7: 36738 | B7: 0.0061104387 | C7: 0.017024963 | D7: 0.0039244346
A8: 36769 | B8: 0.002092397 | C8: 0.034338196 | D8: -3.988871e-05
A9: 36798 | B9: 0.0048892049 | C9: 0.0054920454 | D9: 0.0073098978
A10: 36830 | B10: 0.0070055773 | C10: 0.027951798 | D10: 0.0045441945
A11: 36860 | B11: 0.016198017 | C11: -0.0069729864 | D11: 0.014684577
A12: 36889 | B12: 0.011443976 | C12: -0.039624314 | D12: 0.014287518
A13: 36922 | B13: 0.0089286482 | C13: 0.0082825554 | D13: 0.0072968936
... A308: 45898 | B308: 0.00083945571 | C308: -0.0089869821 | D308: -0.004484608
B310: WD CITIGROUP WGBI WORLD ALL MATS: TOTAL RETURN HEDGED - (E) | C310: WD CITIGROUP WGBI WORLD ALL MATS: TOTAL RETURN - (E) | D310: CGBI WGBI EMU ALL MATS. (E) - TOT RETURN IND
A311: Sigma mensili
B314: WD CITIGROUP WGBI WORLD ALL MATS: TOTAL RETURN HEDGED - (E) | C314: WD CITIGROUP WGBI WORLD ALL MATS: TOTAL RETURN - (E) | D314: CGBI WGBI EMU ALL MATS. (E) - TOT RETURN IND
A315: WD CITIGROUP WGBI WORLD ALL MATS: TOTAL RETURN HEDGED - (E)
A316: WD CITIGROUP WGBI WORLD ALL MATS: TOTAL RETURN - (E)
A317: CGBI WGBI EMU ALL MATS. (E) - TOT RETURN IND

Sheet Copertura Az.rio USA
B1: MSCI USA € | C1: MSCI USA $ | D1: MSCI USA HEDGED € | H1: €/$
A2: 36585 | B2: -0.008931566 | C2: -0.024737802 | D2: -0.027236265 | H2: 0.016207166
A3: 36616 | B3: 0.10554775 | C3: 0.098830027 | D3: 0.097324767 | H3: 0.0061135223
A4: 36644 | B4: 0.015185392 | C4: -0.033246032 | D4: -0.036875218 | H4: 0.050096949
A5: 36677 | B5: -0.044311016 | C5: -0.027375489 | D5: -0.029123571 | H5: -0.017412195
A6: 36707 | B6: -0.010205901 | C6: 0.023039896 | D6: 0.019811233 | H6: -0.032497068
A7: 36738 | B7: 0.015009355 | C7: -0.018821321 | D7: -0.021075781 | H7: 0.034479628
A8: 36769 | B8: 0.095421776 | C8: 0.051030496 | D8: 0.051296452 | H8: 0.042235958
A9: 36798 | B9: -0.048207263 | C9: -0.055271804 | D9: -0.056807052 | H9: 0.0074778554
A10: 36830 | B10: 0.032726987 | C10: -0.0080596293 | D10: -0.009855565 | H10: 0.041118012
A11: 36860 | B11: -0.10413021 | C11: -0.079925107 | D11: -0.079209809 | H11: -0.026307751
A12: 36889 | B12: -0.075191269 | C12: -0.0025792118 | D12: -0.0040692497 | H12: -0.072799824
A13: 36922 | B13: 0.045542554 | C13: 0.035634277 | D13: 0.034454437 | H13: 0.0095673514
... A308: 45898 | B308: -0.004120203 | C308: 0.018458435 | D308: 0.016124165 | H308: -0.022169425
B310: MSCI USA € | C310: MSCI USA $ | D310: MSCI USA HEDGED € | F310: correl az USA e Cambio
A311: Sigma Mensili
B314: =B1 -> MSCI USA € | C314: =C1 -> MSCI USA $ | D314: =D1 -> MSCI USA HEDGED €
A315: =B314 -> MSCI USA €
A316: =C314 -> MSCI USA $
A317: =D314 -> MSCI USA HEDGED €

Sheet GRIGLIA1
A2: OT/Toll Risk | B2: B | C2: MB | D2: M | E2: MA | F2: A
A3: 1 yr
A4: 3 yr
A5: 5 yr
A6: 10 yr
A7: >10 yr

Sheet Strategia Naive
A1: Asset Classes | B1: AAS Neutrale HBA | C1: AAS Naive | E1: PESI | F1: naive | G1: neutrale HBA | P1: COMPOSIZIONE DEI PORTAFOGLI NAIVE
A2: Monetario Area € | B2: =$E$2*G2 -> 0.04 | C2: =$E$2*F2 -> 0 | E2: =1-E8 -> 1 | G2: 0.04 | H2: =A2 -> Monetario Area € | P2: Porzione Azionaria | Q2: {=TRANSPOSE(A2:A12)} -> Monetario Area € | R2: Obbl € Short Term (1-3 yrs) | S2: Obbl € MLT | T2: Global Bond Dev Mkts | U2: Obbl Corp. Globale HY | V2: Obbl Emerg. Markets | W2: Az Europa | X2: Az Nord America | Y2: Az Pacifico | Z2: Az Emerg. Markets | AA2: Opportunities
A3: Obbl € Short Term (1-3 yrs) | B3: =$E$2*G3 -> 0.07 | C3: =$E$2*F3 -> 0 | G3: 0.07 | H3: =A3 -> Obbl € Short Term (1-3 yrs) | P3: 0 | Q3: {=(1-$P3)*TRANSPOSE($F$2:$F$7)} -> 0 | R3: 0 | S3: 0 | T3: 0 | U3: 0 | V3: 0 | W3: {=$P3*TRANSPOSE($F$8:$F$12)} -> 0 | X3: 0 | Y3: 0 | Z3: 0 | AA3: 0
A4: Obbl € MLT | B4: =$E$2*G4 -> 0.16 | C4: =$E$2*F4 -> 0 | G4: 0.16 | H4: =A4 -> Obbl € MLT | P4: 0.01 | Q4: {=(1-$P4)*TRANSPOSE($F$2:$F$7)} -> 0 | R4: 0 | S4: 0 | T4: 0 | U4: 0 | V4: 0 | W4: {=$P4*TRANSPOSE($F$8:$F$12)} -> 0 | X4: 0 | Y4: 0 | Z4: 0 | AA4: 0
A5: Global Bond Dev Mkts | B5: =$E$2*G5 -> 0.6 | C5: =$E$2*F5 -> 0 | G5: 0.6 | H5: =A5 -> Global Bond Dev Mkts | P5: 0.02 | Q5: {=(1-$P5)*TRANSPOSE($F$2:$F$7)} -> 0 | R5: 0 | S5: 0 | T5: 0 | U5: 0 | V5: 0 | W5: {=$P5*TRANSPOSE($F$8:$F$12)} -> 0 | X5: 0 | Y5: 0 | Z5: 0 | AA5: 0
A6: Obbl Corp. Globale HY | B6: =$E$2*G6 -> 0.05 | C6: =$E$2*F6 -> 0 | G6: 0.05 | H6: =A6 -> Obbl Corp. Globale HY | P6: 0.03 | Q6: {=(1-$P6)*TRANSPOSE($F$2:$F$7)} -> 0 | R6: 0 | S6: 0 | T6: 0 | U6: 0 | V6: 0 | W6: {=$P6*TRANSPOSE($F$8:$F$12)} -> 0 | X6: 0 | Y6: 0 | Z6: 0 | AA6: 0
A7: Obbl Emerg. Markets | B7: =$E$2*G7 -> 0.08 | C7: =$E$2*F7 -> 0 | G7: 0.08 | H7: =A7 -> Obbl Emerg. Markets | P7: 0.04 | Q7: {=(1-$P7)*TRANSPOSE($F$2:$F$7)} -> 0 | R7: 0 | S7: 0 | T7: 0 | U7: 0 | V7: 0 | W7: {=$P7*TRANSPOSE($F$8:$F$12)} -> 0 | X7: 0 | Y7: 0 | Z7: 0 | AA7: 0
A8: Az Europa | B8: =$E$8*G8 -> 0 | C8: =$E$8*F8 -> 0 | G8: 0.18 | H8: =A8 -> Az Europa | P8: 0.05 | Q8: {=(1-$P8)*TRANSPOSE($F$2:$F$7)} -> 0 | R8: 0 | S8: 0 | T8: 0 | U8: 0 | V8: 0 | W8: {=$P8*TRANSPOSE($F$8:$F$12)} -> 0 | X8: 0 | Y8: 0 | Z8: 0 | AA8: 0
A9: Az Nord America | B9: =$E$8*G9 -> 0 | C9: =$E$8*F9 -> 0 | G9: 0.55 | H9: =A9 -> Az Nord America | P9: 0.06 | Q9: {=(1-$P9)*TRANSPOSE($F$2:$F$7)} -> 0 | R9: 0 | S9: 0 | T9: 0 | U9: 0 | V9: 0 | W9: {=$P9*TRANSPOSE($F$8:$F$12)} -> 0 | X9: 0 | Y9: 0 | Z9: 0 | AA9: 0
A10: Az Pacifico | B10: =$E$8*G10 -> 0 | C10: =$E$8*F10 -> 0 | G10: 0.09 | H10: =A10 -> Az Pacifico | P10: 0.07 | Q10: {=(1-$P10)*TRANSPOSE($F$2:$F$7)} -> 0 | R10: 0 | S10: 0 | T10: 0 | U10: 0 | V10: 0 | W10: {=$P10*TRANSPOSE($F$8:$F$12)} -> 0 | X10: 0 | Y10: 0 | Z10: 0 | AA10: 0
A11: Az Emerg. Markets | B11: =$E$8*G11 -> 0 | C11: =$E$8*F11 -> 0 | G11: 0.13 | H11: =A11 -> Az Emerg. Markets | P11: 0.08 | Q11: {=(1-$P11)*TRANSPOSE($F$2:$F$7)} -> 0 | R11: 0 | S11: 0 | T11: 0 | U11: 0 | V11: 0 | W11: {=$P11*TRANSPOSE($F$8:$F$12)} -> 0 | X11: 0 | Y11: 0 | Z11: 0 | AA11: 0
A12: Opportunities | B12: =$E$8*G12 -> 0 | C12: =$E$8*F12 -> 0 | G12: 0.05 | H12: =A12 -> Opportunities | P12: 0.09 | Q12: {=(1-$P12)*TRANSPOSE($F$2:$F$7)} -> 0 | R12: 0 | S12: 0 | T12: 0 | U12: 0 | V12: 0 | W12: {=$P12*TRANSPOSE($F$8:$F$12)} -> 0 | X12: 0 | Y12: 0 | Z12: 0 | AA12: 0
B13: Previsioni di Lungo Termine | P13: 0.1 | Q13: {=(1-$P13)*TRANSPOSE($F$2:$F$7)} -> 0 | R13: 0 | S13: 0 | T13: 0 | U13: 0 | V13: 0 | W13: {=$P13*TRANSPOSE($F$8:$F$12)} -> 0 | X13: 0 | Y13: 0 | Z13: 0 | AA13: 0
B14: view | C14: fiducia | P14: 0.11 | Q14: {=(1-$P14)*TRANSPOSE($F$2:$F$7)} -> 0 | R14: 0 | S14: 0 | T14: 0 | U14: 0 | V14: 0 | W14: {=$P14*TRANSPOSE($F$8:$F$12)} -> 0 | X14: 0 | Y14: 0 | Z14: 0 | AA14: 0
A15: Tassi di interesse in € | B15: stabili | C15: media | P15: 0.12 | Q15: {=(1-$P15)*TRANSPOSE($F$2:$F$7)} -> 0 | R15: 0 | S15: 0 | T15: 0 | U15: 0 | V15: 0 | W15: {=$P15*TRANSPOSE($F$8:$F$12)} -> 0 | X15: 0 | Y15: 0 | Z15: 0 | AA15: 0
P16: 0.13 | Q16: {=(1-$P16)*TRANSPOSE($F$2:$F$7)} -> 0 | R16: 0 | S16: 0 | T16: 0 | U16: 0 | V16: 0 | W16: {=$P16*TRANSPOSE($F$8:$F$12)} -> 0 | X16: 0 | Y16: 0 | Z16: 0 | AA16: 0
A17: Valute estere forti | B17: stab dollaro $ | C17: media | P17: 0.14 | Q17: {=(1-$P17)*TRANSPOSE($F$2:$F$7)} -> 0 | R17: 0 | S17: 0 | T17: 0 | U17: 0 | V17: 0 | W17: {=$P17*TRANSPOSE($F$8:$F$12)} -> 0 | X17: 0 | Y17: 0 | Z17: 0 | AA17: 0
P18: 0.15 | Q18: {=(1-$P18)*TRANSPOSE($F$2:$F$7)} -> 0 | R18: 0 | S18: 0 | T18: 0 | U18: 0 | V18: 0 | W18: {=$P18*TRANSPOSE($F$8:$F$12)} -> 0 | X18: 0 | Y18: 0 | Z18: 0 | AA18: 0
A19: Spread bond basso rating | B19: riduzione spread spread | C19: alta | P19: 0.16 | Q19: {=(1-$P19)*TRANSPOSE($F$2:$F$7)} -> 0 | R19: 0 | S19: 0 | T19: 0 | U19: 0 | V19: 0 | W19: {=$P19*TRANSPOSE($F$8:$F$12)} -> 0 | X19: 0 | Y19: 0 | Z19: 0 | AA19: 0
P20: 0.17 | Q20: {=(1-$P20)*TRANSPOSE($F$2:$F$7)} -> 0 | R20: 0 | S20: 0 | T20: 0 | U20: 0 | V20: 0 | W20: {=$P20*TRANSPOSE($F$8:$F$12)} -> 0 | X20: 0 | Y20: 0 | Z20: 0 | AA20: 0
A21: Az Europa | B21: - | C21: media | P21: 0.18 | Q21: {=(1-$P21)*TRANSPOSE($F$2:$F$7)} -> 0 | R21: 0 | S21: 0 | T21: 0 | U21: 0 | V21: 0 | W21: {=$P21*TRANSPOSE($F$8:$F$12)} -> 0 | X21: 0 | Y21: 0 | Z21: 0 | AA21: 0
A22: Az Nord America | B22: - | C22: media | P22: 0.19 | Q22: {=(1-$P22)*TRANSPOSE($F$2:$F$7)} -> 0 | R22: 0 | S22: 0 | T22: 0 | U22: 0 | V22: 0 | W22: {=$P22*TRANSPOSE($F$8:$F$12)} -> 0 | X22: 0 | Y22: 0 | Z22: 0 | AA22: 0
A23: Az Pacifico | B23: + | C23: media | P23: 0.2 | Q23: {=(1-$P23)*TRANSPOSE($F$2:$F$7)} -> 0 | R23: 0 | S23: 0 | T23: 0 | U23: 0 | V23: 0 | W23: {=$P23*TRANSPOSE($F$8:$F$12)} -> 0 | X23: 0 | Y23: 0 | Z23: 0 | AA23: 0
A24: Az Emerg. Markets | B24: + | C24: media | P24: 0.21 | Q24: {=(1-$P24)*TRANSPOSE($F$2:$F$7)} -> 0 | R24: 0 | S24: 0 | T24: 0 | U24: 0 | V24: 0 | W24: {=$P24*TRANSPOSE($F$8:$F$12)} -> 0 | X24: 0 | Y24: 0 | Z24: 0 | AA24: 0
P25: 0.22 | Q25: {=(1-$P25)*TRANSPOSE($F$2:$F$7)} -> 0 | R25: 0 | S25: 0 | T25: 0 | U25: 0 | V25: 0 | W25: {=$P25*TRANSPOSE($F$8:$F$12)} -> 0 | X25: 0 | Y25: 0 | Z25: 0 | AA25: 0
A26: Opportunities | B26: ++ | C26: alta | P26: 0.23 | Q26: {=(1-$P26)*TRANSPOSE($F$2:$F$7)} -> 0 | R26: 0 | S26: 0 | T26: 0 | U26: 0 | V26: 0 | W26: {=$P26*TRANSPOSE($F$8:$F$12)} -> 0 | X26: 0 | Y26: 0 | Z26: 0 | AA26: 0
P27: 0.24 | Q27: {=(1-$P27)*TRANSPOSE($F$2:$F$7)} -> 0 | R27: 0 | S27: 0 | T27: 0 | U27: 0 | V27: 0 | W27: {=$P27*TRANSPOSE($F$8:$F$12)} -> 0 | X27: 0 | Y27: 0 | Z27: 0 | AA27: 0
P28: 0.25 | Q28: {=(1-$P28)*TRANSPOSE($F$2:$F$7)} -> 0 | R28: 0 | S28: 0 | T28: 0 | U28: 0 | V28: 0 | W28: {=$P28*TRANSPOSE($F$8:$F$12)} -> 0 | X28: 0 | Y28: 0 | Z28: 0 | AA28: 0
P29: 0.26 | Q29: {=(1-$P29)*TRANSPOSE($F$2:$F$7)} -> 0 | R29: 0 | S29: 0 | T29: 0 | U29: 0 | V29: 0 | W29: {=$P29*TRANSPOSE($F$8:$F$12)} -> 0 | X29: 0 | Y29: 0 | Z29: 0 | AA29: 0
P30: 0.27 | Q30: {=(1-$P30)*TRANSPOSE($F$2:$F$7)} -> 0 | R30: 0 | S30: 0 | T30: 0 | U30: 0 | V30: 0 | W30: {=$P30*TRANSPOSE($F$8:$F$12)} -> 0 | X30: 0 | Y30: 0 | Z30: 0 | AA30: 0
P31: 0.28 | Q31: {=(1-$P31)*TRANSPOSE($F$2:$F$7)} -> 0 | R31: 0 | S31: 0 | T31: 0 | U31: 0 | V31: 0 | W31: {=$P31*TRANSPOSE($F$8:$F$12)} -> 0 | X31: 0 | Y31: 0 | Z31: 0 | AA31: 0
P32: 0.29 | Q32: {=(1-$P32)*TRANSPOSE($F$2:$F$7)} -> 0 | R32: 0 | S32: 0 | T32: 0 | U32: 0 | V32: 0 | W32: {=$P32*TRANSPOSE($F$8:$F$12)} -> 0 | X32: 0 | Y32: 0 | Z32: 0 | AA32: 0
P33: 0.3 | Q33: {=(1-$P33)*TRANSPOSE($F$2:$F$7)} -> 0 | R33: 0 | S33: 0 | T33: 0 | U33: 0 | V33: 0 | W33: {=$P33*TRANSPOSE($F$8:$F$12)} -> 0 | X33: 0 | Y33: 0 | Z33: 0 | AA33: 0
P34: 0.31 | Q34: {=(1-$P34)*TRANSPOSE($F$2:$F$7)} -> 0 | R34: 0 | S34: 0 | T34: 0 | U34: 0 | V34: 0 | W34: {=$P34*TRANSPOSE($F$8:$F$12)} -> 0 | X34: 0 | Y34: 0 | Z34: 0 | AA34: 0
P35: 0.32 | Q35: {=(1-$P35)*TRANSPOSE($F$2:$F$7)} -> 0 | R35: 0 | S35: 0 | T35: 0 | U35: 0 | V35: 0 | W35: {=$P35*TRANSPOSE($F$8:$F$12)} -> 0 | X35: 0 | Y35: 0 | Z35: 0 | AA35: 0
P36: 0.33 | Q36: {=(1-$P36)*TRANSPOSE($F$2:$F$7)} -> 0 | R36: 0 | S36: 0 | T36: 0 | U36: 0 | V36: 0 | W36: {=$P36*TRANSPOSE($F$8:$F$12)} -> 0 | X36: 0 | Y36: 0 | Z36: 0 | AA36: 0
P37: 0.34 | Q37: {=(1-$P37)*TRANSPOSE($F$2:$F$7)} -> 0 | R37: 0 | S37: 0 | T37: 0 | U37: 0 | V37: 0 | W37: {=$P37*TRANSPOSE($F$8:$F$12)} -> 0 | X37: 0 | Y37: 0 | Z37: 0 | AA37: 0
P38: 0.35 | Q38: {=(1-$P38)*TRANSPOSE($F$2:$F$7)} -> 0 | R38: 0 | S38: 0 | T38: 0 | U38: 0 | V38: 0 | W38: {=$P38*TRANSPOSE($F$8:$F$12)} -> 0 | X38: 0 | Y38: 0 | Z38: 0 | AA38: 0
... P103: 1 | Q103: {=(1-$P103)*TRANSPOSE($F$2:$F$7)} -> 0 | R103: 0 | S103: 0 | T103: 0 | U103: 0 | V103: 0 | W103: {=$P103*TRANSPOSE($F$8:$F$12)} -> 0 | X103: 0 | Y103: 0 | Z103: 0 | AA103: 0

Sheet ES. di Metaport.
A1: ASSET CLASSES | B1: Metaportfolio (Banca Media del Centro Italia)
A2: Money Market Area € | B2: 0.00026421701
A3: Bond Area € Short Term | B3: 0.01963632
A4: Bond Area € All Maturities | B4: 0.32344321
A5: Bond € Corporate | B5: 0.054352288
A6: Bond Global | B6: 0.076320393
A7: Bond Global HY | B7: 0.0073157946
A8: Bond Emerging Mkts | B8: 0.054226423
A9: Equity Europe | B9: 0.065554189
A10: Equity North America | B10: 0.057108941
A11: Equity Pacific | B11: 0.01446757
A12: Equity Emerging Markets | B12: 0.034012546
A13: Opportunities | B13: 0.018786135
... A15: Flexible Funds medium-high risk | B15: 0.059522439
B16: 1

Sheet Mark opt
A1: Asset Class | B1: E(r) | C1: s | D1: Pesi | G1: cov | H1: Bofa ML Euro 0-1 anni | I1: Bofa ML Bond Euro 1-3 Y | J1: Bofa ML Obbl. Euro | K1: Bofa ML Obbl. Globale | L1: ML Global HY | M1: Bofa ML Obbl Emergente | N1: MSCI Europe | O1: MSCI North America | P1: MSCI Pacific | Q1: MSCI Emerging Markets | R1: Opportunities
A2: Bofa ML Euro 0-1 anni | B2: 0.02 | C2: 0.0086802842 | G2: =A2 -> Bofa ML Euro 0-1 anni | H2: =$C2^2 -> 7.5347334e-05 | I2: 8.4124644e-05 | J2: 8.3378228e-05 | K2: 7.1342985e-05 | L2: -0.00017397431 | M2: -6.1542754e-05 | N2: -0.00033207095 | O2: -0.00039257831 | P2: -0.00034189094 | Q2: -0.00033686116 | R2: -0.00026083404
A3: Bofa ML Bond Euro 1-3 Y | B3: 0.029 | C3: 0.016887831 | G3: =A3 -> Bofa ML Bond Euro 1-3 Y | H3: 8.4124644e-05 | I3: =$C3^2 -> 0.00028519884 | J3: 0.00052850669 | K3: 0.000301066 | L3: -1.9639822e-06 | M3: 7.8226156e-05 | N3: -0.00044277805 | O3: -0.00057545911 | P3: -0.0002638948 | Q3: -0.00051360836 | R3: -0.00054852013
A4: Bofa ML Obbl. Euro | B4: 0.03255 | C4: 0.04168791 | G4: =A4 -> Bofa ML Obbl. Euro | H4: 8.3378228e-05 | I4: 0.00052850669 | J4: =$C4^2 -> 0.0017378818 | K4: 0.0012112773 | L4: 0.00043922155 | M4: 0.00082645978 | N4: -0.00036330969 | O4: -0.00033697727 | P4: -0.00023877628 | Q4: -0.0004320099 | R4: -0.00066831916
A5: Bofa ML Obbl. Globale | B5: 0.030122243 | C5: 0.069174632 | G5: =A5 -> Bofa ML Obbl. Globale | H5: 7.1342985e-05 | I5: 0.000301066 | J5: 0.0012112773 | K5: =$C5^2 -> 0.0047851297 | L5: 0.0023664839 | M5: 0.0025755328 | N5: -0.0023069931 | O5: 0.0008906135 | P5: 0.00028093602 | Q5: -0.0019456008 | R5: -0.00055598841
A6: ML Global HY | B6: 0.073 | C6: 0.11065841 | G6: =A6 -> ML Global HY | H6: -0.00017397431 | I6: -1.9639822e-06 | J6: 0.00043922155 | K6: 0.0023664839 | L6: =$C6^2 -> 0.012245283 | M6: 0.00983592 | N6: 0.010775571 | O6: 0.012850416 | P6: 0.010944858 | Q6: 0.01493782 | R6: 0.011378505
A7: Bofa ML Obbl Emergente | B7: 0.06 | C7: 0.12718802 | G7: =A7 -> Bofa ML Obbl Emergente | H7: -6.1542754e-05 | I7: 7.8226156e-05 | J7: 0.00082645978 | K7: 0.0025755328 | L7: 0.00983592 | M7: =$C7^2 -> 0.016176792 | N7: 0.010983252 | O7: 0.013100393 | P7: 0.012511455 | Q7: 0.019179196 | R7: 0.011104224
A8: MSCI Europe | B8: 0.065 | C8: 0.17527257 | G8: =A8 -> MSCI Europe | H8: -0.00033207095 | I8: -0.00044277805 | J8: -0.00036330969 | K8: -0.0023069931 | L8: 0.010775571 | M8: 0.010983252 | N8: =$C8^2 -> 0.030720472 | O8: 0.024597742 | P8: 0.022749367 | Q8: 0.030464166 | R8: 0.022943713
A9: MSCI North America | B9: 0.075 | C9: 0.178 | G9: =A9 -> MSCI North America | H9: -0.00039257831 | I9: -0.00057545911 | J9: -0.00033697727 | K9: 0.0008906135 | L9: 0.012850416 | M9: 0.013100393 | N9: 0.024597742 | O9: =$C9^2 -> 0.031684 | P9: 0.022144246 | Q9: 0.028532455 | R9: 0.023753384
A10: MSCI Pacific | B10: 0.068068267 | C10: 0.18555431 | G10: =A10 -> MSCI Pacific | H10: -0.00034189094 | I10: -0.0002638948 | J10: -0.00023877628 | K10: 0.00028093602 | L10: 0.010944858 | M10: 0.012511455 | N10: 0.022749367 | O10: 0.022144246 | P10: =$C10^2 -> 0.034430403 | Q10: 0.034107686 | R10: 0.02169613
A11: MSCI Emerging Markets | B11: 0.083775786 | C11: 0.23692683 | G11: =A11 -> MSCI Emerging Markets | H11: -0.00033686116 | I11: -0.00051360836 | J11: -0.0004320099 | K11: -0.0019456008 | L11: 0.01493782 | M11: 0.019179196 | N11: 0.030464166 | O11: 0.028532455 | P11: 0.034107686 | Q11: =$C11^2 -> 0.056134322 | R11: 0.028302038
A12: Opportunities | B12: 0.068743756 | C12: 0.15358287 | G12: =A12 -> Opportunities | H12: -0.00026083404 | I12: -0.00054852013 | J12: -0.00066831916 | K12: -0.00055598841 | L12: 0.011378505 | M12: 0.011104224 | N12: 0.022943713 | O12: 0.023753384 | P12: 0.02169613 | Q12: 0.028302038 | R12: =$C12^2 -> 0.023587697
A13: PORTAFOGLIO
G14: corr | H14: 1 | I14: 0.5738725 | J14: 0.23041386 | K14: 0.11881478 | L14: -0.18112014 | M14: -0.055743828 | N14: -0.21826445 | O14: -0.26406301 | P14: -0.21226705 | Q14: -0.1637958 | R14: -0.19565347
H15: 0.5738725 | I15: 1 | J15: 0.75070012 | K15: 0.25771576 | L15: -0.0010509432 | M15: 0.036419327 | N15: -0.14958852 | O15: -0.19895543 | P15: -0.08421431 | Q15: -0.12836421 | R15: -0.21148322
A16: Rendimento Target (R*) | H16: 0.23041386 | I16: 0.75070012 | J16: 1 | K16: 0.4200361 | L16: 0.095211435 | M16: 0.15587103 | N16: -0.049722496 | O16: -0.047196055 | P16: -0.030868108 | Q16: -0.04373905 | R16: -0.1043833
H17: 0.11881478 | I17: 0.25771576 | J17: 0.4200361 | K17: 1 | L17: 0.30915216 | M17: 0.29273459 | N17: -0.19027665 | O17: 0.075172263 | P17: 0.021887165 | Q17: -0.11871146 | R17: -0.052333058
H18: -0.18112014 | I18: -0.0010509432 | J18: 0.095211435 | K18: 0.30915216 | L18: 1 | M18: 0.69885067 | N18: 0.55557404 | O18: 0.67802855 | P18: 0.53303368 | Q18: 0.56975555 | R18: 0.66951145
H19: -0.055743828 | I19: 0.036419327 | J19: 0.15587103 | K19: 0.29273459 | L19: 0.69885067 | M19: 1 | N19: 0.49268665 | O19: 0.60138604 | P19: 0.53014001 | Q19: 0.6364583 | R19: 0.56845913
H20: -0.21826445 | I20: -0.14958852 | J20: -0.049722496 | K20: -0.19027665 | L20: 0.55557404 | M20: 0.49268665 | N20: 1 | O20: 0.81940102 | P20: 0.69949453 | Q20: 0.73360301 | R20: 0.85232846
H21: -0.26406301 | I21: -0.19895543 | J21: -0.047196055 | K21: 0.075172263 | L21: 0.67802855 | M21: 0.60138604 | N21: 0.81940102 | O21: 1 | P21: 0.69679505 | Q21: 0.70313726 | R21: 0.90302117
H22: -0.21226705 | I22: -0.08421431 | J22: -0.030868108 | K22: 0.021887165 | L22: 0.53303368 | M22: 0.53014001 | N22: 0.69949453 | O22: 0.69679505 | P22: 1 | Q22: 0.77583071 | R22: 0.76132213
H23: -0.1637958 | I23: -0.12836421 | J23: -0.04373905 | K23: -0.11871146 | L23: 0.56975555 | M23: 0.6364583 | N23: 0.73360301 | O23: 0.70313726 | P23: 0.77583071 | Q23: 1 | R23: 0.77778704
H24: -0.19565347 | I24: -0.21148322 | J24: -0.1043833 | K24: -0.052333058 | L24: 0.66951145 | M24: 0.56845913 | N24: 0.85232846 | O24: 0.90302117 | P24: 0.76132213 | Q24: 0.77778704 | R24: 1

Sheet Mark abs
A1: Asset Class | B1: E(r) | C1: s | D1: Weights | G1: COV | H1: {=TRANSPOSE(G2:G12)} -> Bofa ML Euro 0-1 anni | I1: Bofa ML Bond Euro 1-3 Y | J1: Bofa ML Obbl. Euro | K1: Bofa ML Obbl. Globale | L1: ML Global HY | M1: Bofa ML Obbl Emergente | N1: MSCI Europe | O1: MSCI North America | P1: MSCI Pacific | Q1: MSCI Emerging Markets | R1: Opportunities | U1: Asset Class | V1: Lower Bounds | W1: Upper Bounds
A2: ='Mark opt'!A2 -> Bofa ML Euro 0-1 anni | B2: ='Mark opt'!B2 -> 0.02 | C2: ='Mark opt'!C2 -> 0.0086802842 | D2: =1/11 -> 0.090909091 | G2: =A2 -> Bofa ML Euro 0-1 anni | H2: ='Mark opt'!H2 -> 7.5347334e-05 | I2: ='Mark opt'!I2 -> 8.4124644e-05 | J2: ='Mark opt'!J2 -> 8.3378228e-05 | K2: ='Mark opt'!K2 -> 7.1342985e-05 | L2: ='Mark opt'!L2 -> -0.00017397431 | M2: ='Mark opt'!M2 -> -6.1542754e-05 | N2: ='Mark opt'!N2 -> -0.00033207095 | O2: ='Mark opt'!O2 -> -0.00039257831 | ... R2: ='Mark opt'!R2 -> -0.00026083404 | U2: Money Mkt euro | V2: 0 | W2: 1
A3: ='Mark opt'!A3 -> Bofa ML Bond Euro 1-3 Y | B3: ='Mark opt'!B3 -> 0.029 | C3: ='Mark opt'!C3 -> 0.016887831 | D3: =1/11 -> 0.090909091 | G3: =A3 -> Bofa ML Bond Euro 1-3 Y | H3: ='Mark opt'!H3 -> 8.4124644e-05 | I3: ='Mark opt'!I3 -> 0.00028519884 | J3: ='Mark opt'!J3 -> 0.00052850669 | K3: ='Mark opt'!K3 -> 0.000301066 | L3: ='Mark opt'!L3 -> -1.9639822e-06 | M3: ='Mark opt'!M3 -> 7.8226156e-05 | N3: ='Mark opt'!N3 -> -0.00044277805 | O3: ='Mark opt'!O3 -> -0.00057545911 | ... R3: ='Mark opt'!R3 -> -0.00054852013 | U3: Bond € Short Term | V3: 0 | W3: 1
A4: ='Mark opt'!A4 -> Bofa ML Obbl. Euro | B4: ='Mark opt'!B4 -> 0.03255 | C4: ='Mark opt'!C4 -> 0.04168791 | D4: =1/11 -> 0.090909091 | G4: =A4 -> Bofa ML Obbl. Euro | H4: ='Mark opt'!H4 -> 8.3378228e-05 | I4: ='Mark opt'!I4 -> 0.00052850669 | J4: ='Mark opt'!J4 -> 0.0017378818 | K4: ='Mark opt'!K4 -> 0.0012112773 | L4: ='Mark opt'!L4 -> 0.00043922155 | M4: ='Mark opt'!M4 -> 0.00082645978 | N4: ='Mark opt'!N4 -> -0.00036330969 | O4: ='Mark opt'!O4 -> -0.00033697727 | ... R4: ='Mark opt'!R4 -> -0.00066831916 | U4: Bond € MLT | V4: 0 | W4: 1
A5: ='Mark opt'!A5 -> Bofa ML Obbl. Globale | B5: ='Mark opt'!B5 -> 0.030122243 | C5: ='Mark opt'!C5 -> 0.069174632 | D5: =1/11 -> 0.090909091 | G5: =A5 -> Bofa ML Obbl. Globale | H5: ='Mark opt'!H5 -> 7.1342985e-05 | I5: ='Mark opt'!I5 -> 0.000301066 | J5: ='Mark opt'!J5 -> 0.0012112773 | K5: ='Mark opt'!K5 -> 0.0047851297 | L5: ='Mark opt'!L5 -> 0.0023664839 | M5: ='Mark opt'!M5 -> 0.0025755328 | N5: ='Mark opt'!N5 -> -0.0023069931 | O5: ='Mark opt'!O5 -> 0.0008906135 | ... R5: ='Mark opt'!R5 -> -0.00055598841 | U5: Global Bond Dev Mkts | V5: 0 | W5: 1
A6: ='Mark opt'!A6 -> ML Global HY | B6: ='Mark opt'!B6 -> 0.073 | C6: ='Mark opt'!C6 -> 0.11065841 | D6: =1/11 -> 0.090909091 | G6: =A6 -> ML Global HY | H6: ='Mark opt'!H6 -> -0.00017397431 | I6: ='Mark opt'!I6 -> -1.9639822e-06 | J6: ='Mark opt'!J6 -> 0.00043922155 | K6: ='Mark opt'!K6 -> 0.0023664839 | L6: ='Mark opt'!L6 -> 0.012245283 | M6: ='Mark opt'!M6 -> 0.00983592 | N6: ='Mark opt'!N6 -> 0.010775571 | O6: ='Mark opt'!O6 -> 0.012850416 | ... R6: ='Mark opt'!R6 -> 0.011378505 | U6: Bond Corp. High Yield | V6: 0 | W6: 1
A7: ='Mark opt'!A7 -> Bofa ML Obbl Emergente | B7: ='Mark opt'!B7 -> 0.06 | C7: ='Mark opt'!C7 -> 0.12718802 | D7: =1/11 -> 0.090909091 | G7: =A7 -> Bofa ML Obbl Emergente | H7: ='Mark opt'!H7 -> -6.1542754e-05 | I7: ='Mark opt'!I7 -> 7.8226156e-05 | J7: ='Mark opt'!J7 -> 0.00082645978 | K7: ='Mark opt'!K7 -> 0.0025755328 | L7: ='Mark opt'!L7 -> 0.00983592 | M7: ='Mark opt'!M7 -> 0.016176792 | N7: ='Mark opt'!N7 -> 0.010983252 | O7: ='Mark opt'!O7 -> 0.013100393 | ... R7: ='Mark opt'!R7 -> 0.011104224 | U7: Bond Emerg. Markets | V7: 0 | W7: 1
A8: ='Mark opt'!A8 -> MSCI Europe | B8: ='Mark opt'!B8 -> 0.065 | C8: ='Mark opt'!C8 -> 0.17527257 | D8: =1/11 -> 0.090909091 | G8: =A8 -> MSCI Europe | H8: ='Mark opt'!H8 -> -0.00033207095 | I8: ='Mark opt'!I8 -> -0.00044277805 | J8: ='Mark opt'!J8 -> -0.00036330969 | K8: ='Mark opt'!K8 -> -0.0023069931 | L8: ='Mark opt'!L8 -> 0.010775571 | M8: ='Mark opt'!M8 -> 0.010983252 | N8: ='Mark opt'!N8 -> 0.030720472 | O8: ='Mark opt'!O8 -> 0.024597742 | ... R8: ='Mark opt'!R8 -> 0.022943713 | U8: Equ Europe | V8: 0 | W8: 1
A9: ='Mark opt'!A9 -> MSCI North America | B9: ='Mark opt'!B9 -> 0.075 | C9: ='Mark opt'!C9 -> 0.178 | D9: =1/11 -> 0.090909091 | G9: =A9 -> MSCI North America | H9: ='Mark opt'!H9 -> -0.00039257831 | I9: ='Mark opt'!I9 -> -0.00057545911 | J9: ='Mark opt'!J9 -> -0.00033697727 | K9: ='Mark opt'!K9 -> 0.0008906135 | L9: ='Mark opt'!L9 -> 0.012850416 | M9: ='Mark opt'!M9 -> 0.013100393 | N9: ='Mark opt'!N9 -> 0.024597742 | O9: ='Mark opt'!O9 -> 0.031684 | ... R9: ='Mark opt'!R9 -> 0.023753384 | U9: Equ North America | V9: 0 | W9: 1
A10: ='Mark opt'!A10 -> MSCI Pacific | B10: ='Mark opt'!B10 -> 0.068068267 | C10: ='Mark opt'!C10 -> 0.18555431 | D10: =1/11 -> 0.090909091 | G10: =A10 -> MSCI Pacific | H10: ='Mark opt'!H10 -> -0.00034189094 | I10: ='Mark opt'!I10 -> -0.0002638948 | J10: ='Mark opt'!J10 -> -0.00023877628 | K10: ='Mark opt'!K10 -> 0.00028093602 | L10: ='Mark opt'!L10 -> 0.010944858 | M10: ='Mark opt'!M10 -> 0.012511455 | N10: ='Mark opt'!N10 -> 0.022749367 | O10: ='Mark opt'!O10 -> 0.022144246 | ... R10: ='Mark opt'!R10 -> 0.02169613 | U10: Equ Pacific | V10: 0 | W10: 1
A11: ='Mark opt'!A11 -> MSCI Emerging Markets | B11: ='Mark opt'!B11 -> 0.083775786 | C11: ='Mark opt'!C11 -> 0.23692683 | D11: =1/11 -> 0.090909091 | G11: =A11 -> MSCI Emerging Markets | H11: ='Mark opt'!H11 -> -0.00033686116 | I11: ='Mark opt'!I11 -> -0.00051360836 | J11: ='Mark opt'!J11 -> -0.0004320099 | K11: ='Mark opt'!K11 -> -0.0019456008 | L11: ='Mark opt'!L11 -> 0.01493782 | M11: ='Mark opt'!M11 -> 0.019179196 | N11: ='Mark opt'!N11 -> 0.030464166 | O11: ='Mark opt'!O11 -> 0.028532455 | ... R11: ='Mark opt'!R11 -> 0.028302038 | U11: Equ Emerg. Markets | V11: 0 | W11: 1
A12: ='Mark opt'!A12 -> Opportunities | B12: ='Mark opt'!B12 -> 0.068743756 | C12: ='Mark opt'!C12 -> 0.15358287 | D12: =1/11 -> 0.090909091 | G12: =A12 -> Opportunities | H12: ='Mark opt'!H12 -> -0.00026083404 | I12: ='Mark opt'!I12 -> -0.00054852013 | J12: ='Mark opt'!J12 -> -0.00066831916 | K12: ='Mark opt'!K12 -> -0.00055598841 | L12: ='Mark opt'!L12 -> 0.011378505 | M12: ='Mark opt'!M12 -> 0.011104224 | N12: ='Mark opt'!N12 -> 0.022943713 | O12: ='Mark opt'!O12 -> 0.023753384 | ... R12: ='Mark opt'!R12 -> 0.023587697 | U12: Opportunities | V12: 0 | W12: 1
A13: Portafoglio | B13: {=MMULT(TRANSPOSE(D2:D12),B2:B12)} -> 0.055023641 | C13: {=SQRT(MMULT(MMULT(TRANSPOSE(D2:D12),H2:R12),D2:D12))} -> 0.091042359 | D13: =SUM(D2:D12) -> 1
A16: Rendimento Target (R*)
H27: Weights
A28: s | B28: E(r) | H28: =H14 -> 0 | I28: =I14 -> 0 | J28: =J14 -> 0 | K28: =K14 -> 0 | L28: =L14 -> 0 | M28: =M14 -> 0 | N28: =N14 -> 0 | O28: =O14 -> 0 | ... R28: =R14 -> 0
B29: 0.0017989001
B30: 0.005
B31: 0.01
B32: 0.015
B33: 0.02
B34: 0.025
B35: 0.03
B36: 0.035
B37: 0.04
B38: 0.05
B39: 0.06
B40: 0.07
B41: 0.080096941

Sheet Mark infra optim
A1: ASSET CLASSES | B1: E(r) | C1: s | D1: Pesi | G1: cov | H1: Bofa ML Euro 0-1 anni | I1: Bofa ML Bond Euro 1-3 Y | J1: Bofa ML Obbl. Euro | K1: Bofa ML Obbl. Globale | L1: ML Global HY | M1: Bofa ML Obbl Emergente | N1: MSCI Europe | O1: MSCI North America | P1: MSCI Pacific | Q1: MSCI Emerging Markets | R1: Opportunities | T1: Asset Class | U1: min | V1: MKT NEUTR | W1: MAX
A2: ='Mark opt'!A2 -> Bofa ML Euro 0-1 anni | B2: ='Mark opt'!B2 -> 0.02 | C2: ='Mark opt'!C2 -> 0.0086802842 | D2: =1/11 -> 0.090909091 | G2: =A2 -> Bofa ML Euro 0-1 anni | H2: ='Mark opt'!H2 -> 7.5347334e-05 | I2: ='Mark opt'!I2 -> 8.4124644e-05 | J2: ='Mark opt'!J2 -> 8.3378228e-05 | K2: ='Mark opt'!K2 -> 7.1342985e-05 | L2: ='Mark opt'!L2 -> -0.00017397431 | M2: ='Mark opt'!M2 -> -6.1542754e-05 | N2: ='Mark opt'!N2 -> -0.00033207095 | O2: ='Mark opt'!O2 -> -0.00039257831 | ... R2: ='Mark opt'!R2 -> -0.00026083404 | T2: =A2 -> Bofa ML Euro 0-1 anni
A3: ='Mark opt'!A3 -> Bofa ML Bond Euro 1-3 Y | B3: ='Mark opt'!B3 -> 0.029 | C3: ='Mark opt'!C3 -> 0.016887831 | D3: =1/11 -> 0.090909091 | G3: =A3 -> Bofa ML Bond Euro 1-3 Y | H3: ='Mark opt'!H3 -> 8.4124644e-05 | I3: ='Mark opt'!I3 -> 0.00028519884 | J3: ='Mark opt'!J3 -> 0.00052850669 | K3: ='Mark opt'!K3 -> 0.000301066 | L3: ='Mark opt'!L3 -> -1.9639822e-06 | M3: ='Mark opt'!M3 -> 7.8226156e-05 | N3: ='Mark opt'!N3 -> -0.00044277805 | O3: ='Mark opt'!O3 -> -0.00057545911 | ... R3: ='Mark opt'!R3 -> -0.00054852013 | T3: =A3 -> Bofa ML Bond Euro 1-3 Y
A4: ='Mark opt'!A4 -> Bofa ML Obbl. Euro | B4: ='Mark opt'!B4 -> 0.03255 | C4: ='Mark opt'!C4 -> 0.04168791 | D4: =1/11 -> 0.090909091 | G4: =A4 -> Bofa ML Obbl. Euro | H4: ='Mark opt'!H4 -> 8.3378228e-05 | I4: ='Mark opt'!I4 -> 0.00052850669 | J4: ='Mark opt'!J4 -> 0.0017378818 | K4: ='Mark opt'!K4 -> 0.0012112773 | L4: ='Mark opt'!L4 -> 0.00043922155 | M4: ='Mark opt'!M4 -> 0.00082645978 | N4: ='Mark opt'!N4 -> -0.00036330969 | O4: ='Mark opt'!O4 -> -0.00033697727 | ... R4: ='Mark opt'!R4 -> -0.00066831916 | T4: =A4 -> Bofa ML Obbl. Euro
A5: ='Mark opt'!A5 -> Bofa ML Obbl. Globale | B5: ='Mark opt'!B5 -> 0.030122243 | C5: ='Mark opt'!C5 -> 0.069174632 | D5: =1/11 -> 0.090909091 | G5: =A5 -> Bofa ML Obbl. Globale | H5: ='Mark opt'!H5 -> 7.1342985e-05 | I5: ='Mark opt'!I5 -> 0.000301066 | J5: ='Mark opt'!J5 -> 0.0012112773 | K5: ='Mark opt'!K5 -> 0.0047851297 | L5: ='Mark opt'!L5 -> 0.0023664839 | M5: ='Mark opt'!M5 -> 0.0025755328 | N5: ='Mark opt'!N5 -> -0.0023069931 | O5: ='Mark opt'!O5 -> 0.0008906135 | ... R5: ='Mark opt'!R5 -> -0.00055598841 | T5: =A5 -> Bofa ML Obbl. Globale
A6: ='Mark opt'!A6 -> ML Global HY | B6: ='Mark opt'!B6 -> 0.073 | C6: ='Mark opt'!C6 -> 0.11065841 | D6: =1/11 -> 0.090909091 | G6: =A6 -> ML Global HY | H6: ='Mark opt'!H6 -> -0.00017397431 | I6: ='Mark opt'!I6 -> -1.9639822e-06 | J6: ='Mark opt'!J6 -> 0.00043922155 | K6: ='Mark opt'!K6 -> 0.0023664839 | L6: ='Mark opt'!L6 -> 0.012245283 | M6: ='Mark opt'!M6 -> 0.00983592 | N6: ='Mark opt'!N6 -> 0.010775571 | O6: ='Mark opt'!O6 -> 0.012850416 | ... R6: ='Mark opt'!R6 -> 0.011378505 | T6: =A6 -> ML Global HY
A7: ='Mark opt'!A7 -> Bofa ML Obbl Emergente | B7: ='Mark opt'!B7 -> 0.06 | C7: ='Mark opt'!C7 -> 0.12718802 | D7: =1/11 -> 0.090909091 | G7: =A7 -> Bofa ML Obbl Emergente | H7: ='Mark opt'!H7 -> -6.1542754e-05 | I7: ='Mark opt'!I7 -> 7.8226156e-05 | J7: ='Mark opt'!J7 -> 0.00082645978 | K7: ='Mark opt'!K7 -> 0.0025755328 | L7: ='Mark opt'!L7 -> 0.00983592 | M7: ='Mark opt'!M7 -> 0.016176792 | N7: ='Mark opt'!N7 -> 0.010983252 | O7: ='Mark opt'!O7 -> 0.013100393 | ... R7: ='Mark opt'!R7 -> 0.011104224 | T7: =A7 -> Bofa ML Obbl Emergente
A8: ='Mark opt'!A8 -> MSCI Europe | B8: ='Mark opt'!B8 -> 0.065 | C8: ='Mark opt'!C8 -> 0.17527257 | D8: =1/11 -> 0.090909091 | G8: =A8 -> MSCI Europe | H8: ='Mark opt'!H8 -> -0.00033207095 | I8: ='Mark opt'!I8 -> -0.00044277805 | J8: ='Mark opt'!J8 -> -0.00036330969 | K8: ='Mark opt'!K8 -> -0.0023069931 | L8: ='Mark opt'!L8 -> 0.010775571 | M8: ='Mark opt'!M8 -> 0.010983252 | N8: ='Mark opt'!N8 -> 0.030720472 | O8: ='Mark opt'!O8 -> 0.024597742 | ... R8: ='Mark opt'!R8 -> 0.022943713 | T8: =A8 -> MSCI Europe
A9: ='Mark opt'!A9 -> MSCI North America | B9: ='Mark opt'!B9 -> 0.075 | C9: ='Mark opt'!C9 -> 0.178 | D9: =1/11 -> 0.090909091 | G9: =A9 -> MSCI North America | H9: ='Mark opt'!H9 -> -0.00039257831 | I9: ='Mark opt'!I9 -> -0.00057545911 | J9: ='Mark opt'!J9 -> -0.00033697727 | K9: ='Mark opt'!K9 -> 0.0008906135 | L9: ='Mark opt'!L9 -> 0.012850416 | M9: ='Mark opt'!M9 -> 0.013100393 | N9: ='Mark opt'!N9 -> 0.024597742 | O9: ='Mark opt'!O9 -> 0.031684 | ... R9: ='Mark opt'!R9 -> 0.023753384 | T9: =A9 -> MSCI North America
A10: ='Mark opt'!A10 -> MSCI Pacific | B10: ='Mark opt'!B10 -> 0.068068267 | C10: ='Mark opt'!C10 -> 0.18555431 | D10: =1/11 -> 0.090909091 | G10: =A10 -> MSCI Pacific | H10: ='Mark opt'!H10 -> -0.00034189094 | I10: ='Mark opt'!I10 -> -0.0002638948 | J10: ='Mark opt'!J10 -> -0.00023877628 | K10: ='Mark opt'!K10 -> 0.00028093602 | L10: ='Mark opt'!L10 -> 0.010944858 | M10: ='Mark opt'!M10 -> 0.012511455 | N10: ='Mark opt'!N10 -> 0.022749367 | O10: ='Mark opt'!O10 -> 0.022144246 | ... R10: ='Mark opt'!R10 -> 0.02169613 | T10: =A10 -> MSCI Pacific
A11: ='Mark opt'!A11 -> MSCI Emerging Markets | B11: ='Mark opt'!B11 -> 0.083775786 | C11: ='Mark opt'!C11 -> 0.23692683 | D11: =1/11 -> 0.090909091 | G11: =A11 -> MSCI Emerging Markets | H11: ='Mark opt'!H11 -> -0.00033686116 | I11: ='Mark opt'!I11 -> -0.00051360836 | J11: ='Mark opt'!J11 -> -0.0004320099 | K11: ='Mark opt'!K11 -> -0.0019456008 | L11: ='Mark opt'!L11 -> 0.01493782 | M11: ='Mark opt'!M11 -> 0.019179196 | N11: ='Mark opt'!N11 -> 0.030464166 | O11: ='Mark opt'!O11 -> 0.028532455 | ... R11: ='Mark opt'!R11 -> 0.028302038 | T11: =A11 -> MSCI Emerging Markets
A12: ='Mark opt'!A12 -> Opportunities | B12: ='Mark opt'!B12 -> 0.068743756 | C12: ='Mark opt'!C12 -> 0.15358287 | D12: =1/11 -> 0.090909091 | G12: =A12 -> Opportunities | H12: ='Mark opt'!H12 -> -0.00026083404 | I12: ='Mark opt'!I12 -> -0.00054852013 | J12: ='Mark opt'!J12 -> -0.00066831916 | K12: ='Mark opt'!K12 -> -0.00055598841 | L12: ='Mark opt'!L12 -> 0.011378505 | M12: ='Mark opt'!M12 -> 0.011104224 | N12: ='Mark opt'!N12 -> 0.022943713 | O12: ='Mark opt'!O12 -> 0.023753384 | ... R12: ='Mark opt'!R12 -> 0.023587697 | T12: =A12 -> Opportunities
A13: PORTFOLIO | B13: {=MMULT(TRANSPOSE(D2:D12),B2:B12)} -> 0.055023641 | C13: {=SQRT(MMULT(MMULT(TRANSPOSE(D2:D12),H2:R12),D2:D12))} -> 0.091042359 | D13: =SUM(D2:D12) -> 1
A16: Rendimento Target (R*)

Sheet MC Sim
A1: Azionario Europa | B1: Aspettativa | C1: Simulazione | E1: rand numb | F1: simul returns | L1: Rand
A2: Rendimento Atteso | B2: ='Mark opt'!B7 -> 0.06 | L2: =RAND() -> 0.85046949 | M2: =NORMINV(L2,$B$2,$B$3) -> 0.19207828
A3: Deviazione Standard | B3: ='Mark opt'!C7 -> 0.12718802 | L3: =RAND() -> 0.76844706 | M3: =NORMINV(L3,$B$2,$B$3) -> 0.15332321
L4: =RAND() -> 0.61225109 | M4: =NORMINV(L4,$B$2,$B$3) -> 0.096272878
L5: =RAND() -> 0.89566351 | M5: =NORMINV(L5,$B$2,$B$3) -> 0.21990367
L6: =RAND() -> 0.55243455 | M6: =NORMINV(L6,$B$2,$B$3) -> 0.076765245
L7: =RAND() -> 0.62992136 | M7: =NORMINV(L7,$B$2,$B$3) -> 0.10218128
L8: =RAND() -> 0.67989974 | M8: =NORMINV(L8,$B$2,$B$3) -> 0.11945002
L9: =RAND() -> 0.63909146 | M9: =NORMINV(L9,$B$2,$B$3) -> 0.10528292
L10: =RAND() -> 0.14794694 | M10: =NORMINV(L10,$B$2,$B$3) -> -0.072947005
L11: =RAND() -> 0.79937398 | M11: =NORMINV(L11,$B$2,$B$3) -> 0.16676
L12: =RAND() -> 0.89828673 | M12: =NORMINV(L12,$B$2,$B$3) -> 0.22176403
L13: =RAND() -> 0.77079758 | M13: =NORMINV(L13,$B$2,$B$3) -> 0.15430687
L14: =RAND() -> 0.11673603 | M14: =NORMINV(L14,$B$2,$B$3) -> -0.091539753
L15: =RAND() -> 0.51609314 | M15: =NORMINV(L15,$B$2,$B$3) -> 0.065132097
... L504: =RAND() -> 0.39243539 | M504: =NORMINV(L504,$B$2,$B$3) -> 0.025280579
F505: =AVERAGE(F2:F502) -> #DIV/0! | L505: =RAND() -> 0.80108765 | M505: =NORMINV(L505,$B$2,$B$3) -> 0.16753907
F506: =STDEV(F2:F502) -> #DIV/0! | L506: =RAND() -> 0.63891767 | M506: =NORMINV(L506,$B$2,$B$3) -> 0.1052239
L507: =RAND() -> 0.027525459 | M507: =NORMINV(L507,$B$2,$B$3) -> -0.18400692
L508: =RAND() -> 0.51848325 | M508: =NORMINV(L508,$B$2,$B$3) -> 0.06589481
L509: =RAND() -> 0.52838913 | M509: =NORMINV(L509,$B$2,$B$3) -> 0.069058477
L510: =RAND() -> 0.25622767 | M510: =NORMINV(L510,$B$2,$B$3) -> -0.023310605
L511: =RAND() -> 0.76631652 | M511: =NORMINV(L511,$B$2,$B$3) -> 0.15243642
L512: =RAND() -> 0.88292664 | M512: =NORMINV(L512,$B$2,$B$3) -> 0.21132128
L513: =RAND() -> 0.73769923 | M513: =NORMINV(L513,$B$2,$B$3) -> 0.14092571
L514: =RAND() -> 0.22475848 | M514: =NORMINV(L514,$B$2,$B$3) -> -0.036182197
L515: =RAND() -> 0.8371582 | M515: =NORMINV(L515,$B$2,$B$3) -> 0.18500614
L516: =RAND() -> 0.35023504 | M516: =NORMINV(L516,$B$2,$B$3) -> 0.011072553
L517: =RAND() -> 0.34074447 | M517: =NORMINV(L517,$B$2,$B$3) -> 0.0077979428
L518: =RAND() -> 0.37312953 | M518: =NORMINV(L518,$B$2,$B$3) -> 0.01884501
... L1001: =RAND() -> 0.28469495 | M1001: =NORMINV(L1001,$B$2,$B$3) -> -0.012363656

Sheet Sim MC1 n MKT
V1: MODELLO MONTECARLO
V2: DATI DA UNIFORME (0;1) | AA2: Calcolare valore della Norm standardizzata | AF2: calcola norm stand con correlazioni | AK2: Simulazioni finali | AP2: Cholesky | AQ2: MSCI Europe | AR2: MSCI USA | AS2: MSCI Japan | AT2: MSCI EM
A3: From ESTIMATION…… | G3: …. To SIMULATION | V3: MSCI Europe | W3: MSCI USA | X3: MSCI Japan | Y3: MSCI EM | AA3: MSCI Europe | AB3: MSCI USA | AC3: MSCI Japan | AD3: MSCI EM | AF3: MSCI Europe | AG3: MSCI USA | AH3: MSCI Japan | AI3: MSCI EM | AK3: MSCI Europe | AL3: MSCI USA | AM3: MSCI Japan | AN3: MSCI EM | AP3: MSCI Europe | AQ3: 1 | AR3: 0.85 | AS3: 0.6 | AT3: 0.76
B4: MSCI Europe | C4: MSCI USA | D4: MSCI Japan | E4: MSCI EM | H4: MSCI Europe | I4: MSCI USA | J4: MSCI Japan | K4: MSCI EM | V4: =RAND() -> 0.91356266 | W4: =RAND() -> 0.56816837 | X4: =RAND() -> 0.32857729 | Y4: =RAND() -> 0.25989231 | AA4: =NORMSINV(V4) -> 1.3630248 | AB4: =NORMSINV(W4) -> 0.17171288 | AC4: =NORMSINV(X4) -> -0.44384509 | AD4: =NORMSINV(Y4) -> -0.64367744 | AF4: {=MMULT(AA4:AD4,$AQ$3:$AT$6)} -> 1.3630248 | AG4: 1.2490265 | AH4: 0.52853977 | AI4: 0.61588103 | AK4: =B$5+AF4*B$6 -> 0.34260497 | AL4: =C$5+AG4*C$6 -> 0.32229556 | AM4: =D$5+AH4*D$6 -> 0.16550707 | AN4: =E$5+AI4*E$6 -> 0.2586055 | AP4: MSCI USA | AQ4: 0 | AR4: 0.52678269 | AS4: 0.26576424 | AT4: 0.21640802
A5: E(R) | B5: 0.07 | C5: 0.06 | D5: 0.045 | E5: 0.08 | G5: E(R) | H5: =AVERAGE(AK4:AK153) -> 0.081370745 | I5: =AVERAGE(AL4:AL153) -> 0.059876739 | J5: =AVERAGE(AM4:AM153) -> 0.050064227 | K5: =AVERAGE(AN4:AN153) -> 0.095451553 | V5: =RAND() -> 0.40298692 | W5: =RAND() -> 0.53151864 | X5: =RAND() -> 0.88277888 | Y5: =RAND() -> 0.38693361 | AA5: =NORMSINV(V5) -> -0.24562331 | AB5: =NORMSINV(W5) -> 0.079087878 | AC5: =NORMSINV(X5) -> 1.1889935 | AD5: =NORMSINV(Y5) -> -0.28732011 | AF5: {=MMULT(AA5:AD5,$AQ$3:$AT$6)} -> -0.24562331 | AG5: -0.16711769 | AH5: 0.77081841 | AI5: -0.12272791 | AK5: =B$5+AF5*B$6 -> 0.020875337 | AL5: =C$5+AG5*C$6 -> 0.024905285 | AM5: =D$5+AH5*D$6 -> 0.2207466 | AN5: =E$5+AI5*E$6 -> 0.044408906 | AP5: MSCI Japan | AQ5: 0 | AR5: 0 | AS5: 0.75456568 | AT5: 0.18088086
A6: s | B6: 0.2 | C6: 0.21 | D6: 0.228 | E6: 0.29 | G6: s | H6: =STDEVP(AK4:AK153) -> 0.19140689 | I6: =STDEVP(AL4:AL153) -> 0.19909652 | J6: =STDEVP(AM4:AM153) -> 0.21432982 | K6: =STDEVP(AN4:AN153) -> 0.27717797 | V6: =RAND() -> 0.94612548 | W6: =RAND() -> 0.67367427 | X6: =RAND() -> 0.30526033 | Y6: =RAND() -> 0.84710821 | AA6: =NORMSINV(V6) -> 1.6083934 | AB6: =NORMSINV(W6) -> 0.4500818 | AC6: =NORMSINV(X6) -> -0.50933039 | AD6: =NORMSINV(Y6) -> 1.0241095 | AF6: {=MMULT(AA6:AD6,$AQ$3:$AT$6)} -> 1.6083934 | AG6: 1.6042297 | AH6: 0.70032844 | AI6: 1.8273027 | AK6: =B$5+AF6*B$6 -> 0.39167868 | AL6: =C$5+AG6*C$6 -> 0.39688823 | AM6: =D$5+AH6*D$6 -> 0.20467488 | AN6: =E$5+AI6*E$6 -> 0.60991779 | AP6: MSCI EM | AQ6: 0 | AR6: 0 | AS6: 0 | AT6: 0.58553367
V7: =RAND() -> 0.84341074 | W7: =RAND() -> 0.9135865 | X7: =RAND() -> 0.44265575 | Y7: =RAND() -> 0.49219269 | AA7: =NORMSINV(V7) -> 1.008575 | AB7: =NORMSINV(W7) -> 1.3631761 | AC7: =NORMSINV(X7) -> -0.14423932 | AD7: =NORMSINV(Y7) -> -0.01957128 | AF7: {=MMULT(AA7:AD7,$AQ$3:$AT$6)} -> 1.008575 | AG7: 1.5753863 | AH7: 0.85859041 | AI7: 1.0239695 | AK7: =B$5+AF7*B$6 -> 0.27171499 | AL7: =C$5+AG7*C$6 -> 0.39083113 | AM7: =D$5+AH7*D$6 -> 0.24075861 | AN7: =E$5+AI7*E$6 -> 0.37695114
B8: MSCI Europe | C8: MSCI USA | D8: MSCI Japan | E8: MSCI EM | H8: MSCI Europe | I8: MSCI USA | J8: MSCI Japan | K8: MSCI EM | V8: =RAND() -> 0.89232433 | W8: =RAND() -> 0.17745257 | X8: =RAND() -> 0.74735903 | Y8: =RAND() -> 0.40928261 | AA8: =NORMSINV(V8) -> 1.2389842 | AB8: =NORMSINV(W8) -> -0.92511682 | AC8: =NORMSINV(X8) -> 0.66620209 | AD8: =NORMSINV(Y8) -> -0.22939076 | AF8: {=MMULT(AA8:AD8,$AQ$3:$AT$6)} -> 1.2389842 | AG8: 0.56580104 | AH8: 1.0002208 | AI8: 0.72761248 | AK8: =B$5+AF8*B$6 -> 0.31779684 | AL8: =C$5+AG8*C$6 -> 0.17881822 | AM8: =D$5+AH8*D$6 -> 0.27305034 | AN8: =E$5+AI8*E$6 -> 0.29100762
A9: MSCI Europe | B9: 1 | G9: MSCI Europe | H9: 1 | V9: =RAND() -> 0.32021054 | W9: =RAND() -> 0.88956757 | X9: =RAND() -> 0.79717714 | Y9: =RAND() -> 0.37155194 | AA9: =NORMSINV(V9) -> -0.46711013 | AB9: =NORMSINV(W9) -> 1.2242316 | AC9: =NORMSINV(X9) -> 0.83158058 | AD9: =NORMSINV(Y9) -> -0.32774579 | AF9: {=MMULT(AA9:AD9,$AQ$3:$AT$6)} -> -0.46711013 | AG9: 0.24786042 | AH9: 0.67257307 | AI9: -0.13155935 | AK9: =B$5+AF9*B$6 -> -0.023422027 | AL9: =C$5+AG9*C$6 -> 0.11205069 | AM9: =D$5+AH9*D$6 -> 0.19834666 | AN9: =E$5+AI9*E$6 -> 0.04184779
A10: MSCI USA | B10: 0.85 | C10: 1 | G10: MSCI USA | H10: =CORREL(AK4:AK153,AL4:AL153) -> 0.8597557 | I10: 1 | V10: =RAND() -> 0.083982348 | W10: =RAND() -> 0.38486182 | X10: =RAND() -> 0.63214325 | Y10: =RAND() -> 0.2129429 | AA10: =NORMSINV(V10) -> -1.3787732 | AB10: =NORMSINV(W10) -> -0.29273641 | AC10: =NORMSINV(X10) -> 0.33753517 | AD10: =NORMSINV(Y10) -> -0.79625161 | AF10: {=MMULT(AA10:AD10,$AQ$3:$AT$6)} -> -1.3787732 | AG10: -1.3261657 | AH10: -0.65037033 | AI10: -1.5163966 | AK10: =B$5+AF10*B$6 -> -0.20575464 | AL10: =C$5+AG10*C$6 -> -0.21849479 | AM10: =D$5+AH10*D$6 -> -0.10328443 | AN10: =E$5+AI10*E$6 -> -0.35975502
A11: MSCI Japan | B11: 0.6 | C11: 0.65 | D11: 1 | G11: MSCI Japan | H11: =CORREL(AK4:AK153,AM4:AM153) -> 0.54864283 | I11: =CORREL(AL4:AL153,AM4:AM153) -> 0.6222097 | J11: 1 | M11: HIGH CONFIDENCE | V11: =RAND() -> 0.69060287 | W11: =RAND() -> 0.29472 | X11: =RAND() -> 0.43325072 | Y11: =RAND() -> 0.90056674 | AA11: =NORMSINV(V11) -> 0.49755992 | AB11: =NORMSINV(W11) -> -0.53964772 | AC11: =NORMSINV(X11) -> -0.16810402 | AD11: =NORMSINV(Y11) -> 1.2847876 | AF11: {=MMULT(AA11:AD11,$AQ$3:$AT$6)} -> 0.49755992 | AG11: 0.13864886 | AH11: 0.028271359 | AI11: 0.98324105 | AK11: =B$5+AF11*B$6 -> 0.16951198 | AL11: =C$5+AG11*C$6 -> 0.08911626 | AM11: =D$5+AH11*D$6 -> 0.05144587 | AN11: =E$5+AI11*E$6 -> 0.36513991
A12: MSCI EM | B12: 0.76 | C12: 0.76 | D12: 0.65 | E12: 1 | G12: MSCI EM | H12: =CORREL(AK4:AK153,AN4:AN153) -> 0.77165769 | I12: =CORREL(AL4:AL153,AN4:AN153) -> 0.7130869 | J12: =CORREL(AM4:AM153,AN4:AN153) -> 0.58747152 | K12: 1 | V12: =RAND() -> 0.76651542 | W12: =RAND() -> 0.28407694 | X12: =RAND() -> 0.0095966762 | Y12: =RAND() -> 0.069444523 | AA12: =NORMSINV(V12) -> 0.72741927 | AB12: =NORMSINV(W12) -> -0.57077247 | AC12: =NORMSINV(X12) -> -2.3417542 | AD12: =NORMSINV(Y12) -> -1.4799408 | AF12: {=MMULT(AA12:AD12,$AQ$3:$AT$6)} -> 0.72741927 | AG12: 0.31763332 | AH12: -1.4822467 | AI12: -0.86081477 | AK12: =B$5+AF12*B$6 -> 0.21548385 | AL12: =C$5+AG12*C$6 -> 0.126703 | AM12: =D$5+AH12*D$6 -> -0.29295224 | AN12: =E$5+AI12*E$6 -> -0.16963628
V13: =RAND() -> 0.81320516 | W13: =RAND() -> 0.051941853 | X13: =RAND() -> 0.83857228 | Y13: =RAND() -> 0.32840012 | AA13: =NORMSINV(V13) -> 0.88976948 | AB13: =NORMSINV(W13) -> -1.6263101 | AC13: =NORMSINV(X13) -> 0.98860703 | AD13: =NORMSINV(Y13) -> -0.44433522 | AF13: {=MMULT(AA13:AD13,$AQ$3:$AT$6)} -> 0.88976948 | AG13: -0.10040795 | AH13: 0.84761556 | AI13: 0.2429251 | AK13: =B$5+AF13*B$6 -> 0.2479539 | AL13: =C$5+AG13*C$6 -> 0.038914331 | AM13: =D$5+AH13*D$6 -> 0.23825635 | AN13: =E$5+AI13*E$6 -> 0.15044828
V14: =RAND() -> 0.41194909 | W14: =RAND() -> 0.44331629 | X14: =RAND() -> 0.10452904 | Y14: =RAND() -> 0.22138873 | AA14: =NORMSINV(V14) -> -0.22253403 | AB14: =NORMSINV(W14) -> -0.14256647 | AC14: =NORMSINV(X14) -> -1.2561597 | AD14: =NORMSINV(Y14) -> -0.7675115 | AF14: {=MMULT(AA14:AD14,$AQ$3:$AT$6)} -> -0.22253403 | AG14: -0.26425548 | AH14: -1.1192645 | AI14: -0.87659746 | AK14: =B$5+AF14*B$6 -> 0.025493194 | AL14: =C$5+AG14*C$6 -> 0.0045063499 | AM14: =D$5+AH14*D$6 -> -0.2101923 | AN14: =E$5+AI14*E$6 -> -0.17421326
