Workbook

Sheet GRIGLIA
A2: OT/Toll Risk | B2: B | C2: MB | D2: M | E2: MA | F2: A
A3: 1
A4: 3
A5: 5
A6: 10
A7: >10

Sheet Constit ACWI
A1: Constituents MSCI World All Country Index VECCHIA COMPOSIZIONE…..oltre 10 anni fa)
A2: ISIN | B2: BB Ticker | C2: Name | D2: Gics Sector | E2: Gics Industry Group | F2: Gics Industry | G2: Country | H2: Currency | I2: Weight | K2: Sectors | L2: 100
A3: US0378331005 | B3: AAPL UW | C3: APPLE INC | D3: Information Technology | E3: Technology Hardware & Equipmen | F3: Computers & Peripherals | G3: UNITED STATES | H3: USD | I3: 1.7623982 | K3: Information Technology | L3: 12.649187
A4: US30231G1022 | B4: XOM UN | C4: EXXON MOBIL CORP | D4: Energy | E4: Energy | F4: Oil, Gas & Consumable Fuels | G4: UNITED STATES | H4: USD | I4: 1.4738985 | K4: Energy | L4: 11.965988
A5: US5949181045 | B5: MSFT UW | C5: MICROSOFT CORP | D5: Information Technology | E5: Software & Services | F5: Software | G5: UNITED STATES | H5: USD | I5: 0.83869916 | K5: Consumer Staples | L5: 10.00019
A6: US4592001014 | B6: IBM UN | C6: INTL BUSINESS MACHINES CORP | D6: Information Technology | E6: Software & Services | F6: IT Services | G6: UNITED STATES | H6: USD | I6: 0.82339918 | K6: Industrials | L6: 10.595589
A7: US1667641005 | B7: CVX UN | C7: CHEVRON CORP | D7: Energy | E7: Energy | F7: Oil, Gas & Consumable Fuels | G7: UNITED STATES | H7: USD | I7: 0.76599923 | K7: Telecommunication Services | L7: 4.4723955
A8: CH0038863350 | B8: NESN VX | C8: NESTLE SA-REG | D8: Consumer Staples | E8: Food Beverage & Tobacco | F8: Food Products | G8: SWITZERLAND | H8: CHF | I8: 0.70989929 | K8: Health Care | L8: 8.7224913
A9: US3696041033 | B9: GE UN | C9: GENERAL ELECTRIC CO | D9: Industrials | E9: Capital Goods | F9: Industrial Conglomerates | G9: UNITED STATES | H9: USD | I9: 0.70769929 | K9: Financials | L9: 19.379881
A10: US7427181091 | B10: PG UN | C10: PROCTER & GAMBLE CO/THE | D10: Consumer Staples | E10: Household & Personal Products | F10: Household Products | G10: UNITED STATES | H10: USD | I10: 0.65019935 | K10: Materials | L10: 8.2897917
A11: US00206R1023 | B11: T UN | C11: AT&T INC | D11: Telecommunication Services | E11: Telecommunication Services | F11: Diversified Telecommunication | G11: UNITED STATES | H11: USD | I11: 0.63529936 | K11: Consumer Discretionary | L11: 10.28839
A12: US4781601046 | B12: JNJ UN | C12: JOHNSON & JOHNSON | D12: Health Care | E12: Pharmaceuticals, Biotechnology | F12: Pharmaceuticals | G12: UNITED STATES | H12: USD | I12: 0.62499938 | K12: Utilities | L12: 3.6360964
A13: US7170811035 | B13: PFE UN | C13: PFIZER INC | D13: Health Care | E13: Pharmaceuticals, Biotechnology | F13: Pharmaceuticals | G13: UNITED STATES | H13: USD | I13: 0.57689942
A14: GB0005405286 | B14: HSBA LN | C14: HSBC HOLDINGS PLC | D14: Financials | E14: Banks | F14: Commercial Banks | G14: BRITAIN | H14: GBp | I14: 0.55479945 | K14: Currencies | L14: 100
A15: US38259P5089 | B15: GOOG UW | C15: GOOGLE INC-CL A | D15: Information Technology | E15: Software & Services | F15: Internet Software & Services | G15: UNITED STATES | H15: USD | I15: 0.55079945 | K15: USD | L15: 45.453955
A16: US9497461015 | B16: WFC UN | C16: WELLS FARGO & CO | D16: Financials | E16: Banks | F16: Commercial Banks | G16: UNITED STATES | H16: USD | I16: 0.54999945 | K16: CHF | L16: 3.0821969
A17: US46625H1005 | B17: JPM UN | C17: JPMORGAN CHASE & CO | D17: Financials | E17: Diversified Financials | F17: Diversified Financial Services | G17: UNITED STATES | H17: USD | I17: 0.53619946 | K17: GBp | L17: 8.3612916
A18: GB0007980591 | B18: BP/ LN | C18: BP PLC | D18: Energy | E18: Energy | F18: Oil, Gas & Consumable Fuels | G18: BRITAIN | H18: GBp | I18: 0.52219948 | K18: AUD | L18: 3.1774968
A19: US7181721090 | B19: PM UN | C19: PHILIP MORRIS INTERNATIONAL | D19: Consumer Staples | E19: Food Beverage & Tobacco | F19: Tobacco | G19: UNITED STATES | H19: USD | I19: 0.51409949 | K19: EUR | L19: 10.39339
A20: US1912161007 | B20: KO UN | C20: COCA-COLA CO/THE | D20: Consumer Staples | E20: Food Beverage & Tobacco | F20: Beverages | G20: UNITED STATES | H20: USD | I20: 0.50589949 | K20: KRW | L20: 1.960898
A21: US4581401001 | B21: INTC UW | C21: INTEL CORP | D21: Information Technology | E21: Semiconductors & Semiconductor | F21: Semiconductors & Semiconductor | G21: UNITED STATES | H21: USD | I21: 0.49459951 | K21: JPY | L21: 7.8851921
A22: GB00B16GWD56 | B22: VOD LN | C22: VODAFONE GROUP PLC | D22: Telecommunication Services | E22: Telecommunication Services | F22: Wireless Telecommunication Ser | G22: BRITAIN | H22: GBp | I22: 0.48189952 | K22: CAD | L22: 4.4735955
A23: GB00B03MLX29 | B23: RDSA LN | C23: ROYAL DUTCH SHELL PLC-A SHS | D23: Energy | E23: Energy | F23: Oil, Gas & Consumable Fuels | G23: BRITAIN | H23: GBp | I23: 0.46319954 | K23: RUB | L23: 0.77529922
A24: CH0012005267 | B24: NOVN VX | C24: NOVARTIS AG-REG | D24: Health Care | E24: Pharmaceuticals, Biotechnology | F24: Pharmaceuticals | G24: SWITZERLAND | H24: CHF | I24: 0.44749955 | K24: TWD | L24: 1.4559985
A25: AU000000BHP4 | B25: BHP AT | C25: BHP BILLITON LTD | D25: Materials | E25: Materials | F25: Metals & Mining | G25: AUSTRALIA | H25: AUD | I25: 0.43899956 | K25: HKD | L25: 3.4788965
... A48: DE0007236101 | B48: SIE GY | C48: SIEMENS AG-REG | D48: Industrials | E48: Capital Goods | F48: Industrial Conglomerates | G48: GERMANY | H48: EUR | I48: 0.28869971 | K48: PEN | L48: 0.0073999926
A49: GB0008762899 | B49: BG/ LN | C49: BG GROUP PLC | D49: Energy | E49: Energy | F49: Oil, Gas & Consumable Fuels | G49: BRITAIN | H49: GBp | I49: 0.28799971
A50: CA7800871021 | B50: RY CT | C50: ROYAL BANK OF CANADA | D50: Financials | E50: Banks | F50: Commercial Banks | G50: CANADA | H50: CAD | I50: 0.28459972 | K50: Countries | L50: 100
A51: DE000BASF111 | B51: BAS GY | C51: BASF SE | D51: Materials | E51: Materials | F51: Chemicals | G51: GERMANY | H51: EUR | I51: 0.28379972 | K51: UNITED STATES | L51: 45.220355
A52: US0605051046 | B52: BAC UN | C52: BANK OF AMERICA CORP | D52: Financials | E52: Diversified Financials | F52: Diversified Financial Services | G52: UNITED STATES | H52: USD | I52: 0.28309972 | K52: SWITZERLAND | L52: 3.0821969
A53: GB0007188757 | B53: RIO LN | C53: RIO TINTO PLC | D53: Materials | E53: Materials | F53: Metals & Mining | G53: BRITAIN | H53: GBp | I53: 0.28069972 | K53: BRITAIN | L53: 8.3612916
A54: US4370761029 | B54: HD UN | C54: HOME DEPOT INC | D54: Consumer Discretionary | E54: Retailing | F54: Specialty Retail | G54: UNITED STATES | H54: USD | I54: 0.26079974 | K54: AUSTRALIA | L54: 3.1774968
A55: US2546871060 | B55: DIS UN | C55: WALT DISNEY CO/THE | D55: Consumer Discretionary | E55: Media | F55: Media | G55: UNITED STATES | H55: USD | I55: 0.25949974 | K55: FRANCE | L55: 3.4086966
A56: US1491231015 | B56: CAT UN | C56: CATERPILLAR INC | D56: Industrials | E56: Capital Goods | F56: Machinery | G56: UNITED STATES | H56: USD | I56: 0.25859974 | K56: SOUTH KOREA | L56: 1.960898
A57: CA8911605092 | B57: TD CT | C57: TORONTO-DOMINION BANK | D57: Financials | E57: Banks | F57: Commercial Banks | G57: CANADA | H57: CAD | I57: 0.25559974 | K57: JAPAN | L57: 7.8851921
A58: US9130171096 | B58: UTX UN | C58: UNITED TECHNOLOGIES CORP | D58: Industrials | E58: Capital Goods | F58: Aerospace & Defense | G58: UNITED STATES | H58: USD | I58: 0.25369975 | K58: GERMANY | L58: 3.1192969
A59: US0846707026 | B59: BRK/B UN | C59: BERKSHIRE HATHAWAY INC-CL B | D59: Financials | E59: Insurance | F59: Insurance | G59: UNITED STATES | H59: USD | I59: 0.24929975 | K59: CANADA | L59: 4.4735955
A60: RU0007661625 | B60: GAZP RX | C60: GAZPROM OAO | D60: Energy | E60: Energy | F60: Oil, Gas & Consumable Fuels | G60: RUSSIA | H60: RUB | I60: 0.24799975 | K60: RUSSIA | L60: 0.9042991
A61: ES0113900J37 | B61: SAN SQ | C61: BANCO SANTANDER SA | D61: Financials | E61: Banks | F61: Commercial Banks | G61: SPAIN | H61: EUR | I61: 0.24709975 | K61: SPAIN | L61: 1.1164989
... A65: TW0002330008 | B65: 2330 TT | C65: TAIWAN SEMICONDUCTOR MANUFAC | D65: Information Technology | E65: Semiconductors & Semiconductor | F65: Semiconductors & Semiconductor | G65: TAIWAN | H65: TWD | I65: 0.23799976 | K65: BRAZIL | L65: 2.0534979
...

Sheet ACWI HOLDINGS (ETF)
A1: Ticker dell'emittente | B1: Nome | C1: Settore | D1: Ponderazione (%) | E1: Area Geografica | F1: Mercato di quotazione | G1: Valuta
A2: NVDA | B2: NVIDIA | C2: IT | D2: 0.050776164 | E2: Stati Uniti | F2: NASDAQ | G2: USD
A3: AAPL | B3: APPLE | C3: IT | D3: 0.044867301 | E3: Stati Uniti | F3: NASDAQ | G3: USD
A4: MSFT | B4: MICROSOFT | C4: IT | D4: 0.033550325 | E4: Stati Uniti | F4: NASDAQ | G4: USD
A5: AMZN | B5: AMAZON.COM INC | C5: Consumi Discrezionali | D5: 0.023835754 | E5: Stati Uniti | F5: NASDAQ | G5: USD
A6: GOOGL | B6: ALPHABET CLASS A | C6: Comunicazione | D6: 0.018928393 | E6: Stati Uniti | F6: NASDAQ | G6: USD
A7: 2330 | B7: TAIWAN SEMICONDUCTOR MANUFACTURING | C7: IT | D7: 0.01782674 | E7: Taiwan | F7: Taiwan Stock Exchange | G7: TWD
A8: AVGO | B8: BROADCOM INC | C8: IT | D8: 0.015322984 | E8: Stati Uniti | F8: NASDAQ | G8: USD
A9: GOOG | B9: ALPHABET CLASS C | C9: Comunicazione | D9: 0.015022534 | E9: Stati Uniti | F9: NASDAQ | G9: USD
A10: NDIA | B10: ISHARES MSCI INDIA UCITS ETF | C10: Finanziari | D10: 0.01342013 | E10: Irlanda | F10: London Stock Exchange | G10: USD
A11: META | B11: META PLATFORMS CLASS A | C11: Comunicazione | D11: 0.012919379 | E11: Stati Uniti | F11: NASDAQ | G11: USD
A12: MU | B12: MICRON TECHNOLOGY | C12: IT | D12: 0.010916375 | E12: Stati Uniti | F12: NASDAQ | G12: USD
A13: TSLA | B13: TESLA INC | C13: Consumi Discrezionali | D13: 0.0095142714 | E13: Stati Uniti | F13: NASDAQ | G13: USD
A14: JPM | B14: JPMORGAN CHASE & CO | C14: Finanziari | D14: 0.0092138207 | E14: Stati Uniti | F14: New York Stock Exchange Inc. | G14: USD
A15: LLY | B15: ELI LILLY | C15: Salute | D15: 0.0088132198 | E15: Stati Uniti | F15: New York Stock Exchange Inc. | G15: USD
A16: 005930 | B16: SAMSUNG ELECTRONICS LTD | C16: IT | D16: 0.0084126189 | E16: Corea | F16: Korea Exchange (Stock Market) | G16: KRW
A17: AMD | B17: ADVANCED MICRO DEVICES | C17: IT | D17: 0.0074111167 | E17: Stati Uniti | F17: NASDAQ | G17: USD
A18: BRKB | B18: BERKSHIRE HATHAWAY INC CLASS B | C18: Finanziari | D18: 0.0067100651 | E18: Stati Uniti | F18: New York Stock Exchange Inc. | G18: USD
A19: 000660 | B19: SK HYNIX | C19: IT | D19: 0.0065097646 | E19: Corea | F19: Korea Exchange (Stock Market) | G19: KRW
... A40: AMAT | B40: APPLIED MATERIAL INC | C40: IT | D40: 0.0034051077 | E40: Stati Uniti | F40: NASDAQ | G40: USD
A41: 700 | B41: TENCENT HOLDINGS | C41: Comunicazione | D41: 0.0033049574 | E41: Cina | F41: Hong Kong Exchanges And Clearing Ltd | G41: HKD
A42: GE | B42: GE AEROSPACE | C42: Industriali | D42: 0.0033049574 | E42: Stati Uniti | F42: New York Stock Exchange Inc. | G42: USD
A43: KO | B43: COCA-COLA | C43: Generi di largo consumo | D43: 0.0032048072 | E43: Stati Uniti | F43: New York Stock Exchange Inc. | G43: USD
A44: PG | B44: PROCTER & GAMBLE | C44: Generi di largo consumo | D44: 0.0032048072 | E44: Stati Uniti | F44: New York Stock Exchange Inc. | G44: USD
A45: NFLX | B45: NETFLIX | C45: Comunicazione | D45: 0.003104657 | E45: Stati Uniti | F45: NASDAQ | G45: USD
A46: IKSA | B46: ISHARES MSCI SAUDI ARABIA CAPPED | C46: Finanziari | D46: 0.0030045068 | E46: Irlanda | F46: London Stock Exchange | G46: USD
A47: HD | B47: HOME DEPOT | C47: Consumi Discrezionali | D47: 0.0030045068 | E47: Stati Uniti | F47: New York Stock Exchange Inc. | G47: USD
A48: GS | B48: GOLDMAN SACHS GROUP | C48: Finanziari | D48: 0.0029043565 | E48: Stati Uniti | F48: New York Stock Exchange Inc. | G48: USD
A49: ROP | B49: ROCHE PS PAR AG | C49: Salute | D49: 0.0029043565 | E49: Svizzera | F49: SIX Swiss Exchange | G49: CHF
A50: RY | B50: ROYAL BANK OF CANADA | C50: Finanziari | D50: 0.0028042063 | E50: Canada | F50: Toronto Stock Exchange | G50: CAD
A51: NOVN | B51: NOVARTIS AG | C51: Salute | D51: 0.0028042063 | E51: Svizzera | F51: SIX Swiss Exchange | G51: CHF
A52: WFC | B52: WELLS FARGO | C52: Finanziari | D52: 0.0027040561 | E52: Stati Uniti | F52: New York Stock Exchange Inc. | G52: USD
A53: 8306 | B53: MITSUBISHI UFJ FINANCIAL GROUP | C53: Finanziari | D53: 0.0026039059 | E53: Giappone | F53: Tokyo Stock Exchange | G53: JPY
A54: SNDK | B54: SANDISK | C54: IT | D54: 0.0026039059 | E54: Stati Uniti | F54: NASDAQ | G54: USD
A55: PM | B55: PHILIP MORRIS INTERNATIONAL INC | C55: Generi di largo consumo | D55: 0.0026039059 | E55: Stati Uniti | F55: New York Stock Exchange Inc. | G55: USD
A56: ORCL | B56: ORACLE | C56: IT | D56: 0.0026039059 | E56: Stati Uniti | F56: New York Stock Exchange Inc. | G56: USD
A57: RTX | B57: RTX | C57: Industriali | D57: 0.0026039059 | E57: Stati Uniti | F57: New York Stock Exchange Inc. | G57: USD
A58: PANW | B58: PALO ALTO NETWORKS | C58: IT | D58: 0.0026039059 | E58: Stati Uniti | F58: NASDAQ | G58: USD
A59: SHEL | B59: SHELL PLC | C59: Energia | D59: 0.0025037556 | E59: Regno unito | F59: London Stock Exchange | G59: GBP
A60: MS | B60: MORGAN STANLEY | C60: Finanziari | D60: 0.0025037556 | E60: Stati Uniti | F60: New York Stock Exchange Inc. | G60: USD
...

Sheet Indici MSCI
A1: =_xll.DSGRID("MSITALL,MSUSAM$","","-10Y","","Daily","RowHeader=true;ColHeader=true;Curn=true;DispSeriesDescription=true;YearlyTSFormat=false;QuarterlyTSFormat=false;MonthlyTSFormat=true") -> Name | B1: MSCI ITALY - PRICE INDEX | C1: MSCI USA U$ - PRICE INDEX | H1: =_xll.DSGRID("MSITALL,MSUSAM$","ri","-10Y","","Daily","RowHeader=true;ColHeader=true;Curn=true;DispSeriesDescription=true;YearlyTSFormat=false;QuarterlyTSFormat=false;MonthlyTSFormat=true") -> Name | I1: MSCI ITALY - TOT RETURN IND | J1: MSCI USA U$ - TOT RETURN IND | T1: =_xll.DSGRID("MSUSAM$,MSUSAME","RI","31/12/2007","31/12/2008","M","RowHeader=true;ColHeader=true;Curn=true;DispSeriesDescription=true;YearlyTSFormat=false;QuarterlyTSFormat=false;MonthlyTSFormat=true") -> Name | U1: MSCI USA U$ - TOT RETURN IND | V1: MSCI USA E - TOT RETURN IND | X1: =_xll.DSGRID("USECBSP","","31/12/2007","31/12/2008","M","RowHeader=true;ColHeader=true;Curn=true;DispSeriesDescription=true;YearlyTSFormat=false;QuarterlyTSFormat=false;MonthlyTSFormat=true") -> Name | Y1: US $ TO EURO (ECB) - EXCHANGE RATE
A2: CURRENCY | B2: E | C2: U$ | H2: CURRENCY | I2: E | J2: U$ | T2: CURRENCY | U2: U$ | V2: E | X2: CURRENCY | Y2: E
A3: 42648 | B3: 573.792 | C3: 2059.707 | E3: MSCI ITALY - PRICE INDEX | F3: MSCI USA U$ - PRICE INDEX | H3: 42648 | I3: 2412.738 | J3: 8542.384 | L3: MSCI ITALY - PRICE INDEX | M3: MSCI USA U$ - PRICE INDEX | T3: 39447 | U3: 4776.315 | V3: 108.007 | X3: 39447 | Y3: 1.4721
A4: 42649 | B4: 574.27 | C4: 2059.648 | D4: Rend Cum | E4: =(B2611-B3)/B3 -> 1.7708699 | F4: =(C2611-C3)/C3 -> 2.5998533 | H4: 42649 | I4: 2414.748 | J4: 8542.375 | K4: Rend Cum | L4: =(I2611-I3)/I3 -> 3.2172685 | M4: =(J2611-J3)/J3 -> 3.2344817 | T4: 39478 | U4: 4486.439 | V4: 100.181 | X4: 39478 | Y4: 1.487
A5: 42650 | B5: 571.391 | C5: 2052.891 | D5: Annual | E5: =(1+E4)^(1/10)-1 -> 0.1072906 | F5: =(1+F4)^(1/10)-1 -> 0.13665451 | H5: 42650 | I5: 2402.644 | J5: 8514.627 | K5: Annual | L5: =(1+L4)^(1/10)-1 -> 0.15479029 | M5: =(1+M4)^(1/10)-1 -> 0.15526077 | T5: 39507 | U5: 4346.96 | V5: 94.669 | X5: 39507 | Y5: 1.5167
A6: 42653 | B6: 579.299 | C6: 2062.132 | H6: 42653 | I6: 2435.896 | J6: 8552.957 | T6: 39538 | U6: 4330.946 | V6: 90.365 | X6: 39538 | Y6: 1.5812
A7: 42654 | B7: 573.018 | C7: 2036.339 | H7: 42654 | I7: 2409.483 | J7: 8446.033 | T7: 39568 | U7: 4545.319 | V7: 96.522 | X7: 39568 | Y7: 1.554
A8: 42655 | B8: 572.883 | C8: 2038.502 | H8: 42655 | I8: 2408.915 | J8: 8455.689 | T8: 39598 | U8: 4617.845 | V8: 98.242 | X8: 39598 | Y8: 1.5508
A9: 42656 | B9: 565.751 | C9: 2032.013 | H9: 42656 | I9: 2378.928 | J9: 8429.07 | T9: 39629 | U9: 4241.463 | V9: 89.003 | X9: 39629 | Y9: 1.5764
A10: 42657 | B10: 576.89 | C10: 2032.12 | H10: 42657 | I10: 2425.764 | J10: 8429.514 | T10: 39660 | U10: 4192.954 | V10: 88.848 | X10: 39660 | Y10: 1.5611
A11: 42660 | B11: 578.738 | C11: 2026.091 | H11: 42660 | I11: 2433.538 | J11: 8404.73 | T11: 39689 | U11: 4250.383 | V11: 95.448 | X11: 39689 | Y11: 1.4735
A12: 42661 | B12: 590.974 | C12: 2038.63 | H12: 42661 | I12: 2484.988 | J12: 8456.748 | T12: 39721 | U12: 3860.514 | V12: 90.865 | X12: 39721 | Y12: 1.4303
A13: 42662 | B13: 593.454 | C13: 2043.143 | H13: 42662 | I13: 2495.415 | J13: 8476.625 | T13: 39752 | U13: 3200.304 | V13: 83.44 | X13: 39752 | Y13: 1.2757
A14: 42663 | B14: 597.756 | C14: 2039.974 | H14: 42663 | I14: 2513.504 | J14: 8464.044 | T14: 39780 | U14: 2964.17 | V14: 77.232 | X14: 39780 | Y14: 1.2727
A15: 42664 | B15: 598.92 | C15: 2040.113 | H15: 42664 | I15: 2518.399 | J15: 8464.659 | T15: 39813 | U15: 3002.604 | V15: 71.415 | X15: 39813 | Y15: 1.3917
A16: 42667 | B16: 603.518 | C16: 2050.292 | H16: 42667 | I16: 2537.733 | J16: 8506.938
A17: 42668 | B17: 602.273 | C17: 2042.138 | H17: 42668 | I17: 2532.5 | J17: 8473.359 | R17: =(1+U17)*(1+Y17)-1 -> -0.33503807 | U17: =(U15-U3)/U3 -> -0.37135553 | V17: =(V15-V3)/V3 -> -0.33879286 | Y17: =((1/Y15)-(1/Y3))/(1/Y3) -> 0.057771071
A18: 42669 | B18: 604.111 | C18: 2038.448 | H18: 42669 | I18: 2540.226 | J18: 8458.16
A19: 42670 | B19: 607.793 | C19: 2031.858 | H19: 42670 | I19: 2555.709 | J19: 8431.211
A20: 42671 | B20: 603.514 | C20: 2025.891 | H20: 42671 | I20: 2537.718 | J20: 8406.909
A21: 42674 | B21: 596.153 | C21: 2026.098 | H21: 42674 | I21: 2506.765 | J21: 8407.798
A22: 42675 | B22: 588.736 | C22: 2012.244 | H22: 42675 | I22: 2475.577 | J22: 8350.395
A23: 42676 | B23: 574.25 | C23: 1998.406 | H23: 42676 | I23: 2414.666 | J23: 8294.029
A24: 42677 | B24: 572.429 | C24: 1989.281 | H24: 42677 | I24: 2407.007 | J24: 8259.083
A25: 42678 | B25: 569.397 | C25: 1986.327 | H25: 42678 | I25: 2394.256 | J25: 8247.041
A26: 42681 | B26: 584.095 | C26: 2029.951 | H26: 42681 | I26: 2456.06 | J26: 8428.245
A27: 42682 | B27: 587.168 | C27: 2037.715 | H27: 42682 | I27: 2468.985 | J27: 8464.485
A28: 42683 | B28: 586.643 | C28: 2060.179 | H28: 42683 | I28: 2466.774 | J28: 8558.399
A29: 42684 | B29: 587.945 | C29: 2062.893 | H29: 42684 | I29: 2472.249 | J29: 8570.447
... A2611: 46300 | B2611: 1589.903 | C2611: 7414.643 | H2611: 46300 | I2611: 10175.164 | J2611: 36172.569

Sheet Serie Storiche
B1: Monetario Area € | C1: Obbl € Short Term (1-3 yrs) | D1: Obbl € MLT | E1: Global Bond Dev Mkts | F1: Obbl Corp. High Yield | G1: Obbl Emerg. Markets | H1: Az Europa | I1: Az Nord America | J1: Az Pacifico | K1: Az Emerg. Markets | P1: Az Europa | Q1: Az Nord America
A2: (In Euro) | B2: ICE Bofa Euro 0-1 anni | C2: ICE Bofa Bond Euro 1-3 Y | D2: ICE Bofa Obbl. Euro | E2: ICE Bofa Obbl. Globale | F2: ICE bOFA Global HY | G2: ice Bofa Obbl Emergente | H2: MSCI Europe | I2: MSCI North America | J2: MSCI Pacific | K2: MSCI Emerging Markets | O2: Peso | P2: 0.5 | Q2: 0.5
A3: 2000 | B3: 0.043210458 | C3: 0.047892032 | D3: 0.083903018 | E3: 0.10487753 | F3: 0.0057225468 | G3: 0.17383462 | H3: -0.019300397 | I3: -0.057888151 | J3: -0.20614969 | K3: -0.25916788 | O3: Sigma | P3: =H32 -> 0.1796953 | Q3: =I32 -> 0.18584997
A4: 2001 | B4: 0.047402997 | C4: 0.059393889 | D4: 0.062532541 | E4: 0.047453241 | F4: 0.087266411 | G4: 0.069257981 | H4: -0.15262665 | I4: -0.076290839 | J4: -0.21150835 | K4: 0.029399749
A5: 2002 | B5: 0.035273134 | C5: 0.059999736 | D5: 0.08487556 | E5: 0.0031368277 | F5: -0.16127991 | G5: -0.049689976 | H5: -0.30504445 | I5: -0.34110843 | J5: -0.22793553 | K5: -0.20242283 | O5: Corr | P5: =H46 -> 0.83516467
A6: 2003 | B6: 0.025411503 | C6: 0.033410167 | D6: 0.037685942 | E6: -0.049184812 | F6: 0.087401597 | G6: 0.014666739 | H6: 0.15761029 | I6: 0.082617922 | J6: 0.15629158 | K6: 0.30017289
A7: 2004 | B7: 0.021831288 | C7: 0.033969726 | D7: 0.075593423 | E7: 0.020888849 | F7: 0.043264419 | G7: 0.051034586 | H7: 0.12646241 | I7: 0.032721522 | J7: 0.10709243 | K7: 0.16880286
A8: 2005 | B8: 0.021950303 | C8: 0.020481815 | D8: 0.056697384 | E8: 0.07925695 | F8: 0.16937125 | G8: 0.24110171 | H8: 0.26679539 | I8: 0.23225417 | J8: 0.4174703 | K8: 0.55039624 | O8: Sigma | P8: =SQRT((P2*P3)^2+(Q2*Q3)^2+2*P2*Q2*P3*Q3*P5) -> 0.17508108
A9: 2006 | B9: 0.03016019 | C9: 0.017654016 | D9: -0.0028239842 | E9: -0.05107058 | F9: 0.015390709 | G9: -0.0018941893 | H9: 0.20183832 | I9: 0.033003098 | J9: 0.0063905048 | K9: 0.18598341
A10: 2007 | B10: 0.044157779 | C10: 0.037934887 | D10: 0.0097233134 | E10: -0.0086455151 | F10: -0.07089022 | G10: -0.0053456654 | H10: 0.031744812 | I10: -0.028932587 | J10: -0.047486666 | K10: 0.26070317
A11: 2008 | B11: 0.057465407 | C11: 0.070002921 | D11: 0.099693757 | E11: 0.18469272 | F11: -0.24126013 | G11: -0.012968904 | H11: -0.43286399 | I11: -0.34579211 | J11: -0.32865114 | K11: -0.50755916
A12: 2009 | B12: 0.023113024 | C12: 0.042513396 | D12: 0.043247221 | E12: -0.01275322 | F12: 0.56925753 | G12: 0.14658974 | H12: 0.32548822 | I12: 0.25316067 | J12: 0.20469975 | K12: 0.73444663
A13: 2010 | B13: 0.011052959 | C13: 0.0089584445 | D13: 0.01143811 | E13: 0.14098047 | F13: 0.21801765 | G13: 0.17277332 | H13: 0.11747023 | I13: 0.24041419 | J13: 0.24141549 | K13: 0.27476196
A14: 2011 | B14: 0.015905964 | C14: 0.0025226178 | D14: 0.021785493 | E14: 0.13575395 | F14: 0.060595095 | G14: 0.051516516 | H14: -0.075109009 | I14: 0.039165051 | J14: -0.10717121 | K14: -0.15437573
A15: 2012 | B15: 0.011938402 | C15: 0.043449644 | D15: 0.11417449 | E15: -0.0066193205 | F15: 0.17477214 | G15: 0.10498437 | H15: 0.18087529 | I15: 0.13793417 | J15: 0.12838313 | K15: 0.16804911
A16: 2013 | B16: 0.00230706 | C16: 0.017864573 | D16: 0.021541994 | E16: -0.090687179 | F16: 0.021661171 | G16: -0.10925257 | H16: 0.20513862 | I16: 0.24751505 | J16: 0.13309691 | K16: -0.064904622
A17: 2014 | B17: 0.0031182909 | C17: 0.018568059 | D17: 0.13501672 | E17: 0.18787705 | F17: 0.06 | G17: 0.27904801 | H17: 0.074043088 | I17: 0.28193899 | J17: 0.1106705 | K17: 0.11807207
A18: 2015 | B18: 0.00098186212 | C18: 0.0073892182 | D18: 0.01706854 | E18: 0.086092861 | F18: 0.067443379 | G18: 0.12888549 | H18: 0.087821377 | I18: 0.11087318 | J18: 0.14970937 | K18: -0.048699681
A19: 2016 | B19: -0.001501376 | C19: 0.0041126548 | D19: 0.031253869 | E19: 0.048989422 | F19: 0.18531187 | G19: 0.13220801 | H19: 0.032227215 | I19: 0.15656982 | J19: 0.07587564 | K19: 0.1494241
A20: 2017 | B20: -0.003180148 | C20: -0.0029715302 | D20: 0.0041301651 | E20: -0.061017447 | F20: -0.032151911 | G20: -0.048215332 | H20: 0.10882206 | I20: 0.068259181 | J20: 0.097580592 | K20: 0.20997893
... A28: 2025 | B28: 0.02164674 | C28: 0.026444465 | D28: 0.0065982019 | E28: -0.058025253 | F28: -0.011809633 | G28: -0.0026515842 | H28: 0.20131654 | I28: 0.04495119 | J28: 0.090049768 | K28: 0.18460104
A30: REND MEDIO annuo | B30: =AVERAGE(B3:B28) -> 0.01738376 | C30: =AVERAGE(C3:C28) -> 0.022185032 | D30: =AVERAGE(D3:D28) -> 0.035099286 | E30: =AVERAGE(E3:E28) -> 0.028995121 | F30: =AVERAGE(F3:F28) -> 0.065187413 | G30: =AVERAGE(G3:G28) -> 0.061936297 | H30: =AVERAGE(H3:H28) -> 0.065421226 | I30: =AVERAGE(I3:I28) -> 0.08969746 | ... K30: =AVERAGE(K3:K28) -> 0.093205555 | L30: =SUMPRODUCT(B31:K31,B30:K30) -> 0.057805201
A31: Pesi | B31: 0.05 | C31: 0.1 | D31: 0.15 | E31: 0.1 | F31: 0.04 | G31: 0.06 | H31: 0.12 | I31: 0.23 | J31: 0.05 | K31: 0.1
A32: SIGMA annuo | B32: =STDEV(B3:B28) -> 0.018927135 | C32: =STDEV(C3:C28) -> 0.025822841 | D32: =STDEV(D3:D28) -> 0.059302629 | E32: =STDEV(E3:E28) -> 0.080178526 | F32: =STDEV(F3:F28) -> 0.14852965 | G32: =STDEV(G3:G28) -> 0.10118634 | H32: =STDEV(H3:H28) -> 0.1796953 | I32: =STDEV(I3:I28) -> 0.18584997 | ... K32: =STDEV(K3:K28) -> 0.25029463 | L32: {=SQRT(MMULT(MMULT(B33:K33,B39:K48),TRANSPOSE(B33:K33)))} -> 0.097033075
A33: W*sigma | B33: =B31*B32 -> 0.00094635673 | C33: =C31*C32 -> 0.0025822841 | D33: =D31*D32 -> 0.0088953943 | E33: =E31*E32 -> 0.0080178526 | F33: =F31*F32 -> 0.0059411859 | G33: =G31*G32 -> 0.0060711807 | H33: =H31*H32 -> 0.021563436 | I33: =I31*I32 -> 0.042745493 | ... K33: =K31*K32 -> 0.025029463 | L33: =SUM(B33:K33) -> 0.13020204 | M33: media ponderata
A34: Asimmetria | B34: =SKEW(B3:B28) -> 0.39789997 | C34: =SKEW(C3:C28) -> -0.47341036 | D34: =SKEW(D3:D28) -> -1.7646874 | E34: =SKEW(E3:E28) -> 0.29393403 | F34: =SKEW(F3:F28) -> 1.18963 | G34: =SKEW(G3:G28) -> 0.21629126 | H34: =SKEW(H3:H28) -> -1.0790134 | I34: =SKEW(I3:I28) -> -0.7460044 | ... K34: =SKEW(K3:K28) -> 0.15330832
A35: Curtosi | B35: =KURT(B3:B28) -> -0.90107285 | C35: =KURT(C3:C28) -> 1.045627 | D35: =KURT(D3:D28) -> 6.574625 | E35: =KURT(E3:E28) -> -0.30197376 | F35: =KURT(F3:F28) -> 4.7661631 | G35: =KURT(G3:G28) -> -0.38051885 | H35: =KURT(H3:H28) -> 1.2552178 | I35: =KURT(I3:I28) -> 0.50829547 | ... K35: =KURT(K3:K28) -> 1.5257816
A36: VaR annuale | B36: =B30-$B$37*B32 -> -0.013748606 | C36: =C30-$B$37*C32 -> -0.020289761 | D36: =D30-$B$37*D32 -> -0.062444858 | E36: =E30-$B$37*E32 -> -0.10288682 | F36: =F30-$B$37*F32 -> -0.17912212 | G36: =G30-$B$37*G32 -> -0.10450043 | H36: =H30-$B$37*H32 -> -0.23015125 | I36: =I30-$B$37*I32 -> -0.21599854 | ... L36: =L30-$B$37*L32 -> -0.1018
A37: 0.95 | B37: =NORMSINV(A37) -> 1.6448536
B38: Bofa ML Euro 0-1 anni | C38: Bofa ML Bond Euro 1-3 Y | D38: Bofa ML Obbl. Euro | E38: Bofa ML Obbl. Globale | F38: ML Global HY | G38: Bofa ML Obbl Emergente | H38: MSCI Europe | I38: MSCI North America | J38: MSCI Pacific | K38: MSCI Emerging Markets
A39: Bofa ML Euro 0-1 anni | B39: 1 | C39: 0.84777554 | D39: 0.38498279 | E39: 0.20725866 | F39: -0.19204088 | G39: 0.04688149 | H39: -0.3725935 | I39: -0.48397722 | J39: -0.4635439 | K39: -0.14862208
A40: Bofa ML Bond Euro 1-3 Y | B40: 0.84777554 | C40: 1 | D40: 0.73870679 | E40: 0.26296057 | F40: -0.027666431 | G40: 0.18036547 | H40: -0.24706137 | I40: -0.30593455 | J40: -0.30546144 | K40: -0.057809074
A41: Bofa ML Obbl. Euro | B41: 0.38498279 | C41: 0.73870679 | D41: 1 | E41: 0.55782256 | F41: 0.091020217 | G41: 0.50947158 | H41: -0.064354675 | I41: 0.034458926 | J41: -0.02173052 | K41: 0.015035637
A42: Bofa ML Obbl. Globale | B42: 0.20725866 | C42: 0.26296057 | D42: 0.55782256 | E42: 1 | F42: 0.024292673 | G42: 0.67069939 | H42: -0.3058534 | I42: 0.02411905 | J42: -0.12307452 | K42: -0.23544324
A43: ML Global HY | B43: -0.19204088 | C43: -0.027666431 | D43: 0.091020217 | E43: 0.024292673 | F43: 1 | G43: 0.58039116 | H43: 0.67489505 | I43: 0.69716675 | J43: 0.64887725 | K43: 0.76091106
A44: Bofa ML Obbl Emergente | B44: 0.04688149 | C44: 0.18036547 | D44: 0.50947158 | E44: 0.67069939 | F44: 0.58039116 | G44: 1 | H44: 0.34261643 | I44: 0.52584577 | J44: 0.45140155 | K44: 0.4001198
A45: MSCI Europe | B45: -0.3725935 | C45: -0.24706137 | D45: -0.064354675 | E45: -0.3058534 | F45: 0.67489505 | G45: 0.34261643 | H45: 1 | I45: 0.83516467 | J45: 0.86393408 | K45: 0.77322347
A46: MSCI North America | B46: -0.48397722 | C46: -0.30593455 | D46: 0.034458926 | E46: 0.02411905 | F46: 0.69716675 | G46: 0.52584577 | H46: 0.83516467 | I46: 1 | J46: 0.82910626 | K46: 0.60944967
A47: MSCI Pacific | B47: -0.4635439 | C47: -0.30546144 | D47: -0.02173052 | E47: -0.12307452 | F47: 0.64887725 | G47: 0.45140155 | H47: 0.86393408 | I47: 0.82910626 | J47: 1 | K47: 0.78661369
A48: MSCI Emerging Markets | B48: -0.14862208 | C48: -0.057809074 | D48: 0.015035637 | E48: -0.23544324 | F48: 0.76091106 | G48: 0.4001198 | H48: 0.77322347 | I48: 0.60944967 | J48: 0.78661369 | K48: 1
...

Sheet Duration Mod
B1: Monetario € | C1: Italia Mon | D1: 1-3 Year Euro Government | E1: Italia 1-3 | F1: Euro Government AM | G1: Italia All Mat | H1: Corporate € | I1: Europe Government Index | J1: Global Government | K1: US Treasury | L1: Japan Government | M1: Global Corporate | N1: US Corporate Index | O1: Global High Yield Index | P1: € High Yield | Q1: Emerging Markets Sovereign Bond Index | R1: 5-7 Year Euro Government | S1: Italia 5-7 | T1: 10+ Year Euro Government | U1: Italia 10+ | V1: HY Euro | W1: HY Global | X1: Euro Corp IG 1-3 | Y1: Euro Corp IG 5-7 | Z1: Euro Corp IG 10+
A2: =_xll.Thomson.Reuters.AFOSpreadSheetFormulas.DSGRID("FTEZ01Y,FTITTBZ,FTEGZ13,FTIT13L,FTEGBIZ,FTITLII,FTEBCRP,FTEGEII,FTWGLII,FTUSLII,FTJYLII,FTWBCPL,FTCRPII,FTHYMKT,IBEHYLQ,FTEMGBC,FTEGZ57,FTIT57L, FTEGZTP, FTITZTP,FTEHEUR, FTWHYML, FTEBCPA, FTEBCPD, FTEC10E","DM","-10Y","","D","RowHeader=true;ColHeader=true;DispSeriesDescription=false;YearlyTSFormat=false;QuarterlyTSFormat=false;MonthlyTSFormat=False") -> Name | B2: FTSE EMU Government Bond 0-1 Year Index - Modified Duration | C2: FTSE Italian Government Bond 0-1 Year Index - Modified Duration | D2: FTSE EMU Government Bond 1-3 Years Index - Modified Duration | E2: FTSE Italy Treasury 1-3Y Bond Index - Modified Duration | F2: FTSE EMU Government Bond 0+ Years Index - Modified Duration | G2: FTSE Italy Treasury Bond Index - Modified Duration | H2: FTSE Euro Broad Investment Grade Corporate Bond Index - Modified Duration | I2: FTSE Europe Government Bond Index - Modified Duration | J2: FTSE World Government Bond Index - Modified Duration | K2: FTSE US Treasury Bond Index - Modified Duration | L2: FTSE Japan Treasury Bond Index - Modified Duration | M2: FTSE World Broad Investment Grade Corporate Bond Index - Modified Duration | N2: FTSE USBIG Corporate Bond Index - Modified Duration | O2: FTSE High Yield Bond Index - Modified Duration | P2: iBoxx EUR Liquid High Yield Index - Annual Modif'd Dur | Q2: FTSE Emerging Government Capped Bond Index - Modified Duration | R2: FTSE EMU Government Bond 5-7 Years Index - Modified Duration | S2: FTSE Italy Treasury 5-7Y Bond Index - Modified Duration | T2: FTSE EMU Government Bond 10+ Years Index - Modified Duration | U2: FTSE Italian Government Bond 10+ Years Index - Modified Duration | V2: FTSE Euro High-Yield Bond Index - Modified Duration | W2: FTSE World High Yield Market Bond Index - Modified Duration | X2: FTSE Euro Broad Investment Grade Corporate 1-3Y Bond Index - Modified Duration | Y2: FTSE Euro Broad Investment Grade Corporate 5-7Y Bond Index - Modified Duration | Z2: FTSE Euro Broad Investment Grade Corporate 10+Y Bond Index - Modified Duration
A3: 42648 | E3: 2.0189 | G3: 7.1333 | H3: 5.4076 | I3: 7.6927 | J3: 7.9748 | K3: 6.2162 | L3: 10.1167 | M3: 6.8214 | N3: 7.376 | O3: 4.7396 | P3: 2.9821 | S3: 5.4729 | X3: 1.9154 | Y3: 5.5859 | Z3: 11.1826
A4: 42649 | E4: 2.0189 | G4: 7.1333 | H4: 5.4076 | I4: 7.6927 | J4: 7.9748 | K4: 6.2162 | L4: 10.1167 | M4: 6.8214 | N4: 7.376 | O4: 4.7396 | P4: 2.9766 | S4: 5.4729 | X4: 1.9154 | Y4: 5.5859 | Z4: 11.1826
A5: 42650 | E5: 2.0189 | G5: 7.1333 | H5: 5.4076 | I5: 7.6927 | J5: 7.9748 | K5: 6.2162 | L5: 10.1167 | M5: 6.8214 | N5: 7.376 | O5: 4.7396 | P5: 2.9843 | S5: 5.4729 | X5: 1.9154 | Y5: 5.5859 | Z5: 11.1826
A6: 42653 | E6: 2.0189 | G6: 7.1333 | H6: 5.4076 | I6: 7.6927 | J6: 7.9748 | K6: 6.2162 | L6: 10.1167 | M6: 6.8214 | N6: 7.376 | O6: 4.7396 | P6: 2.9767 | S6: 5.4729 | X6: 1.9154 | Y6: 5.5859 | Z6: 11.1826
A7: 42654 | E7: 2.0189 | G7: 7.1333 | H7: 5.4076 | I7: 7.6927 | J7: 7.9748 | K7: 6.2162 | L7: 10.1167 | M7: 6.8214 | N7: 7.376 | O7: 4.7396 | P7: 2.9571 | S7: 5.4729 | X7: 1.9154 | Y7: 5.5859 | Z7: 11.1826
A8: 42655 | E8: 2.0189 | G8: 7.1333 | H8: 5.4076 | I8: 7.6927 | J8: 7.9748 | K8: 6.2162 | L8: 10.1167 | M8: 6.8214 | N8: 7.376 | O8: 4.7396 | P8: 2.9532 | S8: 5.4729 | X8: 1.9154 | Y8: 5.5859 | Z8: 11.1826
A9: 42656 | E9: 2.0189 | G9: 7.1333 | H9: 5.4076 | I9: 7.6927 | J9: 7.9748 | K9: 6.2162 | L9: 10.1167 | M9: 6.8214 | N9: 7.376 | O9: 4.7396 | P9: 2.9528 | S9: 5.4729 | X9: 1.9154 | Y9: 5.5859 | Z9: 11.1826
A10: 42657 | E10: 2.0189 | G10: 7.1333 | H10: 5.4076 | I10: 7.6927 | J10: 7.9748 | K10: 6.2162 | L10: 10.1167 | M10: 6.8214 | N10: 7.376 | O10: 4.7396 | P10: 2.9284 | S10: 5.4729 | X10: 1.9154 | Y10: 5.5859 | Z10: 11.1826
A11: 42660 | E11: 2.0189 | G11: 7.1333 | H11: 5.4076 | I11: 7.6927 | J11: 7.9748 | K11: 6.2162 | L11: 10.1167 | M11: 6.8214 | N11: 7.376 | O11: 4.7396 | P11: 2.9298 | S11: 5.4729 | X11: 1.9154 | Y11: 5.5859 | Z11: 11.1826
A12: 42661 | E12: 2.0189 | G12: 7.1333 | H12: 5.4076 | I12: 7.6927 | J12: 7.9748 | K12: 6.2162 | L12: 10.1167 | M12: 6.8214 | N12: 7.376 | O12: 4.7396 | P12: 2.898 | S12: 5.4729 | X12: 1.9154 | Y12: 5.5859 | Z12: 11.1826
A13: 42662 | E13: 2.0189 | G13: 7.1333 | H13: 5.4076 | I13: 7.6927 | J13: 7.9748 | K13: 6.2162 | L13: 10.1167 | M13: 6.8214 | N13: 7.376 | O13: 4.7396 | P13: 2.8621 | S13: 5.4729 | X13: 1.9154 | Y13: 5.5859 | Z13: 11.1826
A14: 42663 | E14: 2.0189 | G14: 7.1333 | H14: 5.4076 | I14: 7.6927 | J14: 7.9748 | K14: 6.2162 | L14: 10.1167 | M14: 6.8214 | N14: 7.376 | O14: 4.7396 | P14: 2.8449 | S14: 5.4729 | X14: 1.9154 | Y14: 5.5859 | Z14: 11.1826
... A326: 43101 | E326: 1.8575 | G326: 6.7199 | H326: 5.3276 | I326: 7.4344 | J326: 7.758 | K326: 6.1347 | L326: 10.3233 | M326: 6.8274 | N326: 7.5145 | O326: 4.7396 | P326: 3.0226 | S326: 5.4579 | X326: 1.9488 | Y326: 5.5725 | Z326: 11.1359
A327: 43102 | E327: 1.8575 | G327: 6.7199 | H327: 5.3276 | I327: 7.4344 | J327: 7.758 | K327: 6.1347 | L327: 10.3233 | M327: 6.8274 | N327: 7.5145 | O327: 4.7605 | P327: 3.0485 | Q327: 5.4822 | S327: 5.4579 | X327: 1.9488 | Y327: 5.5725 | Z327: 11.1359
A328: 43103 | E328: 1.8575 | G328: 6.7199 | H328: 5.3276 | I328: 7.4344 | J328: 7.758 | K328: 6.1347 | L328: 10.3233 | M328: 6.8274 | N328: 7.5145 | O328: 4.7626 | P328: 3.0228 | Q328: 5.484 | S328: 5.4579 | X328: 1.9488 | Y328: 5.5725 | Z328: 11.1359
A329: 43104 | E329: 1.8575 | G329: 6.7199 | H329: 5.3276 | I329: 7.4344 | J329: 7.758 | K329: 6.1347 | L329: 10.3233 | M329: 6.8274 | N329: 7.5145 | O329: 4.7655 | P329: 3.0091 | Q329: 5.4841 | S329: 5.4579 | X329: 1.9488 | Y329: 5.5725 | Z329: 11.1359
A330: 43105 | E330: 1.8575 | G330: 6.7199 | H330: 5.3276 | I330: 7.4344 | J330: 7.758 | K330: 6.1347 | L330: 10.3233 | M330: 6.8274 | N330: 7.5145 | O330: 4.7613 | P330: 3.0181 | Q330: 5.4875 | S330: 5.4579 | X330: 1.9488 | Y330: 5.5725 | Z330: 11.1359
A331: 43108 | E331: 1.8575 | G331: 6.7199 | H331: 5.3276 | I331: 7.4344 | J331: 7.758 | K331: 6.1347 | L331: 10.3233 | M331: 6.8274 | N331: 7.5145 | O331: 4.7539 | P331: 3.0152 | Q331: 5.48 | S331: 5.4579 | X331: 1.9488 | Y331: 5.5725 | Z331: 11.1359
A332: 43109 | E332: 1.8575 | G332: 6.7199 | H332: 5.3276 | I332: 7.4344 | J332: 7.758 | K332: 6.1347 | L332: 10.3233 | M332: 6.8274 | N332: 7.5145 | O332: 4.7523 | P332: 3.0231 | Q332: 5.4795 | S332: 5.4579 | X332: 1.9488 | Y332: 5.5725 | Z332: 11.1359
A333: 43110 | E333: 1.8575 | G333: 6.7199 | H333: 5.3276 | I333: 7.4344 | J333: 7.758 | K333: 6.1347 | L333: 10.3233 | M333: 6.8274 | N333: 7.5145 | O333: 4.7446 | P333: 3.0407 | Q333: 5.4718 | S333: 5.4579 | X333: 1.9488 | Y333: 5.5725 | Z333: 11.1359
A334: 43111 | E334: 1.8575 | G334: 6.7199 | H334: 5.3276 | I334: 7.4344 | J334: 7.758 | K334: 6.1347 | L334: 10.3233 | M334: 6.8274 | N334: 7.5145 | O334: 4.743 | P334: 3.0803 | Q334: 5.4679 | S334: 5.4579 | X334: 1.9488 | Y334: 5.5725 | Z334: 11.1359
A335: 43112 | E335: 1.8575 | G335: 6.7199 | H335: 5.3276 | I335: 7.4344 | J335: 7.758 | K335: 6.1347 | L335: 10.3233 | M335: 6.8274 | N335: 7.5145 | O335: 4.7397 | P335: 3.0684 | Q335: 5.4671 | S335: 5.4579 | X335: 1.9488 | Y335: 5.5725 | Z335: 11.1359
A336: 43115 | E336: 1.8575 | G336: 6.7199 | H336: 5.3276 | I336: 7.4344 | J336: 7.758 | K336: 6.1347 | L336: 10.3233 | M336: 6.8274 | N336: 7.5145 | O336: 4.7466 | P336: 3.0678 | Q336: 5.4664 | S336: 5.4579 | X336: 1.9488 | Y336: 5.5725 | Z336: 11.1359
A337: 43116 | E337: 1.8575 | G337: 6.7199 | H337: 5.3276 | I337: 7.4344 | J337: 7.758 | K337: 6.1347 | L337: 10.3233 | M337: 6.8274 | N337: 7.5145 | O337: 4.7448 | P337: 3.0725 | Q337: 5.4726 | S337: 5.4579 | X337: 1.9488 | Y337: 5.5725 | Z337: 11.1359
A338: 43117 | E338: 1.8575 | G338: 6.7199 | H338: 5.3276 | I338: 7.4344 | J338: 7.758 | K338: 6.1347 | L338: 10.3233 | M338: 6.8274 | N338: 7.5145 | O338: 4.7406 | P338: 3.0769 | Q338: 5.472 | S338: 5.4579 | X338: 1.9488 | Y338: 5.5725 | Z338: 11.1359
... A1718: 45049 | E1718: 1.9235 | G1718: 6.3643 | H1718: 4.5731 | I1718: 7.2271 | J1718: 7.5092 | K1718: 6.2303 | L1718: 12.3229 | M1718: 6.2109 | N1718: 7.246 | O1718: 4.1167 | P1718: 2.9528 | Q1718: 5.5075 | S1718: 5.5117 | X1718: 1.9144 | Y1718: 5.4075 | Z1718: 11.2759
A1719: 45050 | E1719: 1.9219 | G1719: 6.3565 | H1719: 4.5755 | I1719: 7.2209 | J1719: 7.5004 | K1719: 6.1996 | L1719: 12.3202 | M1719: 6.1816 | N1719: 7.2026 | O1719: 4.1072 | P1719: 2.9486 | Q1719: 5.5105 | S1719: 5.5113 | W1719: 3.8476 | X1719: 1.9137 | Y1719: 5.4098 | Z1719: 11.2745
A1720: 45051 | E1720: 1.9186 | G1720: 6.3251 | H1720: 4.5604 | I1720: 7.1754 | J1720: 7.4748 | K1720: 6.1877 | L1720: 12.3175 | M1720: 6.1702 | N1720: 7.1926 | O1720: 4.1087 | P1720: 2.9532 | Q1720: 5.5085 | S1720: 5.5053 | W1720: 3.8481 | X1720: 1.9098 | Y1720: 5.4016 | Z1720: 11.2407
A1721: 45054 | E1721: 1.9098 | G1721: 6.3034 | H1721: 4.5498 | I1721: 7.1528 | J1721: 7.4507 | K1721: 6.1447 | L1721: 12.3144 | M1721: 6.1355 | N1721: 7.1471 | O1721: 4.0985 | P1721: 2.9483 | Q1721: 5.5006 | S1721: 5.4948 | W1721: 3.8385 | X1721: 1.9016 | Y1721: 5.3923 | Z1721: 11.2286
A1722: 45055 | E1722: 1.907 | G1722: 6.2887 | H1722: 4.5429 | I1722: 7.1357 | J1722: 7.4354 | K1722: 6.1325 | L1722: 12.3008 | M1722: 6.1265 | N1722: 7.1329 | O1722: 4.0938 | P1722: 2.9435 | Q1722: 5.4952 | S1722: 5.491 | W1722: 3.8353 | X1722: 1.8985 | Y1722: 5.3886 | Z1722: 11.2125
A1723: 45056 | E1723: 1.9051 | G1723: 6.3029 | H1723: 4.546 | I1723: 7.1584 | J1723: 7.4541 | K1723: 6.1538 | L1723: 12.308 | M1723: 6.1458 | N1723: 7.1593 | O1723: 4.0947 | P1723: 2.9431 | Q1723: 5.4863 | S1723: 5.4914 | W1723: 3.8358 | X1723: 1.8967 | Y1723: 5.3886 | Z1723: 11.2232
A1724: 45057 | E1724: 1.9029 | G1724: 6.3208 | H1724: 4.5515 | I1724: 7.1906 | J1724: 7.4822 | K1724: 6.178 | L1724: 12.3383 | M1724: 6.1675 | N1724: 7.1858 | O1724: 4.0918 | P1724: 2.947 | Q1724: 5.4869 | S1724: 5.4914 | W1724: 3.834 | X1724: 1.8949 | Y1724: 5.3899 | Z1724: 11.2395
A1725: 45058 | E1725: 1.8994 | G1725: 6.3063 | H1725: 4.5428 | I1725: 7.1674 | J1725: 7.4579 | K1725: 6.1547 | L1725: 12.3251 | M1725: 6.1513 | N1725: 7.1636 | O1725: 4.0877 | P1725: 2.9469 | Q1725: 5.4856 | S1725: 5.4864 | W1725: 3.8313 | X1725: 1.8917 | Y1725: 5.3852 | Z1725: 11.2192
A1726: 45061 | E1726: 1.8942 | G1726: 6.2921 | H1726: 4.5279 | I1726: 7.1411 | J1726: 7.4323 | K1726: 6.1372 | L1726: 12.2947 | M1726: 6.1198 | N1726: 7.1261 | O1726: 4.0884 | P1726: 2.9441 | Q1726: 5.4832 | S1726: 5.4778 | W1726: 3.8306 | X1726: 1.8836 | Y1726: 5.3757 | Z1726: 11.1909
A1727: 45062 | E1727: 1.8916 | G1727: 6.2774 | H1727: 4.5149 | I1727: 7.1167 | J1727: 7.4214 | K1727: 6.1253 | L1727: 12.3068 | M1727: 6.1023 | N1727: 7.1053 | O1727: 4.0814 | P1727: 2.9419 | Q1727: 5.479 | S1727: 5.4734 | W1727: 3.8241 | X1727: 1.8795 | Y1727: 5.3681 | Z1727: 11.1635
A1728: 45063 | E1728: 1.8888 | G1728: 6.2879 | H1728: 4.5107 | I1728: 7.1307 | J1728: 7.4261 | K1728: 6.1173 | L1728: 12.3402 | M1728: 6.0987 | N1728: 7.0986 | O1728: 4.0761 | P1728: 2.9389 | Q1728: 5.4731 | S1728: 5.4717 | W1728: 3.8201 | X1728: 1.8759 | Y1728: 5.3638 | Z1728: 11.1648
A1729: 45064 | E1729: 1.8849 | G1729: 6.2437 | H1729: 4.4944 | I1729: 7.064 | J1729: 7.382 | K1729: 6.0943 | L1729: 12.3144 | M1729: 6.078 | N1729: 7.0736 | O1729: 4.0697 | P1729: 2.9354 | Q1729: 5.4679 | S1729: 5.4635 | W1729: 3.8153 | X1729: 1.8725 | Y1729: 5.3558 | Z1729: 11.1301
A1730: 45065 | E1730: 1.8826 | G1730: 6.2611 | H1730: 4.4989 | I1730: 7.0835 | J1730: 7.3753 | K1730: 6.0729 | L1730: 12.3018 | M1730: 6.0662 | N1730: 7.0572 | O1730: 4.0672 | P1730: 2.9324 | Q1730: 5.4592 | S1730: 5.4627 | W1730: 3.8132 | X1730: 1.8703 | Y1730: 5.3559 | Z1730: 11.1495
...

Sheet VaR
B1: MSCI USA
A2: 37435 | B2: -0.13066405
A3: 43921 | B3: -0.12516199
A4: 37529 | B4: -0.11527084 | D4: Orizz Temp | E4: 1 mese | F4: 1 mese | G4: 1 mese
A5: 37621 | B5: -0.11056437 | D5: VaR(%) Sim Stor | E5: =B5 -> -0.11056437 | F5: =B8 -> -0.094340084 | G5: =B17 -> -0.07160191
A6: 43465 | B6: -0.097310743 | D6: ES (%) Sim Stor | E6: =AVERAGE(B2:B4) -> -0.12369896 | F6: =AVERAGE(B2:B7) -> -0.11256569 | G6: =AVERAGE(B2:B16) -> -0.094902864
A7: 39629 | B7: -0.096422128 | D7: Livello di Confidenza | E7: 0.99 | F7: 0.98 | G7: 0.95
A8: 37376 | B8: -0.094340084
A9: 45747 | B9: -0.093544297 | D9: Orizz Temp | E9: 1 mese | F9: 1 mese | G9: 1 mese
A10: 44925 | B10: -0.092863809 | D10: VaR(%) Var-Cov | E10: =E14-E12*E15 -> -0.09161928 | F10: =E14-F12*E15 -> -0.079986073 | G10: =E14-G12*E15 -> -0.062536399
A11: 39871 | B11: -0.090281058 | D11: Livello di Confidenza | E11: 0.99 | F11: 0.98 | G11: 0.95
A12: 42247 | B12: -0.081435675 | D12: k | E12: =NORMSINV(E11) -> 2.3263479 | F12: =NORMSINV(F11) -> 2.0537489 | G12: =NORMSINV(G11) -> 1.6448536
A13: 43889 | B13: -0.075269731 | E13: mesile | F13: giornaliero | G13: annuale
A14: 37162 | B14: -0.073718509 | D14: Rend. Medio | E14: =AVERAGE(B2:B301) -> 0.0076580023 | F14: =E14/21 -> 0.00036466678 | G14: =E14*12 -> 0.091896028
A15: 39813 | B15: -0.073649128 | D15: Deviazione Standard | E15: =STDEV(B2:B301) -> 0.042675166 | F15: =E15/SQRT(21) -> 0.0093124847 | G15: =E15*SQRT(12) -> 0.14783111
A16: 37894 | B16: -0.073046554 | D16: Asimmetria | E16: =SKEW(B2:B301) -> -0.41822495 | F16: =F14-E12*F15 -> -0.021299412 | G16: =G14-E12*G15 -> -0.25201056
A17: 39780 | B17: -0.07160191 | D17: Curtosi | E17: =KURT(B2:B301) -> 0.78197704 | F17: VaR giorn | G17: VaR ann
A18: 39752 | B18: -0.070552881
A19: 39478 | B19: -0.070102167
A20: 44834 | B20: -0.0683
A21: 40786 | B21: -0.067733396
A22: 39721 | B22: -0.064292593
A23: 39416 | B23: -0.062585325
A24: 44742 | B24: -0.061562492
A25: 43616 | B25: -0.057596693
A26: 42398 | B26: -0.056012956
A27: 45777 | B27: -0.054614589
A28: 38868 | B28: -0.054551855
A29: 37652 | B29: -0.053832544
... A301: 43951 | B301: 0.13986235

Sheet Copertura Az.rio USA
B1: MSCI USA € | C1: MSCI USA $ | D1: MSCI USA HEDGED € | H1: €/$
A2: 36585 | B2: -0.008931566 | C2: -0.024737802 | D2: -0.027236265 | H2: 0.016207166
A3: 36616 | B3: 0.10554775 | C3: 0.098830027 | D3: 0.097324767 | H3: 0.0061135223
A4: 36644 | B4: 0.015185392 | C4: -0.033246032 | D4: -0.036875218 | H4: 0.050096949
A5: 36677 | B5: -0.044311016 | C5: -0.027375489 | D5: -0.029123571 | H5: -0.017412195
A6: 36707 | B6: -0.010205901 | C6: 0.023039896 | D6: 0.019811233 | H6: -0.032497068
A7: 36738 | B7: 0.015009355 | C7: -0.018821321 | D7: -0.021075781 | H7: 0.034479628
A8: 36769 | B8: 0.095421776 | C8: 0.051030496 | D8: 0.051296452 | H8: 0.042235958
A9: 36798 | B9: -0.048207263 | C9: -0.055271804 | D9: -0.056807052 | H9: 0.0074778554
A10: 36830 | B10: 0.032726987 | C10: -0.0080596293 | D10: -0.009855565 | H10: 0.041118012
A11: 36860 | B11: -0.10413021 | C11: -0.079925107 | D11: -0.079209809 | H11: -0.026307751
A12: 36889 | B12: -0.075191269 | C12: -0.0025792118 | D12: -0.0040692497 | H12: -0.072799824
A13: 36922 | B13: 0.045542554 | C13: 0.035634277 | D13: 0.034454437 | H13: 0.0095673514
... A320: 46265 | B320: 0.016793134 | C320: 0.026557639 | D320: 0.025019099 | H320: -0.0095118915
B322: MSCI USA € | C322: MSCI USA $ | D322: MSCI USA HEDGED € | F322: correl az USA e Cambio
A323: Sigma Mensili

Sheet Copertura Obbl Globale
B1: WD CITIGROUP WGBI WORLD ALL MATS: TOTAL RETURN HEDGED - (E) | C1: WD CITIGROUP WGBI WORLD ALL MATS: TOTAL RETURN - (E) | D1: CGBI WGBI EMU ALL MATS. (E) - TOT RETURN IND
A2: 36585 | B2: 0.006986195 | C2: 0.0089103345 | D2: 0.0062819245
A3: 36616 | B3: 0.013425251 | C3: 0.0373187 | D3: 0.015954725
A4: 36644 | B4: 0.00058092648 | C4: 0.015751944 | D4: -0.00049358839
A5: 36677 | B5: 0.004043633 | C5: -0.0097054817 | D5: 0.0024691607
A6: 36707 | B6: 0.0060818395 | C6: -0.0090824207 | D6: 0.0042023143
A7: 36738 | B7: 0.0061104387 | C7: 0.017024963 | D7: 0.0039244346
A8: 36769 | B8: 0.002092397 | C8: 0.034338196 | D8: -3.988871e-05
A9: 36798 | B9: 0.0048892049 | C9: 0.0054920454 | D9: 0.0073098978
A10: 36830 | B10: 0.0070055773 | C10: 0.027951798 | D10: 0.0045441945
A11: 36860 | B11: 0.016198017 | C11: -0.0069729864 | D11: 0.014684577
A12: 36889 | B12: 0.011443976 | C12: -0.039624314 | D12: 0.014287518
A13: 36922 | B13: 0.0089286482 | C13: 0.0082825554 | D13: 0.0072968936
... A320: 46265 | B320: -0.002819345 | C320: -0.0072447615 | D320: -0.0061912609
B322: WD CITIGROUP WGBI WORLD ALL MATS: TOTAL RETURN HEDGED - (E) | C322: WD CITIGROUP WGBI WORLD ALL MATS: TOTAL RETURN - (E) | D322: CGBI WGBI EMU ALL MATS. (E) - TOT RETURN IND
A323: Sigma mensili
B326: WD CITIGROUP WGBI WORLD ALL MATS: TOTAL RETURN HEDGED - (E) | C326: WD CITIGROUP WGBI WORLD ALL MATS: TOTAL RETURN - (E) | D326: CGBI WGBI EMU ALL MATS. (E) - TOT RETURN IND
A327: WD CITIGROUP WGBI WORLD ALL MATS: TOTAL RETURN HEDGED - (E)
A328: WD CITIGROUP WGBI WORLD ALL MATS: TOTAL RETURN - (E)
A329: CGBI WGBI EMU ALL MATS. (E) - TOT RETURN IND

Sheet GRIGLIA2
A2: OT/Toll Risk | B2: B | C2: MB | D2: M | E2: MA | F2: A
A3: 1
A4: 3
A5: 5
A6: 10
A7: >10

Sheet Strategia Naive
A1: Asset Classes | B1: AAS Neutrale HBA | C1: AAS Naive | E1: PESI | F1: Naive | G1: Neutrale HBA | P1: COMPOSIZIONE DEI PORTAFOGLI NAIVE
A2: Monetario Area € | B2: =$E$2*G2 -> 0.04 | C2: =$E$2*F2 -> 0 | E2: =1-E8 -> 1 | G2: 0.04 | H2: =A2 -> Monetario Area € | P2: Porzione Azionaria | Q2: {=TRANSPOSE(A2:A12)} -> Monetario Area € | R2: Obbl € Short Term (1-3 yrs) | S2: Obbl € MLT | T2: Global Bond Dev Mkts | U2: Obbl Corp. Globale HY | V2: Obbl Emerg. Markets | W2: Az Europa | X2: Az Nord America | Y2: Az Pacifico | Z2: Az Emerg. Markets | AA2: Opportunities
A3: Obbl € Short Term (1-3 yrs) | B3: =$E$2*G3 -> 0.07 | C3: =$E$2*F3 -> 0 | G3: 0.07 | H3: =A3 -> Obbl € Short Term (1-3 yrs) | P3: 0 | Q3: {=(1-$P3)*TRANSPOSE($F$2:$F$7)} -> 0 | R3: 0 | S3: 0 | T3: 0 | U3: 0 | V3: 0 | W3: {=$P3*TRANSPOSE($F$8:$F$12)} -> 0 | X3: 0 | Y3: 0 | Z3: 0 | AA3: 0
A4: Obbl € MLT | B4: =$E$2*G4 -> 0.16 | C4: =$E$2*F4 -> 0 | G4: 0.16 | H4: =A4 -> Obbl € MLT | P4: 0.01 | Q4: {=(1-$P4)*TRANSPOSE($F$2:$F$7)} -> 0 | R4: 0 | S4: 0 | T4: 0 | U4: 0 | V4: 0 | W4: {=$P4*TRANSPOSE($F$8:$F$12)} -> 0 | X4: 0 | Y4: 0 | Z4: 0 | AA4: 0
A5: Global Bond Dev Mkts | B5: =$E$2*G5 -> 0.6 | C5: =$E$2*F5 -> 0 | G5: 0.6 | H5: =A5 -> Global Bond Dev Mkts | P5: 0.02 | Q5: {=(1-$P5)*TRANSPOSE($F$2:$F$7)} -> 0 | R5: 0 | S5: 0 | T5: 0 | U5: 0 | V5: 0 | W5: {=$P5*TRANSPOSE($F$8:$F$12)} -> 0 | X5: 0 | Y5: 0 | Z5: 0 | AA5: 0
A6: Obbl Corp. Globale HY | B6: =$E$2*G6 -> 0.05 | C6: =$E$2*F6 -> 0 | G6: 0.05 | H6: =A6 -> Obbl Corp. Globale HY | P6: 0.03 | Q6: {=(1-$P6)*TRANSPOSE($F$2:$F$7)} -> 0 | R6: 0 | S6: 0 | T6: 0 | U6: 0 | V6: 0 | W6: {=$P6*TRANSPOSE($F$8:$F$12)} -> 0 | X6: 0 | Y6: 0 | Z6: 0 | AA6: 0
A7: Obbl Emerg. Markets | B7: =$E$2*G7 -> 0.08 | C7: =$E$2*F7 -> 0 | G7: 0.08 | H7: =A7 -> Obbl Emerg. Markets | P7: 0.04 | Q7: {=(1-$P7)*TRANSPOSE($F$2:$F$7)} -> 0 | R7: 0 | S7: 0 | T7: 0 | U7: 0 | V7: 0 | W7: {=$P7*TRANSPOSE($F$8:$F$12)} -> 0 | X7: 0 | Y7: 0 | Z7: 0 | AA7: 0
A8: Az Europa | B8: =$E$8*G8 -> 0 | C8: =$E$8*F8 -> 0 | G8: 0.18 | H8: =A8 -> Az Europa | P8: 0.05 | Q8: {=(1-$P8)*TRANSPOSE($F$2:$F$7)} -> 0 | R8: 0 | S8: 0 | T8: 0 | U8: 0 | V8: 0 | W8: {=$P8*TRANSPOSE($F$8:$F$12)} -> 0 | X8: 0 | Y8: 0 | Z8: 0 | AA8: 0
A9: Az Nord America | B9: =$E$8*G9 -> 0 | C9: =$E$8*F9 -> 0 | G9: 0.55 | H9: =A9 -> Az Nord America | P9: 0.06 | Q9: {=(1-$P9)*TRANSPOSE($F$2:$F$7)} -> 0 | R9: 0 | S9: 0 | T9: 0 | U9: 0 | V9: 0 | W9: {=$P9*TRANSPOSE($F$8:$F$12)} -> 0 | X9: 0 | Y9: 0 | Z9: 0 | AA9: 0
A10: Az Pacifico | B10: =$E$8*G10 -> 0 | C10: =$E$8*F10 -> 0 | G10: 0.09 | H10: =A10 -> Az Pacifico | P10: 0.07 | Q10: {=(1-$P10)*TRANSPOSE($F$2:$F$7)} -> 0 | R10: 0 | S10: 0 | T10: 0 | U10: 0 | V10: 0 | W10: {=$P10*TRANSPOSE($F$8:$F$12)} -> 0 | X10: 0 | Y10: 0 | Z10: 0 | AA10: 0
A11: Az Emerg. Markets | B11: =$E$8*G11 -> 0 | C11: =$E$8*F11 -> 0 | G11: 0.13 | H11: =A11 -> Az Emerg. Markets | P11: 0.08 | Q11: {=(1-$P11)*TRANSPOSE($F$2:$F$7)} -> 0 | R11: 0 | S11: 0 | T11: 0 | U11: 0 | V11: 0 | W11: {=$P11*TRANSPOSE($F$8:$F$12)} -> 0 | X11: 0 | Y11: 0 | Z11: 0 | AA11: 0
A12: Opportunities | B12: =$E$8*G12 -> 0 | C12: =$E$8*F12 -> 0 | G12: 0.05 | H12: =A12 -> Opportunities | P12: 0.09 | Q12: {=(1-$P12)*TRANSPOSE($F$2:$F$7)} -> 0 | R12: 0 | S12: 0 | T12: 0 | U12: 0 | V12: 0 | W12: {=$P12*TRANSPOSE($F$8:$F$12)} -> 0 | X12: 0 | Y12: 0 | Z12: 0 | AA12: 0
B13: Previsioni di Lungo Termine | P13: 0.1 | Q13: {=(1-$P13)*TRANSPOSE($F$2:$F$7)} -> 0 | R13: 0 | S13: 0 | T13: 0 | U13: 0 | V13: 0 | W13: {=$P13*TRANSPOSE($F$8:$F$12)} -> 0 | X13: 0 | Y13: 0 | Z13: 0 | AA13: 0
B14: view | C14: fiducia | P14: 0.11 | Q14: {=(1-$P14)*TRANSPOSE($F$2:$F$7)} -> 0 | R14: 0 | S14: 0 | T14: 0 | U14: 0 | V14: 0 | W14: {=$P14*TRANSPOSE($F$8:$F$12)} -> 0 | X14: 0 | Y14: 0 | Z14: 0 | AA14: 0
A15: Tassi di interesse in € | P15: 0.12 | Q15: {=(1-$P15)*TRANSPOSE($F$2:$F$7)} -> 0 | R15: 0 | S15: 0 | T15: 0 | U15: 0 | V15: 0 | W15: {=$P15*TRANSPOSE($F$8:$F$12)} -> 0 | X15: 0 | Y15: 0 | Z15: 0 | AA15: 0
P16: 0.13 | Q16: {=(1-$P16)*TRANSPOSE($F$2:$F$7)} -> 0 | R16: 0 | S16: 0 | T16: 0 | U16: 0 | V16: 0 | W16: {=$P16*TRANSPOSE($F$8:$F$12)} -> 0 | X16: 0 | Y16: 0 | Z16: 0 | AA16: 0
A17: Valute estere forti | P17: 0.14 | Q17: {=(1-$P17)*TRANSPOSE($F$2:$F$7)} -> 0 | R17: 0 | S17: 0 | T17: 0 | U17: 0 | V17: 0 | W17: {=$P17*TRANSPOSE($F$8:$F$12)} -> 0 | X17: 0 | Y17: 0 | Z17: 0 | AA17: 0
P18: 0.15 | Q18: {=(1-$P18)*TRANSPOSE($F$2:$F$7)} -> 0 | R18: 0 | S18: 0 | T18: 0 | U18: 0 | V18: 0 | W18: {=$P18*TRANSPOSE($F$8:$F$12)} -> 0 | X18: 0 | Y18: 0 | Z18: 0 | AA18: 0
A19: Spread bond basso rating | P19: 0.16 | Q19: {=(1-$P19)*TRANSPOSE($F$2:$F$7)} -> 0 | R19: 0 | S19: 0 | T19: 0 | U19: 0 | V19: 0 | W19: {=$P19*TRANSPOSE($F$8:$F$12)} -> 0 | X19: 0 | Y19: 0 | Z19: 0 | AA19: 0
P20: 0.17 | Q20: {=(1-$P20)*TRANSPOSE($F$2:$F$7)} -> 0 | R20: 0 | S20: 0 | T20: 0 | U20: 0 | V20: 0 | W20: {=$P20*TRANSPOSE($F$8:$F$12)} -> 0 | X20: 0 | Y20: 0 | Z20: 0 | AA20: 0
A21: Az Europa | P21: 0.18 | Q21: {=(1-$P21)*TRANSPOSE($F$2:$F$7)} -> 0 | R21: 0 | S21: 0 | T21: 0 | U21: 0 | V21: 0 | W21: {=$P21*TRANSPOSE($F$8:$F$12)} -> 0 | X21: 0 | Y21: 0 | Z21: 0 | AA21: 0
A22: Az Nord America | P22: 0.19 | Q22: {=(1-$P22)*TRANSPOSE($F$2:$F$7)} -> 0 | R22: 0 | S22: 0 | T22: 0 | U22: 0 | V22: 0 | W22: {=$P22*TRANSPOSE($F$8:$F$12)} -> 0 | X22: 0 | Y22: 0 | Z22: 0 | AA22: 0
A23: Az Pacifico | P23: 0.2 | Q23: {=(1-$P23)*TRANSPOSE($F$2:$F$7)} -> 0 | R23: 0 | S23: 0 | T23: 0 | U23: 0 | V23: 0 | W23: {=$P23*TRANSPOSE($F$8:$F$12)} -> 0 | X23: 0 | Y23: 0 | Z23: 0 | AA23: 0
A24: Az Emerg. Markets | P24: 0.21 | Q24: {=(1-$P24)*TRANSPOSE($F$2:$F$7)} -> 0 | R24: 0 | S24: 0 | T24: 0 | U24: 0 | V24: 0 | W24: {=$P24*TRANSPOSE($F$8:$F$12)} -> 0 | X24: 0 | Y24: 0 | Z24: 0 | AA24: 0
P25: 0.22 | Q25: {=(1-$P25)*TRANSPOSE($F$2:$F$7)} -> 0 | R25: 0 | S25: 0 | T25: 0 | U25: 0 | V25: 0 | W25: {=$P25*TRANSPOSE($F$8:$F$12)} -> 0 | X25: 0 | Y25: 0 | Z25: 0 | AA25: 0
A26: Opportunities | P26: 0.23 | Q26: {=(1-$P26)*TRANSPOSE($F$2:$F$7)} -> 0 | R26: 0 | S26: 0 | T26: 0 | U26: 0 | V26: 0 | W26: {=$P26*TRANSPOSE($F$8:$F$12)} -> 0 | X26: 0 | Y26: 0 | Z26: 0 | AA26: 0
P27: 0.24 | Q27: {=(1-$P27)*TRANSPOSE($F$2:$F$7)} -> 0 | R27: 0 | S27: 0 | T27: 0 | U27: 0 | V27: 0 | W27: {=$P27*TRANSPOSE($F$8:$F$12)} -> 0 | X27: 0 | Y27: 0 | Z27: 0 | AA27: 0
P28: 0.25 | Q28: {=(1-$P28)*TRANSPOSE($F$2:$F$7)} -> 0 | R28: 0 | S28: 0 | T28: 0 | U28: 0 | V28: 0 | W28: {=$P28*TRANSPOSE($F$8:$F$12)} -> 0 | X28: 0 | Y28: 0 | Z28: 0 | AA28: 0
P29: 0.26 | Q29: {=(1-$P29)*TRANSPOSE($F$2:$F$7)} -> 0 | R29: 0 | S29: 0 | T29: 0 | U29: 0 | V29: 0 | W29: {=$P29*TRANSPOSE($F$8:$F$12)} -> 0 | X29: 0 | Y29: 0 | Z29: 0 | AA29: 0
P30: 0.27 | Q30: {=(1-$P30)*TRANSPOSE($F$2:$F$7)} -> 0 | R30: 0 | S30: 0 | T30: 0 | U30: 0 | V30: 0 | W30: {=$P30*TRANSPOSE($F$8:$F$12)} -> 0 | X30: 0 | Y30: 0 | Z30: 0 | AA30: 0
P31: 0.28 | Q31: {=(1-$P31)*TRANSPOSE($F$2:$F$7)} -> 0 | R31: 0 | S31: 0 | T31: 0 | U31: 0 | V31: 0 | W31: {=$P31*TRANSPOSE($F$8:$F$12)} -> 0 | X31: 0 | Y31: 0 | Z31: 0 | AA31: 0
P32: 0.29 | Q32: {=(1-$P32)*TRANSPOSE($F$2:$F$7)} -> 0 | R32: 0 | S32: 0 | T32: 0 | U32: 0 | V32: 0 | W32: {=$P32*TRANSPOSE($F$8:$F$12)} -> 0 | X32: 0 | Y32: 0 | Z32: 0 | AA32: 0
P33: 0.3 | Q33: {=(1-$P33)*TRANSPOSE($F$2:$F$7)} -> 0 | R33: 0 | S33: 0 | T33: 0 | U33: 0 | V33: 0 | W33: {=$P33*TRANSPOSE($F$8:$F$12)} -> 0 | X33: 0 | Y33: 0 | Z33: 0 | AA33: 0
P34: 0.31 | Q34: {=(1-$P34)*TRANSPOSE($F$2:$F$7)} -> 0 | R34: 0 | S34: 0 | T34: 0 | U34: 0 | V34: 0 | W34: {=$P34*TRANSPOSE($F$8:$F$12)} -> 0 | X34: 0 | Y34: 0 | Z34: 0 | AA34: 0
P35: 0.32 | Q35: {=(1-$P35)*TRANSPOSE($F$2:$F$7)} -> 0 | R35: 0 | S35: 0 | T35: 0 | U35: 0 | V35: 0 | W35: {=$P35*TRANSPOSE($F$8:$F$12)} -> 0 | X35: 0 | Y35: 0 | Z35: 0 | AA35: 0
P36: 0.33 | Q36: {=(1-$P36)*TRANSPOSE($F$2:$F$7)} -> 0 | R36: 0 | S36: 0 | T36: 0 | U36: 0 | V36: 0 | W36: {=$P36*TRANSPOSE($F$8:$F$12)} -> 0 | X36: 0 | Y36: 0 | Z36: 0 | AA36: 0
P37: 0.34 | Q37: {=(1-$P37)*TRANSPOSE($F$2:$F$7)} -> 0 | R37: 0 | S37: 0 | T37: 0 | U37: 0 | V37: 0 | W37: {=$P37*TRANSPOSE($F$8:$F$12)} -> 0 | X37: 0 | Y37: 0 | Z37: 0 | AA37: 0
P38: 0.35 | Q38: {=(1-$P38)*TRANSPOSE($F$2:$F$7)} -> 0 | R38: 0 | S38: 0 | T38: 0 | U38: 0 | V38: 0 | W38: {=$P38*TRANSPOSE($F$8:$F$12)} -> 0 | X38: 0 | Y38: 0 | Z38: 0 | AA38: 0
... P103: 1 | Q103: {=(1-$P103)*TRANSPOSE($F$2:$F$7)} -> 0 | R103: 0 | S103: 0 | T103: 0 | U103: 0 | V103: 0 | W103: {=$P103*TRANSPOSE($F$8:$F$12)} -> 0 | X103: 0 | Y103: 0 | Z103: 0 | AA103: 0

Sheet ESEMPIO DI METAPORTFOLIO
A1: ASSET CLASSES | B1: Metaportfolio (Banca Media del Centro Italia)
A2: Money Market Area € | B2: 0.00026421701
A3: Bond Area € Short Term | B3: 0.01963632
A4: Bond Area € All Maturities | B4: 0.32344321
A5: Bond € Corporate | B5: 0.054352288
A6: Bond Global | B6: 0.076320393
A7: Bond Global HY | B7: 0.0073157946
A8: Bond Emerging Mkts | B8: 0.054226423
A9: Equity Europe | B9: 0.065554189
A10: Equity North America | B10: 0.057108941
A11: Equity Pacific | B11: 0.01446757
A12: Equity Emerging Markets | B12: 0.034012546
A13: Opportunities | B13: 0.018786135
... A15: Flexible Funds medium-high risk | B15: 0.059522439
B16: 1

Sheet Mark opt
A1: Asset Class | B1: E(r) | C1: s | D1: Pesi | G1: cov | H1: Bofa ML Euro 0-1 anni | I1: Bofa ML Bond Euro 1-3 Y | J1: Bofa ML Obbl. Euro | K1: Bofa ML Obbl. Globale | L1: ML Global HY | M1: Bofa ML Obbl Emergente | N1: MSCI Europe | O1: MSCI North America | P1: MSCI Pacific | Q1: MSCI Emerging Markets | R1: Opportunities
A2: Bofa ML Euro 0-1 anni | B2: 0.02 | C2: 0.0086802842 | G2: =A2 -> Bofa ML Euro 0-1 anni | H2: =$C2^2 -> 7.5347334e-05 | I2: 8.4124644e-05 | J2: 8.3378228e-05 | K2: 7.1342985e-05 | L2: -0.00017397431 | M2: -6.1542754e-05 | N2: -0.00033207095 | O2: -0.00039257831 | P2: -0.00034189094 | Q2: -0.00033686116 | R2: -0.00026083404
A3: Bofa ML Bond Euro 1-3 Y | B3: 0.029 | C3: 0.016887831 | G3: =A3 -> Bofa ML Bond Euro 1-3 Y | H3: 8.4124644e-05 | I3: =$C3^2 -> 0.00028519884 | J3: 0.00052850669 | K3: 0.000301066 | L3: -1.9639822e-06 | M3: 7.8226156e-05 | N3: -0.00044277805 | O3: -0.00057545911 | P3: -0.0002638948 | Q3: -0.00051360836 | R3: -0.00054852013
A4: Bofa ML Obbl. Euro | B4: 0.03255 | C4: 0.04168791 | G4: =A4 -> Bofa ML Obbl. Euro | H4: 8.3378228e-05 | I4: 0.00052850669 | J4: =$C4^2 -> 0.0017378818 | K4: 0.0012112773 | L4: 0.00043922155 | M4: 0.00082645978 | N4: -0.00036330969 | O4: -0.00033697727 | P4: -0.00023877628 | Q4: -0.0004320099 | R4: -0.00066831916
A5: Bofa ML Obbl. Globale | B5: 0.030122243 | C5: 0.069174632 | G5: =A5 -> Bofa ML Obbl. Globale | H5: 7.1342985e-05 | I5: 0.000301066 | J5: 0.0012112773 | K5: =$C5^2 -> 0.0047851297 | L5: 0.0023664839 | M5: 0.0025755328 | N5: -0.0023069931 | O5: 0.0008906135 | P5: 0.00028093602 | Q5: -0.0019456008 | R5: -0.00055598841
A6: ML Global HY | B6: 0.073 | C6: 0.11065841 | G6: =A6 -> ML Global HY | H6: -0.00017397431 | I6: -1.9639822e-06 | J6: 0.00043922155 | K6: 0.0023664839 | L6: =$C6^2 -> 0.012245283 | M6: 0.00983592 | N6: 0.010775571 | O6: 0.012850416 | P6: 0.010944858 | Q6: 0.01493782 | R6: 0.011378505
A7: Bofa ML Obbl Emergente | B7: 0.06 | C7: 0.12718802 | G7: =A7 -> Bofa ML Obbl Emergente | H7: -6.1542754e-05 | I7: 7.8226156e-05 | J7: 0.00082645978 | K7: 0.0025755328 | L7: 0.00983592 | M7: =$C7^2 -> 0.016176792 | N7: 0.010983252 | O7: 0.013100393 | P7: 0.012511455 | Q7: 0.019179196 | R7: 0.011104224
A8: MSCI Europe | B8: 0.065 | C8: 0.17527257 | G8: =A8 -> MSCI Europe | H8: -0.00033207095 | I8: -0.00044277805 | J8: -0.00036330969 | K8: -0.0023069931 | L8: 0.010775571 | M8: 0.010983252 | N8: =$C8^2 -> 0.030720472 | O8: 0.024597742 | P8: 0.022749367 | Q8: 0.030464166 | R8: 0.022943713
A9: MSCI North America | B9: 0.075 | C9: 0.178 | G9: =A9 -> MSCI North America | H9: -0.00039257831 | I9: -0.00057545911 | J9: -0.00033697727 | K9: 0.0008906135 | L9: 0.012850416 | M9: 0.013100393 | N9: 0.024597742 | O9: =$C9^2 -> 0.031684 | P9: 0.022144246 | Q9: 0.028532455 | R9: 0.023753384
A10: MSCI Pacific | B10: 0.068068267 | C10: 0.18555431 | G10: =A10 -> MSCI Pacific | H10: -0.00034189094 | I10: -0.0002638948 | J10: -0.00023877628 | K10: 0.00028093602 | L10: 0.010944858 | M10: 0.012511455 | N10: 0.022749367 | O10: 0.022144246 | P10: =$C10^2 -> 0.034430403 | Q10: 0.034107686 | R10: 0.02169613
A11: MSCI Emerging Markets | B11: 0.083775786 | C11: 0.23692683 | G11: =A11 -> MSCI Emerging Markets | H11: -0.00033686116 | I11: -0.00051360836 | J11: -0.0004320099 | K11: -0.0019456008 | L11: 0.01493782 | M11: 0.019179196 | N11: 0.030464166 | O11: 0.028532455 | P11: 0.034107686 | Q11: =$C11^2 -> 0.056134322 | R11: 0.028302038
A12: Opportunities | B12: 0.068743756 | C12: 0.15358287 | G12: =A12 -> Opportunities | H12: -0.00026083404 | I12: -0.00054852013 | J12: -0.00066831916 | K12: -0.00055598841 | L12: 0.011378505 | M12: 0.011104224 | N12: 0.022943713 | O12: 0.023753384 | P12: 0.02169613 | Q12: 0.028302038 | R12: =$C12^2 -> 0.023587697
A13: PORTAFOGLIO
G14: corr | H14: 1 | I14: 0.5738725 | J14: 0.23041386 | K14: 0.11881478 | L14: -0.18112014 | M14: -0.055743828 | N14: -0.21826445 | O14: -0.26406301 | P14: -0.21226705 | Q14: -0.1637958 | R14: -0.19565347
H15: 0.5738725 | I15: 1 | J15: 0.75070012 | K15: 0.25771576 | L15: -0.0010509432 | M15: 0.036419327 | N15: -0.14958852 | O15: -0.19895543 | P15: -0.08421431 | Q15: -0.12836421 | R15: -0.21148322
A16: Rendimento Target (R*) | H16: 0.23041386 | I16: 0.75070012 | J16: 1 | K16: 0.4200361 | L16: 0.095211435 | M16: 0.15587103 | N16: -0.049722496 | O16: -0.047196055 | P16: -0.030868108 | Q16: -0.04373905 | R16: -0.1043833
H17: 0.11881478 | I17: 0.25771576 | J17: 0.4200361 | K17: 1 | L17: 0.30915216 | M17: 0.29273459 | N17: -0.19027665 | O17: 0.075172263 | P17: 0.021887165 | Q17: -0.11871146 | R17: -0.052333058
H18: -0.18112014 | I18: -0.0010509432 | J18: 0.095211435 | K18: 0.30915216 | L18: 1 | M18: 0.69885067 | N18: 0.55557404 | O18: 0.67802855 | P18: 0.53303368 | Q18: 0.56975555 | R18: 0.66951145
H19: -0.055743828 | I19: 0.036419327 | J19: 0.15587103 | K19: 0.29273459 | L19: 0.69885067 | M19: 1 | N19: 0.49268665 | O19: 0.60138604 | P19: 0.53014001 | Q19: 0.6364583 | R19: 0.56845913
H20: -0.21826445 | I20: -0.14958852 | J20: -0.049722496 | K20: -0.19027665 | L20: 0.55557404 | M20: 0.49268665 | N20: 1 | O20: 0.81940102 | P20: 0.69949453 | Q20: 0.73360301 | R20: 0.85232846
H21: -0.26406301 | I21: -0.19895543 | J21: -0.047196055 | K21: 0.075172263 | L21: 0.67802855 | M21: 0.60138604 | N21: 0.81940102 | O21: 1 | P21: 0.69679505 | Q21: 0.70313726 | R21: 0.90302117
H22: -0.21226705 | I22: -0.08421431 | J22: -0.030868108 | K22: 0.021887165 | L22: 0.53303368 | M22: 0.53014001 | N22: 0.69949453 | O22: 0.69679505 | P22: 1 | Q22: 0.77583071 | R22: 0.76132213
H23: -0.1637958 | I23: -0.12836421 | J23: -0.04373905 | K23: -0.11871146 | L23: 0.56975555 | M23: 0.6364583 | N23: 0.73360301 | O23: 0.70313726 | P23: 0.77583071 | Q23: 1 | R23: 0.77778704
H24: -0.19565347 | I24: -0.21148322 | J24: -0.1043833 | K24: -0.052333058 | L24: 0.66951145 | M24: 0.56845913 | N24: 0.85232846 | O24: 0.90302117 | P24: 0.76132213 | Q24: 0.77778704 | R24: 1

Sheet Mark abs
