Workbook

Sheet Andamento Banche
B1: FTSE ITALY BANKS
A2: 2000 | B2: 0.12378179
A3: 2001 | B3: -0.34543461
A4: 2002 | B4: -0.33027746
A5: 2003 | B5: 0.38796671
A6: 2004 | B6: 0.11576016
A7: 2005 | B7: 0.33406748
A8: 2006 | B8: 0.28924255
A9: 2007 | B9: -0.10208472
A10: 2008 | B10: -0.56086708
A11: 2009 | B11: 0.28682775
A12: 2010 | B12: -0.30419275
A13: 2011 | B13: -0.44395009
... A27: 2025 | B27: 0.78229029

Sheet DATI
A1: DATE | B1: INTESA SP | D1: VOLSWAGEN | F1: NOKIA | H1: MSCI ITALIA | J1: MSCI FINLANDIA | L1: MSCI GERMANIA | N1: Unicredit | P1: BMW | R1: IBM | T1: APPLE | V1: S&P500
A2: 45849 | B2: 4.92 | D2: 97 | F2: 4.27 | H2: 1281.421 | J2: 745.965 | L2: 1425.827 | N2: 57.94 | P2: 85.3 | R2: 283.5901 | T2: 211.16 | V2: 6259.75
A3: 45852 | B3: 4.93 | C3: =(B3-B2)/B2 -> 0.0020325203 | D3: 95.9 | E3: =(D3-D2)/D2 -> -0.011340206 | F3: 4.275 | G3: =(F3-F2)/F2 -> 0.0011709602 | H3: 1284.357 | I3: =(H3-H2)/H2 -> 0.0022912064 | J3: 744.161 | K3: =(J3-J2)/J2 -> -0.002418344 | L3: 1419.678 | M3: =(L3-L2)/L2 -> -0.0043125849 | N3: 58.24 | O3: =(N3-N2)/N2 -> 0.0051777701 | P3: 83.36 | Q3: =(P3-P2)/P2 -> -0.022743259 | R3: 283.79 | S3: =(R3-R2)/R2 -> 0.00070489062 | T3: 208.62 | U3: =(T3-T2)/T2 -> -0.012028793 | V3: 6268.56 | W3: =(V3-V2)/V2 -> 0.0014074044
A4: 45853 | B4: 4.876 | C4: =(B4-B3)/B3 -> -0.010953347 | D4: 95.7 | E4: =(D4-D3)/D3 -> -0.0020855057 | F4: 4.121 | G4: =(F4-F3)/F3 -> -0.036023392 | H4: 1275.876 | I4: =(H4-H3)/H3 -> -0.0066033042 | J4: 739.373 | K4: =(J4-J3)/J3 -> -0.0064340915 | L4: 1415.343 | M4: =(L4-L3)/L3 -> -0.0030535093 | N4: 57.58 | O4: =(N4-N3)/N3 -> -0.011332418 | P4: 84.72 | Q4: =(P4-P3)/P3 -> 0.016314779 | R4: 282.7 | S4: =(R4-R3)/R3 -> -0.0038408682 | T4: 209.11 | U4: =(T4-T3)/T3 -> 0.0023487681 | V4: 6243.76 | W4: =(V4-V3)/V3 -> -0.0039562515
A5: 45854 | B5: 4.885 | C5: =(B5-B4)/B4 -> 0.0018457752 | D5: 92.8 | E5: =(D5-D4)/D4 -> -0.03030303 | F5: 4.099 | G5: =(F5-F4)/F4 -> -0.0053385101 | H5: 1272.193 | I5: =(H5-H4)/H4 -> -0.0028866442 | J5: 738.302 | K5: =(J5-J4)/J4 -> -0.0014485246 | L5: 1411.379 | M5: =(L5-L4)/L4 -> -0.0028007345 | N5: 57.34 | O5: =(N5-N4)/N4 -> -0.0041681139 | P5: 84.42 | Q5: =(P5-P4)/P4 -> -0.0035410765 | R5: 281.9199 | S5: =(R5-R4)/R4 -> -0.0027594623 | T5: 210.16 | U5: =(T5-T4)/T4 -> 0.0050212807 | V5: 6263.7 | W5: =(V5-V4)/V4 -> 0.0031935885
A6: 45855 | B6: 4.9255 | C6: =(B6-B5)/B5 -> 0.0082906858 | D6: 93.2 | E6: =(D6-D5)/D5 -> 0.0043103448 | F6: 4.156 | G6: =(F6-F5)/F5 -> 0.013905831 | H6: 1283.945 | I6: =(H6-H5)/H5 -> 0.0092375921 | J6: 737.821 | K6: =(J6-J5)/J5 -> -0.00065149492 | L6: 1431.511 | M6: =(L6-L5)/L5 -> 0.014264064 | N6: 57.96 | O6: =(N6-N5)/N5 -> 0.010812696 | P6: 84.02 | Q6: =(P6-P5)/P5 -> -0.0047382137 | R6: 282 | S6: =(R6-R5)/R5 -> 0.00028412326 | T6: 210.02 | U6: =(T6-T5)/T5 -> -0.00066615912 | V6: 6297.36 | W6: =(V6-V5)/V5 -> 0.0053738206
A7: 45856 | B7: 4.931 | C7: =(B7-B6)/B6 -> 0.0011166379 | D7: 92.6 | E7: =(D7-D6)/D6 -> -0.0064377682 | F7: 4.133 | G7: =(F7-F6)/F6 -> -0.0055341675 | H7: 1288.601 | I7: =(H7-H6)/H6 -> 0.0036263236 | J7: 738.615 | K7: =(J7-J6)/J6 -> 0.0010761418 | L7: 1426.31 | M7: =(L7-L6)/L6 -> -0.0036332239 | N7: 58.07 | O7: =(N7-N6)/N6 -> 0.0018978606 | P7: 83.54 | Q7: =(P7-P6)/P6 -> -0.0057129255 | R7: 285.8701 | S7: =(R7-R6)/R6 -> 0.013723759 | T7: 211.18 | U7: =(T7-T6)/T6 -> 0.0055232835 | V7: 6296.79 | W7: =(V7-V6)/V6 -> -9.051412e-05
A8: 45859 | B8: 4.923 | C8: =(B8-B7)/B7 -> -0.001622389 | D8: 92.8 | E8: =(D8-D7)/D7 -> 0.0021598272 | F8: 4.104 | G8: =(F8-F7)/F7 -> -0.0070166949 | H8: 1282.426 | I8: =(H8-H7)/H7 -> -0.0047920186 | J8: 742.067 | K8: =(J8-J7)/J7 -> 0.0046736121 | L8: 1428.13 | M8: =(L8-L7)/L7 -> 0.0012760199 | N8: 58.04 | O8: =(N8-N7)/N7 -> -0.00051661787 | P8: 84.4 | Q8: =(P8-P7)/P7 -> 0.01029447 | R8: 284.71 | S8: =(R8-R7)/R7 -> -0.0040581369 | T8: 212.48 | U8: =(T8-T7)/T7 -> 0.006155886 | V8: 6305.6 | W8: =(V8-V7)/V7 -> 0.0013991256
A9: 45860 | B9: 4.922 | C9: =(B9-B8)/B8 -> -0.00020312817 | D9: 92.95 | E9: =(D9-D8)/D8 -> 0.0016163793 | F9: 4.107 | G9: =(F9-F8)/F8 -> 0.00073099415 | H9: 1282.056 | I9: =(H9-H8)/H8 -> -0.00028851567 | J9: 738.292 | K9: =(J9-J8)/J8 -> -0.0050871417 | L9: 1414.058 | M9: =(L9-L8)/L8 -> -0.0098534447 | N9: 58.08 | O9: =(N9-N8)/N8 -> 0.00068917988 | P9: 83.02 | Q9: =(P9-P8)/P8 -> -0.016350711 | R9: 281.96 | S9: =(R9-R8)/R8 -> -0.0096589512 | T9: 214.4 | U9: =(T9-T8)/T8 -> 0.0090361446 | V9: 6309.62 | W9: =(V9-V8)/V8 -> 0.00063752855
A10: 45861 | B10: 5.018 | C10: =(B10-B9)/B9 -> 0.019504267 | D10: 98 | E10: =(D10-D9)/D9 -> 0.054330285 | F10: 3.796 | G10: =(F10-F9)/F9 -> -0.075724373 | H10: 1301.296 | I10: =(H10-H9)/H9 -> 0.015007145 | J10: 740.461 | K10: =(J10-J9)/J9 -> 0.002937862 | L10: 1424.896 | M10: =(L10-L9)/L9 -> 0.0076644664 | N10: 60.19 | O10: =(N10-N9)/N9 -> 0.036329201 | P10: 87.52 | Q10: =(P10-P9)/P9 -> 0.054203806 | R10: 282.01 | S10: =(R10-R9)/R9 -> 0.00017733012 | T10: 214.15 | U10: =(T10-T9)/T9 -> -0.0011660448 | V10: 6358.91 | W10: =(V10-V9)/V9 -> 0.0078118809
A11: 45862 | B11: 5.066 | C11: =(B11-B10)/B10 -> 0.009565564 | D11: 98.05 | E11: =(D11-D10)/D10 -> 0.00051020408 | F11: 3.75 | G11: =(F11-F10)/F10 -> -0.012118019 | H11: 1305.824 | I11: =(H11-H10)/H10 -> 0.003479608 | J11: 745.983 | K11: =(J11-J10)/J10 -> 0.0074575163 | L11: 1428.311 | M11: =(L11-L10)/L10 -> 0.0023966661 | N11: 61.24 | O11: =(N11-N10)/N10 -> 0.017444758 | P11: 86.56 | Q11: =(P11-P10)/P10 -> -0.010968921 | R11: 260.51 | S11: =(R11-R10)/R10 -> -0.076238431 | T11: 213.76 | U11: =(T11-T10)/T10 -> -0.0018211534 | V11: 6363.35 | W11: =(V11-V10)/V10 -> 0.00069823287
A12: 45863 | B12: 5.059 | C12: =(B12-B11)/B11 -> -0.0013817608 | D12: 102.6 | E12: =(D12-D11)/D11 -> 0.046404895 | F12: 3.701 | G12: =(F12-F11)/F11 -> -0.013066667 | H12: 1310.406 | I12: =(H12-H11)/H11 -> 0.0035088955 | J12: 745.81 | K12: =(J12-J11)/J11 -> -0.00023190877 | L12: 1424.367 | M12: =(L12-L11)/L11 -> -0.0027613034 | N12: 61.23 | O12: =(N12-N11)/N11 -> -0.00016329197 | P12: 88.9 | Q12: =(P12-P11)/P11 -> 0.027033272 | R12: 259.72 | S12: =(R12-R11)/R11 -> -0.0030325131 | T12: 213.88 | U12: =(T12-T11)/T11 -> 0.00056137725 | V12: 6388.64 | W12: =(V12-V11)/V11 -> 0.0039743217
A13: 45866 | B13: 5.085 | C13: =(B13-B12)/B12 -> 0.0051393556 | D13: 99.45 | E13: =(D13-D12)/D12 -> -0.030701754 | F13: 3.657 | G13: =(F13-F12)/F12 -> -0.011888679 | H13: 1309.798 | I13: =(H13-H12)/H12 -> -0.00046397834 | J13: 742.373 | K13: =(J13-J12)/J12 -> -0.0046084123 | L13: 1410.514 | M13: =(L13-L12)/L12 -> -0.0097257238 | N13: 61.68 | O13: =(N13-N12)/N12 -> 0.0073493386 | P13: 85.9 | Q13: =(P13-P12)/P12 -> -0.033745782 | R13: 263.21 | S13: =(R13-R12)/R12 -> 0.013437548 | T13: 214.05 | U13: =(T13-T12)/T12 -> 0.00079483823 | V13: 6389.77 | W13: =(V13-V12)/V12 -> 0.00017687646
A14: 45867 | B14: 5.198 | C14: =(B14-B13)/B13 -> 0.022222222 | D14: 97.25 | E14: =(D14-D13)/D13 -> -0.022121669 | F14: 3.592 | G14: =(F14-F13)/F13 -> -0.017774132 | H14: 1325.592 | I14: =(H14-H13)/H13 -> 0.012058348 | J14: 742.911 | K14: =(J14-J13)/J13 -> 0.00072470308 | L14: 1424.8 | M14: =(L14-L13)/L13 -> 0.010128223 | N14: 63 | O14: =(N14-N13)/N13 -> 0.021400778 | P14: 86.4 | Q14: =(P14-P13)/P13 -> 0.0058207218 | R14: 262.4099 | S14: =(R14-R13)/R13 -> -0.0030397781 | T14: 211.27 | U14: =(T14-T13)/T13 -> -0.01298762 | V14: 6370.86 | W14: =(V14-V13)/V13 -> -0.0029594179
... A302: 46269 | B302: 6.736 | C302: =(B302-B301)/B301 -> -0.00029682398 | D302: 82.2 | E302: =(D302-D301)/D301 -> 0.060645161 | F302: 8.656 | G302: =(F302-F301)/F301 -> 0.029250892 | H302: 1646.324 | I302: =(H302-H301)/H301 -> -0.0037934325 | J302: 1005.58 | K302: =(J302-J301)/J301 -> 0.0091888594 | L302: 1485.334 | M302: =(L302-L301)/L301 -> 0.00091578362 | N302: 83.67 | O302: =(N302-N301)/N301 -> -0.011460302 | P302: 62.94 | Q302: =(P302-P301)/P301 -> 0.016801292 | R302: 234.89 | S302: =(R302-R301)/R301 -> 0.00076690384 | T302: 319.97 | U302: =(T302-T301)/T301 -> -0.025105877 | V302: 7718.6 | W302: =(V302-V301)/V301 -> -0.0037572392

Sheet Capital Allocation
A1: Patrimonio Banca | B1: 100000000
A2: CaR | B2: 60000000
A3: Free Capital | B3: =B1-B2 -> 40000000
A4: Rischio Operativo | B4: 8000000
A5: Area Crediti | B5: 27000000
A6: Area Provvig | B6: 12000000
A7: TI | B7: 8000000
A8: Trading Book | B8: 5000000
A9: Totale | B9: =SUM(B5:B8) -> 52000000
B10: limite annuale | C10: limite giornaliero
A11: Desk Equity | B11: 700000 | C11: =B11/SQRT(260) -> 43412.157
A12: Desk Bond | B12: 4000000 | C12: =B12/SQRT(260) -> 248069.47
A13: Desk Exchange | B13: 300000 | C13: =B13/SQRT(260) -> 18605.21
A14: Desk Commodities | B14: 0

Sheet Sim Storiche
A1: Date | B1: Intesa SP | D1: lim rischio giorn | E1: ='Capital Allocation'!C11 -> 43412.157
A2: 45852 | B2: 0.0020325203 | D2: Valore di Mercato
A3: 45853 | B3: -0.010953347 | D3: VaR (99%)
A4: 45854 | B4: 0.0018457752
A5: 45855 | B5: 0.0082906858 | D5: lim rischio giorn | E5: =E1 -> 43412.157
A6: 45856 | B6: 0.0011166379 | D6: Valore di Mercato
A7: 45859 | B7: -0.001622389 | D7: VaR (98%)
A8: 45860 | B8: -0.00020312817
A9: 45861 | B9: 0.019504267 | D9: lim rischio giorn | E9: =E5 -> 43412.157
A10: 45862 | B10: 0.009565564 | D10: Valore di Mercato
A11: 45863 | B11: -0.0013817608 | D11: VaR (95%)
A12: 45866 | B12: 0.0051393556
A13: 45867 | B13: 0.022222222
A14: 45868 | B14: 0.043863024
A15: 45869 | B15: -0.024143015
A16: 45870 | B16: -0.055712937
A17: 45873 | B17: 0.0324
A18: 45874 | B18: -0.0058117009
A19: 45875 | B19: 0.0079890881
A20: 45876 | B20: 0.016431471
A21: 45877 | B21: 0.014834538
A22: 45880 | B22: -0.0020614693
A23: 45881 | B23: 0.0033802817
... A301: 46269 | B301: -0.00029682398

Sheet Esempio scelta liv conf
A1: Date | B1: Intesa SP | D1: lim rischio giorn | E1: ='Capital Allocation'!C11 -> 43412.157
A2: 45852 | B2: 0.0020325203 | D2: Valore di Mercato
A3: 45853 | B3: -0.010953347 | C3: Alfa | D3: VaR (99%) | E3: =E2*ABS(B5) -> 0
A4: 45854 | B4: 0.0018457752
A5: 45855 | B5: 0.0082906858 | D5: lim rischio giorn | E5: =E1 -> 43412.157
A6: 45856 | B6: 0.0011166379 | D6: Valore di Mercato
A7: 45859 | B7: -0.001622389 | C7: Beta | D7: VaR (98%) | E7: =E6*ABS(B8) -> 0
A8: 45860 | B8: -0.00020312817
A9: 45861 | B9: 0.019504267 | D9: lim rischio giorn | E9: =E5 -> 43412.157
A10: 45862 | B10: 0.009565564 | D10: Valore di Mercato
A11: 45863 | B11: -0.0013817608 | C11: Gamma | D11: VaR (95%) | E11: =E10*ABS(B17) -> 0
A12: 45866 | B12: 0.0051393556
A13: 45867 | B13: 0.022222222
A14: 45868 | B14: 0.043863024
A15: 45869 | B15: -0.024143015
A16: 45870 | B16: -0.055712937
A17: 45873 | B17: 0.0324
A18: 45874 | B18: -0.0058117009
A19: 45875 | B19: 0.0079890881
A20: 45876 | B20: 0.016431471
A21: 45877 | B21: 0.014834538
A22: 45880 | B22: -0.0020614693
A23: 45881 | B23: 0.0033802817
... A301: 46269 | B301: -0.00029682398

Sheet Scelta livello confid
A1: Rating S&P | B1: Pd 1 anno
A2: AAA | B2: 1e-05 | C2: Scelta del Rating obiettivo:
A3: AA+ | B3: 0.0002 | D3: Rating S&P target | E3: PD associata | F3: livello di confidenza
A4: AA | B4: 0.0003 | D4: BBB | E4: =IF(D4="","",SUMIF(A2:A18,D4,B2:B18)) -> 0.0017 | F4: =IF(E4="","",1-E4) -> 0.9983
A5: AA- | B5: 0.00035
A6: A+ | B6: 0.0005
A7: A | B7: 0.0006
A8: A- | B8: 0.0009
A9: BBB+ | B9: 0.0012
A10: BBB | B10: 0.0017
A11: BBB- | B11: 0.0053
A12: BB+ | B12: 0.006
A13: BB | B13: 0.012
A14: BB- | B14: 0.019
A15: B+ | B15: 0.031
A16: B | B16: 0.051
... A18: CCC-C | B18: 0.211

Sheet Sim Storiche 2 TITOLI
A1: Date | B1: Intesa SP | C1: VOLKSW | D1: PORTAF | G1: lim rischio giorn | H1: ='Capital Allocation'!C11 -> 43412.157 | I1: Intesa SP | J1: VOLKSW
A2: 45852 | B2: 0.0020325203 | C2: -0.011340206 | G2: Valore di Mercato | H2: =I2+J2 -> 1000000 | I2: 600000 | J2: 400000
A3: 45853 | B3: -0.010953347 | C3: -0.0020855057 | G3: VaR (99%) | I3: =I2/$H$2 -> 0.6 | J3: =J2/$H$2 -> 0.4
A4: 45854 | B4: 0.0018457752 | C4: -0.03030303
A5: 45855 | B5: 0.0082906858 | C5: 0.0043103448
A6: 45856 | B6: 0.0011166379 | C6: -0.0064377682
A7: 45859 | B7: -0.001622389 | C7: 0.0021598272
A8: 45860 | B8: -0.00020312817 | C8: 0.0016163793
A9: 45861 | B9: 0.019504267 | C9: 0.054330285
A10: 45862 | B10: 0.009565564 | C10: 0.00051020408
A11: 45863 | B11: -0.0013817608 | C11: 0.046404895
A12: 45866 | B12: 0.0051393556 | C12: -0.030701754
A13: 45867 | B13: 0.022222222 | C13: -0.022121669
A14: 45868 | B14: 0.043863024 | C14: -0.023136247
A15: 45869 | B15: -0.024143015 | C15: 0
... A301: 46269 | B301: -0.00029682398 | C301: 0.060645161

Sheet var-cov 1 titolo
A1: Date | B1: Intesa SP | D1: lim rischio giorn | E1: ='Capital Allocation'!C11 -> 43412.157
A2: 45852 | B2: 0.0020325203 | D2: Valore di Mercato | E2: ='Sim Storiche'!E2 -> 0
A3: 45853 | B3: -0.010953347 | D3: livello di confidenza | E3: 0.99
A4: 45854 | B4: 0.0018457752 | D4: Rend Medio
A5: 45855 | B5: 0.0082906858 | D5: Dev.st
A6: 45856 | B6: 0.0011166379 | D6: Multiplo di s
A7: 45859 | B7: -0.001622389 | D7: Evento estremo %
A8: 45860 | B8: -0.00020312817 | D8: VaR VAR-COV
A9: 45861 | B9: 0.019504267
A10: 45862 | B10: 0.009565564
A11: 45863 | B11: -0.0013817608
A12: 45866 | B12: 0.0051393556
A13: 45867 | B13: 0.022222222
A14: 45868 | B14: 0.043863024
A15: 45869 | B15: -0.024143015
A16: 45870 | B16: -0.055712937
A17: 45873 | B17: 0.0324
A18: 45874 | B18: -0.0058117009
A19: 45875 | B19: 0.0079890881
A20: 45876 | B20: 0.016431471
... A301: 46269 | B301: -0.00029682398

Sheet var-cov 2 titoli
A1: Date | B1: Intesa SP | C1: VOLKSW | E1: lim rischio giorn | F1: ='Capital Allocation'!C11 -> 43412.157
A2: 45852 | B2: 0.0020325203 | C2: -0.011340206 | E2: Liv.conf. | F2: 0.99
A3: 45853 | B3: -0.010953347 | C3: -0.0020855057 | E3: VM INT | F3: ='Sim Storiche 2 TITOLI'!I2 -> 600000 | G3: =F3/SUM($F$3:$F$4) -> 0.6
A4: 45854 | B4: 0.0018457752 | C4: -0.03030303 | E4: VM Volks | F4: ='Sim Storiche 2 TITOLI'!J2 -> 400000 | G4: =F4/SUM($F$3:$F$4) -> 0.4
A5: 45855 | B5: 0.0082906858 | C5: 0.0043103448
A6: 45856 | B6: 0.0011166379 | C6: -0.0064377682 | E6: sigma INT
A7: 45859 | B7: -0.001622389 | C7: 0.0021598272 | E7: sigma VOLKS
A8: 45860 | B8: -0.00020312817 | C8: 0.0016163793 | E8: multiplo (k)
A9: 45861 | B9: 0.019504267 | C9: 0.054330285 | E9: VaR INT
A10: 45862 | B10: 0.009565564 | C10: 0.00051020408 | E10: VaR VOLKS
A11: 45863 | B11: -0.0013817608 | C11: 0.046404895 | E11: correlaz
A12: 45866 | B12: 0.0051393556 | C12: -0.030701754 | E12: VaR PORTAFOGLIO
A13: 45867 | B13: 0.022222222 | C13: -0.022121669
A14: 45868 | B14: 0.043863024 | C14: -0.023136247
A15: 45869 | B15: -0.024143015 | C15: 0
A16: 45870 | B16: -0.055712937 | C16: -0.038947368
A17: 45873 | B17: 0.0324 | C17: 0.0065717415
A18: 45874 | B18: -0.0058117009 | C18: 0.0070729053
A19: 45875 | B19: 0.0079890881 | C19: 0.017828201
A20: 45876 | B20: 0.016431471 | C20: 0.020700637
A21: 45877 | B21: 0.014834538 | C21: 0.0088403536
A22: 45880 | B22: -0.0020614693 | C22: 0.021134021
A23: 45881 | B23: 0.0033802817 | C23: 0.0095911156
A24: 45882 | B24: 0.016282987 | C24: 0.01
... A301: 46269 | B301: -0.00029682398 | C301: 0.060645161

Sheet var-cov 3 titoli
A1: Date | B1: Intesa SP | C1: VOLKSW | D1: NOKIA | E1: lim rischio giorn | F1: ='Capital Allocation'!C11 -> 43412.157 | J1: Date | K1: Portafoglio
A2: 45852 | B2: 0.0020325203 | C2: -0.011340206 | D2: 0.0011709602 | E2: Liv.conf. | F2: 0.99 | G2: Pesi | J2: 45481
A3: 45853 | B3: -0.010953347 | C3: -0.0020855057 | D3: -0.036023392 | E3: VM INT | F3: 300000 | G3: 0.4 | J3: 45482
A4: 45854 | B4: 0.0018457752 | C4: -0.03030303 | D4: -0.0053385101 | E4: VM Volks | F4: 162000 | G4: 0.25 | J4: 45483
A5: 45855 | B5: 0.0082906858 | C5: 0.0043103448 | D5: 0.013905831 | E5: VM NOKIA | F5: 150000 | G5: 0.35 | J5: 45484
A6: 45856 | B6: 0.0011166379 | C6: -0.0064377682 | D6: -0.0055341675 | E6: sigma INT | J6: 45485
A7: 45859 | B7: -0.001622389 | C7: 0.0021598272 | D7: -0.0070166949 | E7: sigma VOLKS | J7: 45488
A8: 45860 | B8: -0.00020312817 | C8: 0.0016163793 | D8: 0.00073099415 | E8: sigma NOKIA | J8: 45489
A9: 45861 | B9: 0.019504267 | C9: 0.054330285 | D9: -0.075724373 | E9: multiplo (k) | J9: 45490
A10: 45862 | B10: 0.009565564 | C10: 0.00051020408 | D10: -0.012118019 | E10: VaR INT | J10: 45491
A11: 45863 | B11: -0.0013817608 | C11: 0.046404895 | D11: -0.013066667 | E11: VaR VOLKS | J11: 45492
A12: 45866 | B12: 0.0051393556 | C12: -0.030701754 | D12: -0.011888679 | E12: VaR NOKIA | J12: 45495
A13: 45867 | B13: 0.022222222 | C13: -0.022121669 | D13: -0.017774132 | E13: VaR PORTAFOGLIO | J13: 45496 | M13: VaR PORTAFOGLIO Simulazioni Storiche | N13: =SUM(F3:F5)*ABS(K5) -> 0
A14: 45868 | B14: 0.043863024 | C14: -0.023136247 | D14: 0.00055679287 | J14: 45497
A15: 45869 | B15: -0.024143015 | C15: 0 | D15: -0.0016694491 | F15: Intesa SP | G15: Volkswagen | H15: NOKIA | J15: 45498
A16: 45870 | B16: -0.055712937 | C16: -0.038947368 | D16: -0.032887402 | E16: Intesa SP | J16: 45499
A17: 45873 | B17: 0.0324 | C17: 0.0065717415 | D17: 0.01815562 | E17: Volkswagen | J17: 45502
A18: 45874 | B18: -0.0058117009 | C18: 0.0070729053 | D18: -0.003962638 | E18: NOKIA | J18: 45503
A19: 45875 | B19: 0.0079890881 | C19: 0.017828201 | D19: -0.0014208582 | J19: 45504
A20: 45876 | B20: 0.016431471 | C20: 0.020700637 | D20: 0.0017074559 | J20: 45505
A21: 45877 | B21: 0.014834538 | C21: 0.0088403536 | D21: 0.0028409091 | J21: 45506
A22: 45880 | B22: -0.0020614693 | C22: 0.021134021 | D22: 0.00056657224 | J22: 45509
A23: 45881 | B23: 0.0033802817 | C23: 0.0095911156 | D23: 0.0087768969 | J23: 45510
A24: 45882 | B24: 0.016282987 | C24: 0.01 | D24: 0.0047712602 | J24: 45511
A25: 45883 | B25: 0.014548803 | C25: -0.0059405941 | D25: -0.0067039106 | J25: 45512
A26: 45884 | B26: 0 | C26: 0.014940239 | D26: 0.016310461 | J26: 45513
A27: 45887 | B27: -0.0036304229 | C27: -0.012757605 | D27: -0.0060874377 | J27: 45516
A28: 45888 | B28: 0.021133175 | C28: 0.019880716 | D28: 0.015033408 | J28: 45517
A29: 45889 | B29: -0.0057091882 | C29: 0.014619883 | D29: -0.0057597367 | J29: 45518
A30: 45890 | B30: 0.0064597165 | C30: -0.0076849183 | D30: -0.0013793103 | J30: 45519
... A301: 46269 | B301: -0.00029682398 | C301: 0.060645161 | D301: 0.029250892 | J301: 45898

Sheet grafico lambda
B2: =(1-$A$6)*$A$6^(B3-1) -> 0.06 | C2: =(1-$A$6)*$A$6^(C3-1) -> 0.0564 | D2: =(1-$A$6)*$A$6^(D3-1) -> 0.053016 | E2: =(1-$A$6)*$A$6^(E3-1) -> 0.04983504 | F2: =(1-$A$6)*$A$6^(F3-1) -> 0.046844938 | G2: =(1-$A$6)*$A$6^(G3-1) -> 0.044034241 | H2: =(1-$A$6)*$A$6^(H3-1) -> 0.041392187 | I2: =(1-$A$6)*$A$6^(I3-1) -> 0.038908656 | ... IV2: =(1-$A$6)*$A$6^(IV3-1) -> 8.9665642e-09
B3: 1 | C3: 2 | D3: 3 | E3: 4 | F3: 5 | G3: 6 | H3: 7 | I3: 8 | J3: 9 | K3: 10 | L3: 11 | M3: 12 | N3: 13 | O3: 14 | P3: 15 | Q3: 16 | R3: 17 | S3: 18 | T3: 19 | U3: 20 | V3: 21 | W3: 22 | X3: 23 | Y3: 24 | Z3: 25 | AA3: 26 | AB3: 27 | AC3: 28 | AD3: 29 | AE3: 30 | AF3: 31 | AG3: 32 | AH3: 33 | AI3: 34 | AJ3: 35 | AK3: 36 | AL3: 37 | AM3: 38 | AN3: 39 | AO3: 40 | AP3: 41 | AQ3: 42 | AR3: 43 | AS3: 44 | AT3: 45 | AU3: 46 | AV3: 47 | AW3: 48 | AX3: 49 | AY3: 50 | AZ3: 51 | BA3: 52 | BB3: 53 | BC3: 54 | BD3: 55 | BE3: 56 | BF3: 57 | BG3: 58 | BH3: 59 | BI3: 60 | BJ3: 61 | BK3: 62 | BL3: 63 | BM3: 64 | BN3: 65 | BO3: 66 | BP3: 67 | BQ3: 68 | BR3: 69 | BS3: 70 | BT3: 71 | BU3: 72 | BV3: 73 | BW3: 74 | BX3: 75 | BY3: 76 | BZ3: 77 | CA3: 78 | CB3: 79 | CC3: 80 | CD3: 81 | CE3: 82 | CF3: 83 | CG3: 84 | CH3: 85 | CI3: 86 | CJ3: 87 | CK3: 88 | CL3: 89 | CM3: 90 | CN3: 91 | CO3: 92 | CP3: 93 | CQ3: 94 | CR3: 95 | CS3: 96 | CT3: 97 | CU3: 98 | CV3: 99 | CW3: 100 | CX3: 101 | CY3: 102 | CZ3: 103 | DA3: 104 | DB3: 105 | DC3: 106 | DD3: 107 | DE3: 108 | DF3: 109 | DG3: 110 | DH3: 111 | DI3: 112 | DJ3: 113 | DK3: 114 | DL3: 115 | DM3: 116 | DN3: 117 | DO3: 118 | DP3: 119 | DQ3: 120 | DR3: 121 | DS3: 122 | DT3: 123 | DU3: 124 | DV3: 125 | DW3: 126 | DX3: 127 | DY3: 128 | DZ3: 129 | EA3: 130 | EB3: 131 | EC3: 132 | ED3: 133 | EE3: 134 | EF3: 135 | EG3: 136 | EH3: 137 | EI3: 138 | EJ3: 139 | EK3: 140 | EL3: 141 | EM3: 142 | EN3: 143 | EO3: 144 | EP3: 145 | EQ3: 146 | ER3: 147 | ES3: 148 | ET3: 149 | EU3: 150 | EV3: 151 | EW3: 152 | EX3: 153 | EY3: 154 | EZ3: 155 | FA3: 156 | FB3: 157 | FC3: 158 | FD3: 159 | FE3: 160 | FF3: 161 | FG3: 162 | FH3: 163 | FI3: 164 | FJ3: 165 | FK3: 166 | FL3: 167 | FM3: 168 | FN3: 169 | FO3: 170 | FP3: 171 | FQ3: 172 | FR3: 173 | FS3: 174 | FT3: 175 | FU3: 176 | FV3: 177 | FW3: 178 | FX3: 179 | FY3: 180 | FZ3: 181 | GA3: 182 | GB3: 183 | GC3: 184 | GD3: 185 | GE3: 186 | GF3: 187 | GG3: 188 | GH3: 189 | GI3: 190 | GJ3: 191 | GK3: 192 | GL3: 193 | GM3: 194 | GN3: 195 | GO3: 196 | GP3: 197 | GQ3: 198 | GR3: 199 | GS3: 200 | GT3: 201 | GU3: 202 | GV3: 203 | GW3: 204 | GX3: 205 | GY3: 206 | GZ3: 207 | HA3: 208 | HB3: 209 | HC3: 210 | HD3: 211 | HE3: 212 | HF3: 213 | HG3: 214 | HH3: 215 | HI3: 216 | HJ3: 217 | HK3: 218 | HL3: 219 | HM3: 220 | HN3: 221 | HO3: 222 | HP3: 223 | HQ3: 224 | HR3: 225 | HS3: 226 | HT3: 227 | HU3: 228 | HV3: 229 | HW3: 230 | HX3: 231 | HY3: 232 | HZ3: 233 | IA3: 234 | IB3: 235 | IC3: 236 | ID3: 237 | IE3: 238 | IF3: 239 | IG3: 240 | IH3: 241 | II3: 242 | IJ3: 243 | IK3: 244 | IL3: 245 | IM3: 246 | IN3: 247 | IO3: 248 | IP3: 249 | IQ3: 250 | IR3: 251 | IS3: 252 | IT3: 253 | IU3: 254 | IV3: 255
A5: Lambda
A6: 0.94
A7: DATI
A8: =LN(0.01)/LN(A6) -> 74.426507

Sheet sigma esp INTESA
A1: Date | B1: Intesa SP
A2: 45852 | B2: 0.0020325203 | D2: sigma semplice | E2: ewma 0,99 | F2: ewma 0,94
A3: 45853 | B3: -0.010953347
A4: 45854 | B4: 0.0018457752
A5: 45855 | B5: 0.0082906858
A6: 45856 | B6: 0.0011166379
A7: 45859 | B7: -0.001622389
A8: 45860 | B8: -0.00020312817
A9: 45861 | B9: 0.019504267
A10: 45862 | B10: 0.009565564
A11: 45863 | B11: -0.0013817608
A12: 45866 | B12: 0.0051393556
A13: 45867 | B13: 0.022222222
A14: 45868 | B14: 0.043863024
... A301: 46269 | B301: -0.00029682398

Sheet Effetto Echo
B1: MSCI USA | G1: sempli | H1: espon | I1: NUM
A2: 40480 | B2: 0.022538214 | G2: 0.053420757 | H2: 0.051607033 | I2: 1
A3: 40451 | B3: 0.011959904 | G3: 0.053213046 | H3: 0.050718408 | I3: 2
A4: 40421 | B4: -0.020500052 | G4: 0.046366242 | H4: 0.048040163 | I4: 3
A5: 40389 | B5: 0.0065437947 | G5: 0.043985973 | H5: 0.047055832 | I5: 4
A6: 40359 | B6: -0.051938374 | G6: 0.043407006 | H6: 0.046071157 | I6: 5
A7: 40329 | B7: -0.0075491368 | G7: 0.042921602 | H7: 0.045145155 | I7: 6
A8: 40298 | B8: 0.027479559 | G8: 0.04569599 | H8: 0.050507342 | I8: 7
A9: 40268 | B9: 0.06543882 | G9: 0.045248413 | H9: 0.04945015 | I9: 8
A10: 40235 | B10: 0.058508538 | G10: 0.04560465 | H10: 0.049865361 | I10: 9
A11: 40207 | B11: -0.0056760352 | G11: 0.046244309 | H11: 0.050172403 | I11: 10
A12: 40178 | B12: 0.062652765 | G12: 0.046293536 | H12: 0.049694595 | I12: 11
A13: 40147 | B13: 0.041251544 | G13: 0.046301683 | H13: 0.049086032 | I13: 12
... A150: 35976 | B150: 0.054881413 | G150: 0.043100918 | H150: 0.039603513 | I150: 149
A151: 35944 | B151: -0.027494214
A152: 35915 | B152: -0.019312734
A153: 35885 | B153: 0.07078634
A154: 35853 | B154: 0.061227656
A155: 35825 | B155: 0.028558479
A156: 35795 | B156: 0.033251558
A157: 35762 | B157: 0.073202637
A158: 35734 | B158: -0.053233091
A159: 35703 | B159: 0.031113897
A160: 35671 | B160: -0.079253712
A161: 35642 | B161: 0.136077
A162: 35611 | B162: 0.066911329
... A178: 35124 | B178: -0.0035834555
A179: 35095 | B179: 0.074800433 | C179: sempli | D179: espon
A180: 35062 | B180: 0.0036085261 | C180: =STDEV(B180:B239) -> 0.043100918 | D180: {=[1]!ewma(B180:B239,0.96)} -> 0.039603513 | E180: 149
A181: 35033 | B181: 0.069555332 | C181: =STDEV(B181:B240) -> 0.043119693 | D181: {=[1]!ewma(B181:B240,0.96)} -> 0.040356496 | E181: 148
A182: 35003 | B182: -0.012551815 | C182: =STDEV(B182:B241) -> 0.042736726 | D182: {=[1]!ewma(B182:B241,0.96)} -> 0.038655466 | E182: 147
A183: 34971 | B183: 0.010001389 | C183: =STDEV(B183:B242) -> 0.043051659 | D183: {=[1]!ewma(B183:B242,0.96)} -> 0.039373162 | E183: 146
A184: 34942 | B184: 0.062403999 | C184: =STDEV(B184:B243) -> 0.043882195 | D184: {=[1]!ewma(B184:B243,0.96)} -> 0.040264989 | E184: 145
A185: 34911 | B185: 0.029545737 | C185: =STDEV(B185:B244) -> 0.045667708 | D185: {=[1]!ewma(B185:B244,0.96)} -> 0.039647026 | E185: 144
A186: 34880 | B186: 0.001774465 | C186: =STDEV(B186:B245) -> 0.04607719 | D186: {=[1]!ewma(B186:B245,0.96)} -> 0.040057441 | E186: 143
A187: 34850 | B187: 0.060134306 | C187: =STDEV(B187:B246) -> 0.046228169 | D187: {=[1]!ewma(B187:B246,0.96)} -> 0.040827954 | E187: 142
A188: 34817 | B188: 0.039717919 | C188: =STDEV(B188:B247) -> 0.047205202 | D188: {=[1]!ewma(B188:B247,0.96)} -> 0.040245027 | E188: 141
A189: 34789 | B189: -0.042349105 | C189: =STDEV(B189:B248) -> 0.047260355 | D189: {=[1]!ewma(B189:B248,0.96)} -> 0.040224812 | E189: 140
A190: 34758 | B190: 0.0023995929 | C190: =STDEV(B190:B249) -> 0.046915819 | D190: {=[1]!ewma(B190:B249,0.96)} -> 0.040021205 | E190: 139
A191: 34730 | B191: 0.0024222991 | C191: =STDEV(B191:B250) -> 0.04694503 | D191: {=[1]!ewma(B191:B250,0.96)} -> 0.040764606 | E191: 138
...

Sheet corr esp INT-VOLKS
A1: Date | B1: Intesa SP | C1: VOLKSW | E1: CORR SEMPLICE
A2: 45852 | B2: 0.0020325203 | C2: -0.011340206
A3: 45853 | B3: -0.010953347 | C3: -0.0020855057
A4: 45854 | B4: 0.0018457752 | C4: -0.03030303
A5: 45855 | B5: 0.0082906858 | C5: 0.0043103448 | E5: CORR ESPON | H5: COV ESPON
A6: 45856 | B6: 0.0011166379 | C6: -0.0064377682
A7: 45859 | B7: -0.001622389 | C7: 0.0021598272
A8: 45860 | B8: -0.00020312817 | C8: 0.0016163793
A9: 45861 | B9: 0.019504267 | C9: 0.054330285
A10: 45862 | B10: 0.009565564 | C10: 0.00051020408
A11: 45863 | B11: -0.0013817608 | C11: 0.046404895
A12: 45866 | B12: 0.0051393556 | C12: -0.030701754
A13: 45867 | B13: 0.022222222 | C13: -0.022121669
A14: 45868 | B14: 0.043863024 | C14: -0.023136247
A15: 45869 | B15: -0.024143015 | C15: 0
A16: 45870 | B16: -0.055712937 | C16: -0.038947368
A17: 45873 | B17: 0.0324 | C17: 0.0065717415
... A301: 46269 | B301: -0.00029682398 | C301: 0.060645161

Sheet Asset versus Delta Normal
A1: Date | B1: Intesa SP | C1: Unicredit | D1: BMW | E1: VOLKSW | G1: lim rischio giorn | H1: ='Capital Allocation'!C11 -> 43412.157 | L1: Date | M1: Intesa SP | N1: Unicredit | O1: BMW | P1: VOLKSW | Q1: MKT ITALIA | R1: MKT GERMANIA | T1: lim rischio giorn | U1: =H1 -> 43412.157
A2: 45852 | B2: 0.0020325203 | C2: 0.0051777701 | D2: -0.022743259 | E2: -0.011340206 | G2: Liv.conf. | H2: 0.99 | L2: 45852 | M2: 0.0020325203 | N2: 0.0051777701 | O2: -0.022743259 | P2: -0.011340206 | Q2: 0.0022912064 | R2: -0.0043125849 | T2: Liv.conf. | U2: 0.99
A3: 45853 | B3: -0.010953347 | C3: -0.011332418 | D3: 0.016314779 | E3: -0.0020855057 | G3: VM INT | H3: 150000 | L3: 45853 | M3: -0.010953347 | N3: -0.011332418 | O3: 0.016314779 | P3: -0.0020855057 | Q3: -0.0066033042 | R3: -0.0030535093 | T3: VM INT | U3: 150000 | W3: ITALIA | X3: INT
A4: 45854 | B4: 0.0018457752 | C4: -0.0041681139 | D4: -0.0035410765 | E4: -0.03030303 | G4: VM UNICREDIT | H4: 162000 | L4: 45854 | M4: 0.0018457752 | N4: -0.0041681139 | O4: -0.0035410765 | P4: -0.03030303 | Q4: -0.0028866442 | R4: -0.0028007345 | T4: VM UNICREDIT | U4: 162000 | X4: FIAT
A5: 45855 | B5: 0.0082906858 | C5: 0.010812696 | D5: -0.0047382137 | E5: 0.0043103448 | G5: VM BMW | H5: 100000 | L5: 45855 | M5: 0.0082906858 | N5: 0.010812696 | O5: -0.0047382137 | P5: 0.0043103448 | Q5: 0.0092375921 | R5: 0.014264064 | T5: VM BMW | U5: 100000
A6: 45856 | B6: 0.0011166379 | C6: 0.0018978606 | D6: -0.0057129255 | E6: -0.0064377682 | G6: VM VOLKS | H6: 140000 | L6: 45856 | M6: 0.0011166379 | N6: 0.0018978606 | O6: -0.0057129255 | P6: -0.0064377682 | Q6: 0.0036263236 | R6: -0.0036332239 | T6: VM VOLKS | U6: 140000 | W6: GERMANIA | X6: BMW
A7: 45859 | B7: -0.001622389 | C7: -0.00051661787 | D7: 0.01029447 | E7: 0.0021598272 | G7: PORT | H7: =SUM(H3:H6) -> 552000 | L7: 45859 | M7: -0.001622389 | N7: -0.00051661787 | O7: 0.01029447 | P7: 0.0021598272 | Q7: -0.0047920186 | R7: 0.0012760199 | T7: PORT | U7: =SUM(U3:U6) -> 552000 | X7: VOLKS
A8: 45860 | B8: -0.00020312817 | C8: 0.00068917988 | D8: -0.016350711 | E8: 0.0016163793 | L8: 45860 | M8: -0.00020312817 | N8: 0.00068917988 | O8: -0.016350711 | P8: 0.0016163793 | Q8: -0.00028851567 | R8: -0.0098534447
A9: 45861 | B9: 0.019504267 | C9: 0.036329201 | D9: 0.054203806 | E9: 0.054330285 | G9: K | H9: =NORMSINV(H2) -> 2.3263479 | L9: 45861 | M9: 0.019504267 | N9: 0.036329201 | O9: 0.054203806 | P9: 0.054330285 | Q9: 0.015007145 | R9: 0.0076644664 | T9: K | U9: =NORMSINV(U2) -> 2.3263479
A10: 45862 | B10: 0.009565564 | C10: 0.017444758 | D10: -0.010968921 | E10: 0.00051020408 | L10: 45862 | M10: 0.009565564 | N10: 0.017444758 | O10: -0.010968921 | P10: 0.00051020408 | Q10: 0.003479608 | R10: 0.0023966661
A11: 45863 | B11: -0.0013817608 | C11: -0.00016329197 | D11: 0.027033272 | E11: 0.046404895 | G11: SIGMA INT | L11: 45863 | M11: -0.0013817608 | N11: -0.00016329197 | O11: 0.027033272 | P11: 0.046404895 | Q11: 0.0035088955 | R11: -0.0027613034 | T11: SIGMA MKT IT
A12: 45866 | B12: 0.0051393556 | C12: 0.0073493386 | D12: -0.033745782 | E12: -0.030701754 | G12: SIGMA UNICREDIT | L12: 45866 | M12: 0.0051393556 | N12: 0.0073493386 | O12: -0.033745782 | P12: -0.030701754 | Q12: -0.00046397834 | R12: -0.0097257238 | T12: SIGMA MKT GERM
A13: 45867 | B13: 0.022222222 | C13: 0.021400778 | D13: 0.0058207218 | E13: -0.022121669 | G13: SIGMA BMW | L13: 45867 | M13: 0.022222222 | N13: 0.021400778 | O13: 0.0058207218 | P13: -0.022121669 | Q13: 0.012058348 | R13: 0.010128223
A14: 45868 | B14: 0.043863024 | C14: 0.018412698 | D14: -0.024305556 | E14: -0.023136247 | G14: SIGMA VOLKS | L14: 45868 | M14: 0.043863024 | N14: 0.018412698 | O14: -0.024305556 | P14: -0.023136247 | Q14: 0.011372277 | R14: 0.0019314992
A15: 45869 | B15: -0.024143015 | C15: 0.0073254364 | D15: -0.0083036773 | E15: 0 | L15: 45869 | M15: -0.024143015 | N15: 0.0073254364 | O15: -0.0083036773 | P15: 0 | Q15: -0.016886371 | R15: -0.0071415962 | T15: BETA ITALIANI | W15: BETA TEDESCHI
A16: 45870 | B16: -0.055712937 | C16: -0.037443911 | D16: -0.01722488 | E16: -0.038947368 | G16: VAR INT | L16: 45870 | M16: -0.055712937 | N16: -0.037443911 | O16: -0.01722488 | P16: -0.038947368 | Q16: -0.025474421 | R16: -0.025181376 | T16: INTESA | W16: BMW
A17: 45873 | B17: 0.0324 | C17: 0.03648931 | D17: 0.0087633885 | E17: 0.0065717415 | G17: VAR UNICREDIT | L17: 45873 | M17: 0.0324 | N17: 0.03648931 | O17: 0.0087633885 | P17: 0.0065717415 | Q17: 0.019553086 | R17: 0.013304228 | T17: UNICREDIT | W17: VOLKS
A18: 45874 | B18: -0.0058117009 | C18: -0.0015508685 | D18: 0.01230695 | E18: 0.0070729053 | G18: VAR BMW | L18: 45874 | M18: -0.0058117009 | N18: -0.0015508685 | O18: 0.01230695 | P18: 0.0070729053 | Q18: 0.0018777199 | R18: 0.0032713164 | T18: VaR Intesa SP | W18: VaR BMW
A19: 45875 | B19: 0.0079890881 | C19: 0.005436471 | D19: 0.013349225 | E19: 0.017828201 | G19: VAR VOLKS | I19: =SUM(H16:H19) -> 0 | L19: 45875 | M19: 0.0079890881 | N19: 0.005436471 | O19: 0.013349225 | P19: 0.017828201 | Q19: 0.0063596301 | R19: 0.0023764299 | T19: VaR unicredit | W19: VaR VOLKS
A20: 45876 | B20: 0.016431471 | C20: 0.022400742 | D20: 0.010820983 | E20: 0.020700637 | L20: 45876 | M20: 0.016431471 | N20: 0.022400742 | O20: 0.010820983 | P20: 0.020700637 | Q20: 0.0087293713 | R20: 0.01272829 | T20: VaR ITALIA | W20: Var GERMANIA
A21: 45877 | B21: 0.014834538 | C21: 0.020398912 | D21: 0.014661392 | E21: 0.0088403536 | G21: var port (asset norm) | L21: 45877 | M21: 0.014834538 | N21: 0.020398912 | O21: 0.014661392 | P21: 0.0088403536 | Q21: 0.0052368954 | R21: -0.0010344438
A22: 45880 | B22: -0.0020614693 | C22: -0.002665482 | D22: -0.010091743 | E22: 0.021134021 | L22: 45880 | M22: -0.0020614693 | N22: -0.002665482 | O22: -0.010091743 | P22: 0.021134021 | Q22: -0.00052730995 | R22: -0.0036436087 | U22: corr(IT,Germ)
A23: 45881 | B23: 0.0033802817 | C23: 0.015738679 | D23: 0.012743281 | E23: 0.0095911156 | H23: Intesa SP | I23: Unicredit | J23: BMW | K23: VOLKSW | L23: 45881 | M23: 0.0033802817 | N23: 0.015738679 | O23: 0.012743281 | P23: 0.0095911156 | Q23: 0.0077681003 | R23: -0.0059715816 | U23: var PORT (delta normal)
A24: 45882 | B24: 0.016282987 | C24: -0.00043853238 | D24: 0.016929764 | E24: 0.01 | G24: Intesa SP | L24: 45882 | M24: 0.016282987 | N24: -0.00043853238 | O24: 0.016929764 | P24: 0.01 | Q24: 0.0066456072 | R24: 0.0072209971
A25: 45883 | B25: 0.014548803 | C25: 0.0083357707 | D25: -0.00022497188 | E25: -0.0059405941 | G25: Unicredit | L25: 45883 | M25: 0.014548803 | N25: 0.0083357707 | O25: -0.00022497188 | P25: -0.0059405941 | Q25: 0.012008645 | R25: 0.0070319944
A26: 45884 | B26: 0 | C26: 0 | D26: 0.01080108 | E26: 0.014940239 | G26: BMW | L26: 45884 | M26: 0 | N26: 0 | O26: 0.01080108 | P26: 0.014940239 | Q26: 0 | R26: -0.002103533
A27: 45887 | B27: -0.0036304229 | C27: -0.0062364032 | D27: -0.0046749777 | E27: -0.012757605 | G27: VOLKSW | L27: 45887 | M27: -0.0036304229 | N27: -0.0062364032 | O27: -0.0046749777 | P27: -0.012757605 | Q27: -0.00047313193 | R27: -0.00097974951
A28: 45888 | B28: 0.021133175 | C28: 0.014156451 | D28: 0.017222098 | E28: 0.019880716 | L28: 45888 | M28: 0.021133175 | N28: 0.014156451 | O28: 0.017222098 | P28: 0.019880716 | Q28: 0.0087789311 | R28: 0.004834152
A29: 45889 | B29: -0.0057091882 | C29: -0.010073392 | D29: -0.0065963061 | E29: 0.014619883 | L29: 45889 | M29: -0.0057091882 | N29: -0.010073392 | O29: -0.0065963061 | P29: 0.014619883 | Q29: -0.0031879206 | R29: -0.0043706873
A30: 45890 | B30: 0.0064597165 | C30: 0.0056694287 | D30: -0.0022133687 | E30: -0.0076849183 | L30: 45890 | M30: 0.0064597165 | N30: 0.0056694287 | O30: -0.0022133687 | P30: -0.0076849183 | Q30: 0.0034899729 | R30: -0.0010860822
A31: 45891 | B31: 0.0058834017 | C31: 0.00014455045 | D31: 0.010647737 | E31: 0.013552759 | L31: 45891 | M31: 0.0058834017 | N31: 0.00014455045 | O31: 0.010647737 | P31: 0.013552759 | Q31: 0.0054596025 | R31: 0.0032638935
A32: 45894 | B32: -0.0012406948 | C32: -0.003902298 | D32: 0.0010974539 | E32: -0.005730659 | L32: 45894 | M32: -0.0012406948 | N32: -0.003902298 | O32: 0.0010974539 | P32: -0.005730659 | Q32: -0.002238018 | R32: -0.0036168477
A33: 45895 | B33: -0.018988465 | C33: -0.036128845 | D33: -0.0052620039 | E33: 0.0038424592 | L33: 45895 | M33: -0.018988465 | N33: -0.036128845 | O33: -0.0052620039 | P33: 0.0038424592 | Q33: -0.013417942 | R33: -0.0049463959
A34: 45896 | B34: -0.025325615 | C34: -0.0030106879 | D34: -0.011461318 | E34: -0.0076555024 | L34: 45896 | M34: -0.025325615 | N34: -0.0030106879 | O34: -0.011461318 | P34: -0.0076555024 | Q34: -0.0069620913 | R34: -0.0037904726
A35: 45897 | B35: 0.0038975501 | C35: -0.0010569228 | D35: 0.0089186176 | E35: -0.0048216008 | L35: 45897 | M35: 0.0038975501 | N35: -0.0010569228 | O35: 0.0089186176 | P35: -0.0048216008 | Q35: 0.0020038491 | R35: -0.0006024122
A36: 45898 | B36: -0.0062858199 | C36: -0.0018137848 | D36: -0.013259669 | E36: -0.0058139535 | L36: 45898 | M36: -0.0062858199 | N36: -0.0018137848 | O36: -0.013259669 | P36: -0.0058139535 | Q36: -0.0052344703 | R36: -0.006241664
A37: 45901 | B37: 0.0046511628 | C37: 0.0099939431 | D37: 0.016349384 | E37: 0.00097465887 | L37: 45901 | M37: 0.0046511628 | N37: 0.0099939431 | O37: 0.016349384 | P37: 0.00097465887 | Q37: 0.0058174612 | R37: 0.0048674582
A38: 45902 | B38: -0.016111111 | C38: -0.023088456 | D38: -0.019171441 | E38: -0.012658228 | L38: 45902 | M38: -0.016111111 | N38: -0.023088456 | O38: -0.019171441 | P38: -0.012658228 | Q38: -0.015116138 | R38: -0.023356882
A39: 45903 | B39: 0.0009410879 | C39: 0.010589319 | D39: -0.0042687037 | E39: 0.00098619329 | L39: 45903 | M39: 0.0009410879 | N39: 0.010589319 | O39: -0.0042687037 | P39: 0.00098619329 | Q39: 0.0026072284 | R39: 0.0031847111
... A301: 46269 | B301: -0.00029682398 | C301: -0.011460302 | D301: 0.016801292 | E301: 0.060645161 | L301: 46269 | M301: -0.00029682398 | N301: -0.011460302 | O301: 0.016801292 | P301: 0.060645161 | Q301: -0.0037934325 | R301: 0.00091578362

Sheet VaR Bond
A1: Limite operativo Giornaliero | B1: ='Capital Allocation'!C12 -> 248069.47
B4: V. Mkt | C4: Dur. Modificata | D4: Tres
A5: BOT Trimestrale | B5: 17500000 | C5: =0.25/(1+D5) -> 0.24777007 | D5: 0.009
A6: BTP strip Decennale | B6: 16000000 | C6: =10/(1+D6) -> 9.6107641 | D6: 0.0405
A7: Valore di Mercato Portafoglio | B7: =B6+B5 -> 33500000
A9: Livello di confidenza | B9: 0.99
A11: Input Modello VaR "Var-Cov" | B11: Tassi 3 mesi | C11: Tassi 10 anni
A12: Rendimento atteso | F12: correlazioni | G12: tasso 3 mesi | H12: tasso 10 anni
A13: Deviazione Standard t. interesse | B13: 0.0033 | C13: 0.001 | F13: tasso 3 mesi | G13: 1
A14: Multiplo di Sigma (k) | B14: =NORMSINV($B$9) -> 2.3263479 | C14: =NORMSINV($B$9) -> 2.3263479 | F14: tasso 10 anni | G14: 0.15 | H14: 1
A15: VaR
A17: VaR Portafoglio | C17: =IF($B$1<ABS(B17),"No rispetto limite",IF($B$1*95%<ABS(B17),"Si è vicini al limite","ok")) -> ok

Sheet Future+titoli
A1: Date | B1: IBM | C1: APPLE | D1: S&P 500 | F1: lim rischio giorn | G1: ='Capital Allocation'!C11 -> 43412.157 | I1: Tasso €/$ | J1: 1.16
A2: 45852 | B2: 0.00070489062 | C2: -0.012028793 | D2: 0.0014074044 | F2: Liv.conf. | G2: 0.99
A3: 45853 | B3: -0.0038408682 | C3: 0.0023487681 | D3: -0.0039562515 | F3: VM IBM | H3: 300000
A4: 45854 | B4: -0.0027594623 | C4: 0.0050212807 | D4: 0.0031935885 | F4: VM APPLE | H4: 162000
A5: 45855 | B5: 0.00028412326 | C5: -0.00066615912 | D5: 0.0053738206 | F5: VM FUTURE | H5: -250000 | L5: Posiz in $
A6: 45856 | B6: 0.013723759 | C6: 0.0055232835 | D6: -9.051412e-05 | G6: =SUM(G3:G5) -> 0 | L6: =G6 -> 0 | M6: VM €
A7: 45859 | B7: -0.0040581369 | C7: 0.006155886 | D7: 0.0013991256 | F7: Sigma Mercato | H7: trasferimento rischio cambio al desk valutario | L7: 2.326 | M7: k
A8: 45860 | B8: -0.0096589512 | C8: 0.0090361446 | D8: 0.00063752855 | F8: multiplo (k) | G8: =NORMSINV(G2) -> 2.3263479 | L8: ='VaR Exchange'!F12 -> 0 | M8: sigma
A9: 45861 | B9: 0.00017733012 | C9: -0.0011660448 | D9: 0.0078118809 | F9: VaR IBM | M9: VaR
A10: 45862 | B10: -0.076238431 | C10: -0.0018211534 | D10: 0.00069823287 | F10: VaR APPLE
A11: 45863 | B11: -0.0030325131 | C11: 0.00056137725 | D11: 0.0039743217 | F11: VaR Future
A12: 45866 | B12: 0.013437548 | C12: 0.00079483823 | D12: 0.00017687646 | F12: VaR PORTAFOGLIO
A13: 45867 | B13: -0.0030397781 | C13: -0.01298762 | D13: -0.0029594179
A14: 45868 | B14: -0.0081929074 | C14: -0.010507881 | D14: -0.0012494389 | F14: Beta IBM | G14: Beta APPLE
A15: 45869 | B15: -0.027318835 | C15: -0.007079646 | D15: -0.0036948561
A16: 45870 | B16: -0.012245704 | C16: -0.025003613 | D16: -0.015992075
A17: 45873 | B17: 0.0077184563 | C17: 0.0047929637 | D17: 0.014737072
A18: 45874 | B18: -0.0051988253 | C18: -0.0021145808 | D18: -0.004857866
A19: 45875 | B19: 0.0064227869 | C19: 0.050906761 | D19: 0.0072818886
A20: 45876 | B20: -0.0084033613 | C20: 0.031793669 | D20: -0.00079747079
A21: 45877 | B21: -0.031539815 | C21: 0.04235786 | D21: 0.0077996845
A22: 45880 | B22: -0.024641928 | C22: -0.0094615217 | D22: -0.0025041279
A23: 45881 | B23: -0.0064748201 | C23: 0.010872436 | D23: 0.011345504
A24: 45882 | B24: 0.022575286 | C24: 0.016024385 | D24: 0.0032300303
A25: 45883 | B25: -0.012329737 | C25: -0.0023571765 | D25: 0.00030309685
A26: 45884 | B26: 0.011007549 | C26: -0.005112123 | D26: -0.0028970989
... A301: 46269 | B301: 0.00076690384 | C301: -0.025105877 | D301: -0.0037572392

Sheet VaR Exchange
A1: Date | B1: €/$ | C1: €/Y | E1: Limite operativo Giornaliero | F1: ='Capital Allocation'!C13 -> 18605.21
A2: t-300 | B2: 0.00095231617 | C2: 0.0056911787 | E2: Tasso $/€ | F2: 1.16
A3: t-299 | B3: 0.0044411041 | C3: 0.003682826 | E3: Tasso Y/€ | F3: 181
A4: t-298 | B4: 0.00088901046 | C4: 0.0013547076 | G4: M-t-M
A5: t-297 | B5: 0.0032244786 | C5: 0.0075832259 | E5: Posizione in $ | F5: 1000000
A6: t-296 | B6: -0.001028031 | C6: -0.015748619 | E6: Posizione in Y | F6: 60000000
A7: t-295 | B7: 0.0012351609 | C7: 0 | E7: Valore di Mercato Portafoglio | F7: -
A8: t-294 | B8: 0.0037192644 | C8: 0.0011956359
A9: t-293 | B9: 0.012765067 | C9: 0.0047300848 | E9: Livello di confidenza | F9: 0.99
A10: t-292 | B10: 0.0020269798 | C10: 0.0015791848
A11: t-291 | B11: 0.003366295 | C11: 0.007729615 | E11: Input Modello VaR "Var-Cov" | F11: $/€ | G11: Y/€
A12: t-290 | B12: -0.0019598236 | C12: 0.0023547284 | E12: Deviazione Standard | J12: correlazioni | K12: $/€ | L12: Y/€
A13: t-289 | B13: 0.0038645306 | C13: -0.0061900808 | E13: Multiplo di Sigma (k) | F13: =NORMSINV($F$9) -> 2.3263479 | G13: =NORMSINV($F$9) -> 2.3263479 | J13: $/€
A14: t-288 | B14: -0.0076697811 | C14: -0.0049575603 | E14: VaR | J14: Y/€
A15: t-287 | B15: 0.00097710776 | C15: -0.0069371923
A16: t-286 | B16: 0.004275601 | C16: 0.0037436358 | E16: VaR Portafoglio | F16: =SQRT(F14^2+(G14)^2+2*F14*(G14)*K14) -> 0 | G16: =IF($F$1<ABS(F16),"No rispetto limite",IF($F$1*95%<ABS(F16),"Si è vicini al limite","ok")) -> ok
A17: t-285 | B17: 0.0018960674 | C17: -0.0051396648
A18: t-284 | B18: -0.0056560296 | C18: -0.0053345188
A19: t-283 | B19: -0.0004187897 | C19: -0.0032493907
A20: t-282 | B20: 0.00041896516 | C20: 0.0001477214
A21: t-281 | B21: 0.0059707783 | C21: 0.010297739
A22: t-280 | B22: -0.0012628034 | C22: 0.0015695067
A23: t-279 | B23: 0.0092756496 | C23: -0.00022416499
A24: t-278 | B24: 0.0028403039 | C24: 0.0069219773
A25: t-277 | B25: -0.010260735 | C25: -0.014386355
A26: t-276 | B26: -0.0033620509 | C26: -0.0096937651
A27: t-275 | B27: 0.0040084388 | C27: -0.0039499671
A28: t-274 | B28: 0.0043082139 | C28: 0.0072944297
... A301: t-1 | B301: 0.0035148262 | C301: 0.006235895

Sheet AGGREGAZIONE
A1: VAR BOND | B1: ='VaR Bond'!B17 -> 0
A2: VAR EQUITY | B2: ='var-cov 3 titoli'!F13 -> 0
A3: VAR EXCHANGE | B3: ='VaR Exchange'!F16 -> 0
A4: VAR TRADING BOOK | B4: =SQRT(B1^2+B2^2+B3^2+2*B1*B2*B8+2*B1*B3*B9+2*B2*B3*C9) -> 0
B6: VAR BOND | C6: VAR EQUITY | D6: VAR EXCHANGE
A7: VAR BOND | B7: 1
A8: VAR EQUITY | C8: 1
A9: VAR EXCHANGE | D9: 1

Sheet ConditionalVaR
A1: Date | B1: Intesa SP | D1: lim rischio giorn | E1: ='Capital Allocation'!C11 -> 43412.157
A2: 45852 | B2: 0.0020325203 | D2: Valore di Mercato | E2: 320000
A3: 45853 | B3: -0.010953347 | D3: VaR (99%)
A4: 45854 | B4: 0.0018457752
A5: 45855 | B5: 0.0082906858 | D5: Co-VaR (99%)
A6: 45856 | B6: 0.0011166379
A7: 45859 | B7: -0.001622389
A8: 45860 | B8: -0.00020312817
A9: 45861 | B9: 0.019504267
A10: 45862 | B10: 0.009565564
A11: 45863 | B11: -0.0013817608
A12: 45866 | B12: 0.0051393556
A13: 45867 | B13: 0.022222222
A14: 45868 | B14: 0.043863024
A15: 45869 | B15: -0.024143015
A16: 45870 | B16: -0.055712937
A17: 45873 | B17: 0.0324
... A301: 46269 | B301: -0.00029682398

Sheet Modello T-student
A1: Date | B1: Intesa SP | D1: lim rischio giorn | E1: ='Capital Allocation'!C11 -> 43412.157
A2: 45852 | B2: 0.0020325203 | D2: Valore di Mercato | E2: 4800000
A3: 45853 | B3: -0.010953347 | D3: Livello di confidenza | E3: 0.99
A4: 45854 | B4: 0.0018457752 | D4: Gradi libertà | E4: 7
A5: 45855 | B5: 0.0082906858 | D5: k t-student | E5: =_xlfn.T.INV(E3,E4) -> 2.9979516
A6: 45856 | B6: 0.0011166379 | D6: Sigma | E6: =STDEV(B2:B301) -> 0.014938665
A7: 45859 | B7: -0.001622389 | D7: VaR (99%) | E7: =E2*E5*E6 -> 214969.9
A8: 45860 | B8: -0.00020312817
A9: 45861 | B9: 0.019504267 | D9: VaR (99%) Distr. Norm. | E9: =E2*2.326*E6 -> 166787.21
A10: 45862 | B10: 0.009565564
A11: 45863 | B11: -0.0013817608
A12: 45866 | B12: 0.0051393556
A13: 45867 | B13: 0.022222222
A14: 45868 | B14: 0.043863024
A15: 45869 | B15: -0.024143015
A16: 45870 | B16: -0.055712937
A17: 45873 | B17: 0.0324
A18: 45874 | B18: -0.0058117009
A19: 45875 | B19: 0.0079890881
A20: 45876 | B20: 0.016431471
A21: 45877 | B21: 0.014834538
... A301: 46269 | B301: -0.00029682398

Sheet Cornish-Fisher
A1: Date | B1: Intesa SP | D1: lim rischio giorn | E1: ='Capital Allocation'!C11 -> 43412.157
A2: 45852 | B2: 0.0020325203 | D2: Valore di Mercato | E2: 4800000
A3: 45853 | B3: -0.010953347 | D3: Livello di confidenza | E3: 0.99
A4: 45854 | B4: 0.0018457752 | D4: k (norm) - z | E4: =NORMSINV(1-E3) -> -2.3263479
A5: 45855 | B5: 0.0082906858
A6: 45856 | B6: 0.0011166379 | D6: Sigma | E6: =STDEV(B2:B301) -> 0.014938665
A7: 45859 | B7: -0.001622389 | D7: Asimmetria (S) | E7: =SKEW(B2:B301) -> -0.15648251
A8: 45860 | B8: -0.00020312817 | D8: Curtosi stand (K) | E8: =KURT(B2:B301) -> 1.2476212
A9: 45861 | B9: 0.019504267 | D9: k* - ZAd | E9: =E4+(E4^2-1)*(E7/6)+(E4^3-3*E4)*(E8/24)-(2*E4^3-5*E4)*(E7^2/36) -> -2.7238751
A10: 45862 | B10: 0.009565564
A11: 45863 | B11: -0.0013817608
A12: 45866 | B12: 0.0051393556
A13: 45867 | B13: 0.022222222
A14: 45868 | B14: 0.043863024
A15: 45869 | B15: -0.024143015 | D15: VaR (99%) | E15: =E2*ABS(E9)*E6 -> 195317.08
A16: 45870 | B16: -0.055712937
A17: 45873 | B17: 0.0324
A18: 45874 | B18: -0.0058117009
A19: 45875 | B19: 0.0079890881
A20: 45876 | B20: 0.016431471
A21: 45877 | B21: 0.014834538
A22: 45880 | B22: -0.0020614693
A23: 45881 | B23: 0.0033802817
A24: 45882 | B24: 0.016282987
A25: 45883 | B25: 0.014548803
A26: 45884 | B26: 0
A27: 45887 | B27: -0.0036304229
... A301: 46269 | B301: -0.00029682398

Sheet Modello Ibrido
A1: Num | B1: Ponder. | C1: Ponder. Stand | E1: Date | F1: Intesa SP | G1: Ponder. Stand | H1: Cum | J1: lim rischio giorn | K1: ='Capital Allocation'!C11 -> 43412.157
A2: 1 | B2: =(1-$K$4)*$K$4^(A2-1) -> 0.02 | C2: =B2/SUM($B$2:$B$301) -> 0.020046759 | E2: 46269 | F2: -0.00029682398 | G2: 0.020046759 | H2: =SUM($G$2:G2) -> 0.020046759 | J2: Valore di Mercato | K2: 4800000
A3: 2 | B3: =(1-$K$4)*$K$4^(A3-1) -> 0.0196 | C3: =B3/SUM($B$2:$B$301) -> 0.019645824 | E3: 46268 | F3: 0.012776191 | G3: 0.019645824 | H3: =SUM($G$2:G3) -> 0.039692583 | J3: Livello di confidenza | K3: 0.99
A4: 3 | B4: =(1-$K$4)*$K$4^(A4-1) -> 0.019208 | C4: =B4/SUM($B$2:$B$301) -> 0.019252908 | E4: 46267 | F4: -0.0022495501 | G4: 0.019252908 | H4: =SUM($G$2:G4) -> 0.058945491 | J4: Lambda | K4: 0.98
A5: 4 | B5: =(1-$K$4)*$K$4^(A5-1) -> 0.01882384 | C5: =B5/SUM($B$2:$B$301) -> 0.018867849 | E5: 46266 | F5: -0.017822949 | G5: 0.018867849 | H5: =SUM($G$2:G5) -> 0.07781334 | J5: Dato interpolato | K5: =_xlfn.FORECAST.LINEAR((1-K3),F8:F9,H8:H9) -> -0.16183908
A6: 5 | B6: =(1-$K$4)*$K$4^(A6-1) -> 0.018447363 | C6: =B6/SUM($B$2:$B$301) -> 0.018490492 | E6: 46265 | F6: 0.0013274336 | G6: 0.018490492 | H6: =SUM($G$2:G6) -> 0.096303832 | J6: VaR (99%) | K6: =K2*ABS(K5) -> 776827.6
A7: 6 | B7: =(1-$K$4)*$K$4^(A7-1) -> 0.018078416 | C7: =B7/SUM($B$2:$B$301) -> 0.018120683 | E7: 46262 | F7: 0.0057854918 | G7: 0.018120683 | H7: =SUM($G$2:G7) -> 0.11442451
A8: 7 | B8: =(1-$K$4)*$K$4^(A8-1) -> 0.017716848 | C8: =B8/SUM($B$2:$B$301) -> 0.017758269 | E8: 46261 | F8: -0.017490162 | G8: 0.017758269 | H8: =SUM($G$2:G8) -> 0.13218278
A9: 8 | B9: =(1-$K$4)*$K$4^(A9-1) -> 0.017362511 | C9: =B9/SUM($B$2:$B$301) -> 0.017403104 | E9: 46260 | F9: 0.0030701754 | G9: 0.017403104 | H9: =SUM($G$2:G9) -> 0.14958589
A10: 9 | B10: =(1-$K$4)*$K$4^(A10-1) -> 0.01701526 | C10: =B10/SUM($B$2:$B$301) -> 0.017055041 | E10: 46259 | F10: 0.0030796304 | G10: 0.017055041 | H10: =SUM($G$2:G10) -> 0.16664093
A11: 10 | B11: =(1-$K$4)*$K$4^(A11-1) -> 0.016674955 | C11: =B11/SUM($B$2:$B$301) -> 0.016713941 | E11: 46258 | F11: 0.0073866155 | G11: 0.016713941 | H11: =SUM($G$2:G11) -> 0.18335487
A12: 11 | B12: =(1-$K$4)*$K$4^(A12-1) -> 0.016341456 | C12: =B12/SUM($B$2:$B$301) -> 0.016379662 | E12: 46255 | F12: -0.0067498166 | G12: 0.016379662 | H12: =SUM($G$2:G12) -> 0.19973453
A13: 12 | B13: =(1-$K$4)*$K$4^(A13-1) -> 0.016014627 | C13: =B13/SUM($B$2:$B$301) -> 0.016052069 | E13: 46254 | F13: 0.0041255341 | G13: 0.016052069 | H13: =SUM($G$2:G13) -> 0.2157866
A14: 13 | B14: =(1-$K$4)*$K$4^(A14-1) -> 0.015694334 | C14: =B14/SUM($B$2:$B$301) -> 0.015731027 | E14: 46253 | F14: -0.013660805 | G14: 0.015731027
A15: 14 | B15: =(1-$K$4)*$K$4^(A15-1) -> 0.015380448 | C15: =B15/SUM($B$2:$B$301) -> 0.015416407 | E15: 46252 | F15: -0.00058097313 | G15: 0.015416407
A16: 15 | B16: =(1-$K$4)*$K$4^(A16-1) -> 0.015072839 | C16: =B16/SUM($B$2:$B$301) -> 0.015108079 | E16: 46251 | F16: -0.0046262831 | G16: 0.015108079
A17: 16 | B17: =(1-$K$4)*$K$4^(A17-1) -> 0.014771382 | C17: =B17/SUM($B$2:$B$301) -> 0.014805917 | E17: 46248 | F17: 0.0059627691 | G17: 0.014805917
A18: 17 | B18: =(1-$K$4)*$K$4^(A18-1) -> 0.014475954 | C18: =B18/SUM($B$2:$B$301) -> 0.014509799 | E18: 46247 | F18: 0.0030634573 | G18: 0.014509799
A19: 18 | B19: =(1-$K$4)*$K$4^(A19-1) -> 0.014186435 | C19: =B19/SUM($B$2:$B$301) -> 0.014219603 | E19: 46246 | F19: 0.0026327337 | G19: 0.014219603
A20: 19 | B20: =(1-$K$4)*$K$4^(A20-1) -> 0.013902707 | C20: =B20/SUM($B$2:$B$301) -> 0.013935211 | E20: 46245 | F20: -0.0030621172 | G20: 0.013935211
A21: 20 | B21: =(1-$K$4)*$K$4^(A21-1) -> 0.013624652 | C21: =B21/SUM($B$2:$B$301) -> 0.013656506 | E21: 46244 | F21: 0.004982415 | G21: 0.013656506
A22: 21 | B22: =(1-$K$4)*$K$4^(A22-1) -> 0.013352159 | C22: =B22/SUM($B$2:$B$301) -> 0.013383376 | E22: 46241 | F22: 0.0039723407 | G22: 0.013383376
A23: 22 | B23: =(1-$K$4)*$K$4^(A23-1) -> 0.013085116 | C23: =B23/SUM($B$2:$B$301) -> 0.013115709 | E23: 46240 | F23: 0.0047302291 | G23: 0.013115709
A24: 23 | B24: =(1-$K$4)*$K$4^(A24-1) -> 0.012823414 | C24: =B24/SUM($B$2:$B$301) -> 0.012853395 | E24: 46239 | F24: -0.0033883324 | G24: 0.012853395
A25: 24 | B25: =(1-$K$4)*$K$4^(A25-1) -> 0.012566946 | C25: =B25/SUM($B$2:$B$301) -> 0.012596327 | E25: 46238 | F25: 0.013739546 | G25: 0.012596327
... A301: 300 | B301: =(1-$K$4)*$K$4^(A301-1) -> 4.7602156e-05 | C301: =B301/SUM($B$2:$B$301) -> 4.7713448e-05 | E301: 45852 | F301: 0.0020325203 | G301: 4.7713448e-05
