Workbook

Sheet SP500 ew 
A1: Ticker dell'emittente | B1: Nome | C1: Settore | D1: Asset Class | E1: Valore di mercato | F1: Ponderazione (%) | G1: Valore nozionale | H1: Nominale | I1: Prezzo | J1: Area Geografica | K1: Cambio | L1: Valuta di mercato
A2: MMM | B2: 3M | C2: Industriali | D2: Azionario | E2: 8358948.2 | F2: 0.21 | G2: 8358948.2 | H2: 51538 | I2: 162.19 | J2: Stati Uniti | K2: New York Stock Exchange Inc. | L2: USD
A3: AOS | B3: A O SMITH CORP | C3: Industriali | D3: Azionario | E3: 7213604.6 | F3: 0.18 | G3: 7213604.6 | H3: 109863 | I3: 65.66 | J3: Stati Uniti | K3: New York Stock Exchange Inc. | L3: USD
A4: ABT | B4: ABBOTT LABORATORIES | C4: Salute | D4: Azionario | E4: 7627057.9 | F4: 0.19 | G4: 7627057.9 | H4: 61588 | I4: 123.84 | J4: Stati Uniti | K4: New York Stock Exchange Inc. | L4: USD
A5: ABBV | B5: ABBVIE INC | C5: Salute | D5: Azionario | E5: 7990044.2 | F5: 0.2 | G5: 7990044.2 | H5: 37696 | I5: 211.96 | J5: Stati Uniti | K5: New York Stock Exchange Inc. | L5: USD
A6: ACN | B6: ACCENTURE PLC CLASS A | C6: IT | D6: Azionario | E6: 8150322.6 | F6: 0.2 | G6: 8150322.6 | H6: 32806 | I6: 248.44 | J6: Stati Uniti | K6: New York Stock Exchange Inc. | L6: USD
A7: ADBE | B7: ADOBE INC | C7: IT | D7: Azionario | E7: 7688241.5 | F7: 0.19 | G7: 7688241.5 | H7: 22782 | I7: 337.47 | J7: Stati Uniti | K7: NASDAQ | L7: USD
A8: AMD | B8: ADVANCED MICRO DEVICES INC | C8: IT | D8: Azionario | E8: 12962767 | F8: 0.32 | G8: 12962767 | H8: 49924 | I8: 259.65 | J8: Stati Uniti | K8: NASDAQ | L8: USD
A9: AES | B9: AES CORP | C9: Imprese di servizi di pubblica utilità | D9: Azionario | E9: 8517049.1 | F9: 0.21 | G9: 8517049.1 | H9: 625334 | I9: 13.62 | J9: Stati Uniti | K9: New York Stock Exchange Inc. | L9: USD
A10: AFL | B10: AFLAC INC | C10: Finanziari | D10: Azionario | E10: 7998788.7 | F10: 0.2 | G10: 7998788.7 | H10: 74776 | I10: 106.97 | J10: Stati Uniti | K10: New York Stock Exchange Inc. | L10: USD
A11: A | B11: AGILENT TECHNOLOGIES INC | C11: Salute | D11: Azionario | E11: 9164664.6 | F11: 0.23 | G11: 9164664.6 | H11: 63340 | I11: 144.69 | J11: Stati Uniti | K11: New York Stock Exchange Inc. | L11: USD
A12: APD | B12: AIR PRODUCTS AND CHEMICALS INC | C12: Materiali | D12: Azionario | E12: 6446443.5 | F12: 0.16 | G12: 6446443.5 | H12: 26932 | I12: 239.36 | J12: Stati Uniti | K12: New York Stock Exchange Inc. | L12: USD
A13: ABNB | B13: AIRBNB INC CLASS A | C13: Consumi Discrezionali | D13: Azionario | E13: 8176571.2 | F13: 0.2 | G13: 8176571.2 | H13: 64484 | I13: 126.8 | J13: Stati Uniti | K13: NASDAQ | L13: USD
... A512: ZTS | B512: ZOETIS INC CLASS A | C512: Salute | D512: Azionario | E512: 7697896.8 | F512: 0.19 | G512: 7697896.8 | H512: 53328 | I512: 144.35 | J512: Stati Uniti | K512: New York Stock Exchange Inc. | L512: USD

Sheet Mkt Index
A1: =_xll.DSGRID("MSUSAM$,MSITALL,MSDNMKL,MSJPANL","","-10Y","","Daily","RowHeader=true;ColHeader=true;Heading=true;Code=true;Curn=true;DispSeriesDescription=true;YearlyTSFormat=false;QuarterlyTSFormat=false;MonthlyTSFormat=true") -> Not Signed In | B1: 42346 | L1: =_xll.DSGRID("MSUSAM$,MSITALL,MSDNMKL,MSJPANL","RI","-10Y","","Daily","RowHeader=true;ColHeader=true;Heading=true;Code=true;Curn=true;DispSeriesDescription=true;YearlyTSFormat=false;QuarterlyTSFormat=false;MonthlyTSFormat=true") -> Not Signed In | M1: 42346
A2: End | B2: 45999 | L2: End | M2: 45999
A3: Frequency | B3: D | L3: Frequency | M3: D
A4: Name | B4: MSCI USA U$ - PRICE INDEX | C4: MSCI ITALY - PRICE INDEX | D4: MSCI DENMARK - PRICE INDEX | E4: MSCI JAPAN - PRICE INDEX | G4: MSCI USA U$ - PRICE INDEX | H4: MSCI ITALY - PRICE INDEX | I4: MSCI DENMARK - PRICE INDEX | J4: MSCI JAPAN - PRICE INDEX | L4: Name | M4: MSCI USA U$ - TOT RETURN IND | N4: MSCI ITALY - TOT RETURN IND | O4: MSCI DENMARK - TOT RETURN IND | P4: MSCI JAPAN - TOT RETURN IND | R4: MSCI USA U$ - PRICE INDEX | S4: MSCI ITALY - PRICE INDEX | T4: MSCI DENMARK - PRICE INDEX | U4: MSCI JAPAN - PRICE INDEX
A5: Code | B5: MSUSAM$ | C5: MSITALL | D5: MSDNMKL | E5: MSJPANL | F5: cum | G5: =(B2616-B7)/B7 -> 2.3222047 | H5: =(C2616-C7)/C7 -> 0.84023952 | I5: =(D2616-D7)/D7 -> 0.51974672 | J5: =(E2616-E7)/E7 -> 1.1843158 | L5: Code | M5: MSUSAM$(RI) | N5: MSITALL(RI) | O5: MSDNMKL(RI) | P5: MSJPANL(RI) | R5: =(M2616-M7)/M7 -> 2.9430125 | S5: =(N2616-N7)/N7 -> 1.8244468 | T5: =(O2616-O7)/O7 -> 0.86670255 | U5: =(P2616-P7)/P7 -> 1.7610851
A6: CURRENCY | B6: U$ | C6: E | D6: DK | E6: Y | F6: Annual | G6: =(1+G5)^(1/10)-1 -> 0.12756773 | H6: =(1+H5)^(1/10)-1 -> 0.062887832 | I6: =(1+I5)^(1/10)-1 -> 0.042742612 | J6: =(1+J5)^(1/10)-1 -> 0.081263499 | L6: CURRENCY | M6: U$ | N6: E | O6: DK | P6: Y | R6: =(1+R5)^(1/10)-1 -> 0.14705123 | S6: =(1+S5)^(1/10)-1 -> 0.10941323 | T6: =(1+T5)^(1/10)-1 -> 0.064406486 | U6: =(1+U5)^(1/10)-1 -> 0.10689896
A7: 42346 | B7: 1968.534 | C7: 758.692 | D7: 8455.278 | E7: 950.255 | L7: 42346 | M7: 8017.507 | N7: 3064.969 | O7: 30612.882 | P7: 1963.226
A8: 42347 | B8: 1953.025 | C8: 757.512 | D8: 8420.296 | E8: 942.947 | L8: 42347 | M8: 7954.856 | N8: 3060.201 | O8: 30486.227 | P8: 1948.129
A9: 42348 | B9: 1957.488 | C9: 753.74 | D9: 8353.409 | E9: 934.055 | L9: 42348 | M9: 7973.892 | N9: 3044.965 | O9: 30261.168 | P9: 1929.758
A10: 42349 | B10: 1919.514 | C10: 740.163 | D10: 8142.469 | E10: 939.865 | L10: 42349 | M10: 7820.487 | N10: 2990.115 | O10: 29497.015 | P10: 1941.761
A11: 42352 | B11: 1927.44 | C11: 720.605 | D11: 8120.066 | E11: 925.775 | L11: 42352 | M11: 7853.298 | N11: 2911.105 | O11: 29415.859 | P11: 1912.65
A12: 42353 | B12: 1948.053 | C12: 747.932 | D12: 8281.568 | E12: 909.65 | L12: 42353 | M12: 7937.4 | N12: 3021.502 | O12: 30000.917 | P12: 1879.337
A13: 42354 | B13: 1976.451 | C13: 745.775 | D13: 8331.201 | E13: 934.721 | L13: 42354 | M13: 8053.815 | N13: 3012.788 | O13: 30180.719 | P13: 1931.133
A14: 42355 | B14: 1946.761 | C14: 757.029 | D14: 8433.009 | E14: 948.718 | L14: 42355 | M14: 7934.025 | N14: 3058.251 | O14: 30549.529 | P14: 1960.054
A15: 42356 | B15: 1913.011 | C15: 746.739 | D15: 8362.342 | E15: 931.519 | L15: 42356 | M15: 7796.584 | N15: 3016.681 | O15: 30293.532 | P15: 1924.521
A16: 42359 | B16: 1927.273 | C16: 741.739 | D16: 8358.67 | E16: 928.247 | L16: 42359 | M16: 7855.588 | N16: 2996.483 | O16: 30280.227 | P16: 1917.761
A17: 42360 | B17: 1944.05 | C17: 741.023 | D17: 8271.715 | E17: 929.544 | L17: 42360 | M17: 7924.748 | N17: 2993.59 | O17: 29965.225 | P17: 1920.441
A18: 42361 | B18: 1968.554 | C18: 755.46 | D18: 8436.61 | E18: 929.544 | L18: 42361 | M18: 8025.218 | N18: 3051.914 | O18: 30562.573 | P18: 1920.441
... A2616: 45999 | B2616: 6539.873 | C2616: 1396.175 | D2616: 12849.881 | E2616: 2075.657 | L2616: 45999 | M2616: 31613.13 | N2616: 8656.842 | O2616: 57145.145 | P2616: 5420.634

Sheet Constit ACWI
A1: Constituents MSCI World All Country Index OLD COMPOSITION - more than 10 Years ago...)
A2: ISIN | B2: BB Ticker | C2: Name | D2: Gics Sector | E2: Gics Industry Group | F2: Gics Industry | G2: Country | H2: Currency | I2: Weight | K2: Sectors | L2: 100
A3: US0378331005 | B3: AAPL UW | C3: APPLE INC | D3: Information Technology | E3: Technology Hardware & Equipmen | F3: Computers & Peripherals | G3: UNITED STATES | H3: USD | I3: 1.7623982 | K3: Information Technology | L3: 12.649187
A4: US30231G1022 | B4: XOM UN | C4: EXXON MOBIL CORP | D4: Energy | E4: Energy | F4: Oil, Gas & Consumable Fuels | G4: UNITED STATES | H4: USD | I4: 1.4738985 | K4: Energy | L4: 11.965988
A5: US5949181045 | B5: MSFT UW | C5: MICROSOFT CORP | D5: Information Technology | E5: Software & Services | F5: Software | G5: UNITED STATES | H5: USD | I5: 0.83869916 | K5: Consumer Staples | L5: 10.00019
A6: US4592001014 | B6: IBM UN | C6: INTL BUSINESS MACHINES CORP | D6: Information Technology | E6: Software & Services | F6: IT Services | G6: UNITED STATES | H6: USD | I6: 0.82339918 | K6: Industrials | L6: 10.595589
A7: US1667641005 | B7: CVX UN | C7: CHEVRON CORP | D7: Energy | E7: Energy | F7: Oil, Gas & Consumable Fuels | G7: UNITED STATES | H7: USD | I7: 0.76599923 | K7: Telecommunication Services | L7: 4.4723955
A8: CH0038863350 | B8: NESN VX | C8: NESTLE SA-REG | D8: Consumer Staples | E8: Food Beverage & Tobacco | F8: Food Products | G8: SWITZERLAND | H8: CHF | I8: 0.70989929 | K8: Health Care | L8: 8.7224913
A9: US3696041033 | B9: GE UN | C9: GENERAL ELECTRIC CO | D9: Industrials | E9: Capital Goods | F9: Industrial Conglomerates | G9: UNITED STATES | H9: USD | I9: 0.70769929 | K9: Financials | L9: 19.379881
A10: US7427181091 | B10: PG UN | C10: PROCTER & GAMBLE CO/THE | D10: Consumer Staples | E10: Household & Personal Products | F10: Household Products | G10: UNITED STATES | H10: USD | I10: 0.65019935 | K10: Materials | L10: 8.2897917
A11: US00206R1023 | B11: T UN | C11: AT&T INC | D11: Telecommunication Services | E11: Telecommunication Services | F11: Diversified Telecommunication | G11: UNITED STATES | H11: USD | I11: 0.63529936 | K11: Consumer Discretionary | L11: 10.28839
A12: US4781601046 | B12: JNJ UN | C12: JOHNSON & JOHNSON | D12: Health Care | E12: Pharmaceuticals, Biotechnology | F12: Pharmaceuticals | G12: UNITED STATES | H12: USD | I12: 0.62499938 | K12: Utilities | L12: 3.6360964
A13: US7170811035 | B13: PFE UN | C13: PFIZER INC | D13: Health Care | E13: Pharmaceuticals, Biotechnology | F13: Pharmaceuticals | G13: UNITED STATES | H13: USD | I13: 0.57689942
A14: GB0005405286 | B14: HSBA LN | C14: HSBC HOLDINGS PLC | D14: Financials | E14: Banks | F14: Commercial Banks | G14: BRITAIN | H14: GBp | I14: 0.55479945 | K14: Currencies | L14: 100
A15: US38259P5089 | B15: GOOG UW | C15: GOOGLE INC-CL A | D15: Information Technology | E15: Software & Services | F15: Internet Software & Services | G15: UNITED STATES | H15: USD | I15: 0.55079945 | K15: USD | L15: 45.453955
A16: US9497461015 | B16: WFC UN | C16: WELLS FARGO & CO | D16: Financials | E16: Banks | F16: Commercial Banks | G16: UNITED STATES | H16: USD | I16: 0.54999945 | K16: CHF | L16: 3.0821969
A17: US46625H1005 | B17: JPM UN | C17: JPMORGAN CHASE & CO | D17: Financials | E17: Diversified Financials | F17: Diversified Financial Services | G17: UNITED STATES | H17: USD | I17: 0.53619946 | K17: GBp | L17: 8.3612916
A18: GB0007980591 | B18: BP/ LN | C18: BP PLC | D18: Energy | E18: Energy | F18: Oil, Gas & Consumable Fuels | G18: BRITAIN | H18: GBp | I18: 0.52219948 | K18: AUD | L18: 3.1774968
A19: US7181721090 | B19: PM UN | C19: PHILIP MORRIS INTERNATIONAL | D19: Consumer Staples | E19: Food Beverage & Tobacco | F19: Tobacco | G19: UNITED STATES | H19: USD | I19: 0.51409949 | K19: EUR | L19: 10.39339
A20: US1912161007 | B20: KO UN | C20: COCA-COLA CO/THE | D20: Consumer Staples | E20: Food Beverage & Tobacco | F20: Beverages | G20: UNITED STATES | H20: USD | I20: 0.50589949 | K20: KRW | L20: 1.960898
A21: US4581401001 | B21: INTC UW | C21: INTEL CORP | D21: Information Technology | E21: Semiconductors & Semiconductor | F21: Semiconductors & Semiconductor | G21: UNITED STATES | H21: USD | I21: 0.49459951 | K21: JPY | L21: 7.8851921
A22: GB00B16GWD56 | B22: VOD LN | C22: VODAFONE GROUP PLC | D22: Telecommunication Services | E22: Telecommunication Services | F22: Wireless Telecommunication Ser | G22: BRITAIN | H22: GBp | I22: 0.48189952 | K22: CAD | L22: 4.4735955
A23: GB00B03MLX29 | B23: RDSA LN | C23: ROYAL DUTCH SHELL PLC-A SHS | D23: Energy | E23: Energy | F23: Oil, Gas & Consumable Fuels | G23: BRITAIN | H23: GBp | I23: 0.46319954 | K23: RUB | L23: 0.77529922
A24: CH0012005267 | B24: NOVN VX | C24: NOVARTIS AG-REG | D24: Health Care | E24: Pharmaceuticals, Biotechnology | F24: Pharmaceuticals | G24: SWITZERLAND | H24: CHF | I24: 0.44749955 | K24: TWD | L24: 1.4559985
A25: AU000000BHP4 | B25: BHP AT | C25: BHP BILLITON LTD | D25: Materials | E25: Materials | F25: Metals & Mining | G25: AUSTRALIA | H25: AUD | I25: 0.43899956 | K25: HKD | L25: 3.4788965
... A48: DE0007236101 | B48: SIE GY | C48: SIEMENS AG-REG | D48: Industrials | E48: Capital Goods | F48: Industrial Conglomerates | G48: GERMANY | H48: EUR | I48: 0.28869971 | K48: PEN | L48: 0.0073999926
A49: GB0008762899 | B49: BG/ LN | C49: BG GROUP PLC | D49: Energy | E49: Energy | F49: Oil, Gas & Consumable Fuels | G49: BRITAIN | H49: GBp | I49: 0.28799971
A50: CA7800871021 | B50: RY CT | C50: ROYAL BANK OF CANADA | D50: Financials | E50: Banks | F50: Commercial Banks | G50: CANADA | H50: CAD | I50: 0.28459972 | K50: Countries | L50: 100
A51: DE000BASF111 | B51: BAS GY | C51: BASF SE | D51: Materials | E51: Materials | F51: Chemicals | G51: GERMANY | H51: EUR | I51: 0.28379972 | K51: UNITED STATES | L51: 45.220355
A52: US0605051046 | B52: BAC UN | C52: BANK OF AMERICA CORP | D52: Financials | E52: Diversified Financials | F52: Diversified Financial Services | G52: UNITED STATES | H52: USD | I52: 0.28309972 | K52: SWITZERLAND | L52: 3.0821969
A53: GB0007188757 | B53: RIO LN | C53: RIO TINTO PLC | D53: Materials | E53: Materials | F53: Metals & Mining | G53: BRITAIN | H53: GBp | I53: 0.28069972 | K53: BRITAIN | L53: 8.3612916
A54: US4370761029 | B54: HD UN | C54: HOME DEPOT INC | D54: Consumer Discretionary | E54: Retailing | F54: Specialty Retail | G54: UNITED STATES | H54: USD | I54: 0.26079974 | K54: AUSTRALIA | L54: 3.1774968
A55: US2546871060 | B55: DIS UN | C55: WALT DISNEY CO/THE | D55: Consumer Discretionary | E55: Media | F55: Media | G55: UNITED STATES | H55: USD | I55: 0.25949974 | K55: FRANCE | L55: 3.4086966
A56: US1491231015 | B56: CAT UN | C56: CATERPILLAR INC | D56: Industrials | E56: Capital Goods | F56: Machinery | G56: UNITED STATES | H56: USD | I56: 0.25859974 | K56: SOUTH KOREA | L56: 1.960898
A57: CA8911605092 | B57: TD CT | C57: TORONTO-DOMINION BANK | D57: Financials | E57: Banks | F57: Commercial Banks | G57: CANADA | H57: CAD | I57: 0.25559974 | K57: JAPAN | L57: 7.8851921
A58: US9130171096 | B58: UTX UN | C58: UNITED TECHNOLOGIES CORP | D58: Industrials | E58: Capital Goods | F58: Aerospace & Defense | G58: UNITED STATES | H58: USD | I58: 0.25369975 | K58: GERMANY | L58: 3.1192969
A59: US0846707026 | B59: BRK/B UN | C59: BERKSHIRE HATHAWAY INC-CL B | D59: Financials | E59: Insurance | F59: Insurance | G59: UNITED STATES | H59: USD | I59: 0.24929975 | K59: CANADA | L59: 4.4735955
A60: RU0007661625 | B60: GAZP RX | C60: GAZPROM OAO | D60: Energy | E60: Energy | F60: Oil, Gas & Consumable Fuels | G60: RUSSIA | H60: RUB | I60: 0.24799975 | K60: RUSSIA | L60: 0.9042991
A61: ES0113900J37 | B61: SAN SQ | C61: BANCO SANTANDER SA | D61: Financials | E61: Banks | F61: Commercial Banks | G61: SPAIN | H61: EUR | I61: 0.24709975 | K61: SPAIN | L61: 1.1164989
... A65: TW0002330008 | B65: 2330 TT | C65: TAIWAN SEMICONDUCTOR MANUFAC | D65: Information Technology | E65: Semiconductors & Semiconductor | F65: Semiconductors & Semiconductor | G65: TAIWAN | H65: TWD | I65: 0.23799976 | K65: BRAZIL | L65: 2.0534979
...

Sheet New ACWI Constit (via ETF)
A1: Ticker dell'emittente | B1: Nome | C1: Settore | D1: Valore di mercato | E1: Ponderazione (%) | F1: Area Geografica | G1: Mercato di quotazione | H1: Valuta
A2: NVDA | B2: NVIDIA CORP | C2: IT | D2: 1.0959142e+09 | E2: 4.79 | F2: Stati Uniti | G2: NASDAQ | H2: USD
A3: MSFT | B3: MICROSOFT CORP | C3: IT | D3: 9.3736331e+08 | E3: 4.1 | F3: Stati Uniti | G3: NASDAQ | H3: USD
A4: AAPL | B4: APPLE INC | C4: IT | D4: 9.0180905e+08 | E4: 3.94 | F4: Stati Uniti | G4: NASDAQ | H4: USD
A5: AMZN | B5: AMAZON COM INC | C5: Consumi Discrezionali | D5: 5.6540352e+08 | E5: 2.47 | F5: Stati Uniti | G5: NASDAQ | H5: USD
A6: META | B6: META PLATFORMS INC CLASS A | C6: Comunicazione | D6: 4.2080416e+08 | E6: 1.84 | F6: Stati Uniti | G6: NASDAQ | H6: USD
A7: NDIA | B7: ISHARES MSCI INDIA UCITS ETF | C7: Finanziari | D7: 3.8512013e+08 | E7: 1.68 | F7: Irlanda | G7: London Stock Exchange | H7: USD
A8: AVGO | B8: BROADCOM INC | C8: IT | D8: 3.5117044e+08 | E8: 1.53 | F8: Stati Uniti | G8: NASDAQ | H8: USD
A9: GOOGL | B9: ALPHABET INC CLASS A | C9: Comunicazione | D9: 3.200063e+08 | E9: 1.4 | F9: Stati Uniti | G9: NASDAQ | H9: USD
A10: GOOG | B10: ALPHABET INC CLASS C | C10: Comunicazione | D10: 2.7582824e+08 | E10: 1.21 | F10: Stati Uniti | G10: NASDAQ | H10: USD
A11: TSLA | B11: TESLA INC | C11: Consumi Discrezionali | D11: 2.5141267e+08 | E11: 1.1 | F11: Stati Uniti | G11: NASDAQ | H11: USD
A12: 2330 | B12: TAIWAN SEMICONDUCTOR MANUFACTURING | C12: IT | D12: 2.4350582e+08 | E12: 1.06 | F12: Taiwan | G12: Taiwan Stock Exchange | H12: TWD
A13: JPM | B13: JPMORGAN CHASE & CO | C13: Finanziari | D13: 215472312 | E13: 0.94 | F13: Stati Uniti | G13: New York Stock Exchange Inc. | H13: USD
A14: BRKB | B14: BERKSHIRE HATHAWAY INC CLASS B | C14: Finanziari | D14: 177604016 | E14: 0.78 | F14: Stati Uniti | G14: New York Stock Exchange Inc. | H14: USD
A15: V | B15: VISA INC CLASS A | C15: Finanziari | D15: 1.5802615e+08 | E15: 0.69 | F15: Stati Uniti | G15: New York Stock Exchange Inc. | H15: USD
A16: LLY | B16: ELI LILLY | C16: Salute | D16: 1.557875e+08 | E16: 0.68 | F16: Stati Uniti | G16: New York Stock Exchange Inc. | H16: USD
A17: NFLX | B17: NETFLIX INC | C17: Comunicazione | D17: 1.3591112e+08 | E17: 0.59 | F17: Stati Uniti | G17: NASDAQ | H17: USD
A18: MA | B18: MASTERCARD INC CLASS A | C18: Finanziari | D18: 1.3487889e+08 | E18: 0.59 | F18: Stati Uniti | G18: New York Stock Exchange Inc. | H18: USD
A19: XOM | B19: EXXON MOBIL CORP | C19: Energia | D19: 1.3062572e+08 | E19: 0.57 | F19: Stati Uniti | G19: New York Stock Exchange Inc. | H19: USD
A20: 700 | B20: TENCENT HOLDINGS LTD | C20: Comunicazione | D20: 1.2706133e+08 | E20: 0.56 | F20: Cina | G20: Hong Kong Exchanges And Clearing Ltd | H20: HKD
A21: 4BRZ | B21: ISHARES MSCI BRAZIL UCITS ET USDHA | C21: Finanziari | D21: 1.110278e+08 | E21: 0.49 | F21: Germania | G21: Xetra | H21: USD
A22: WMT | B22: WALMART INC | C22: Generi di largo consumo | D22: 1.1288592e+08 | E22: 0.49 | F22: Stati Uniti | G22: New York Stock Exchange Inc. | H22: USD
A23: JNJ | B23: JOHNSON & JOHNSON | C23: Salute | D23: 1.1249439e+08 | E23: 0.49 | F23: Stati Uniti | G23: New York Stock Exchange Inc. | H23: USD
A24: COST | B24: COSTCO WHOLESALE CORP | C24: Generi di largo consumo | D24: 1.0876887e+08 | E24: 0.48 | F24: Stati Uniti | G24: NASDAQ | H24: USD
A25: HD | B25: HOME DEPOT INC | C25: Consumi Discrezionali | D25: 1.065678e+08 | E25: 0.47 | F25: Stati Uniti | G25: New York Stock Exchange Inc. | H25: USD
A26: ORCL | B26: ORACLE CORP | C26: IT | D26: 1.0056108e+08 | E26: 0.44 | F26: Stati Uniti | G26: New York Stock Exchange Inc. | H26: USD
A27: CNYA | B27: ISH MSCI CHINA A ETF USD ACC | C27: Finanziari | D27: 98831308 | E27: 0.43 | F27: Irlanda | G27: London Stock Exchange | H27: USD
A28: ABBV | B28: ABBVIE INC | C28: Salute | D28: 98254165 | E28: 0.43 | F28: Stati Uniti | G28: New York Stock Exchange Inc. | H28: USD
A29: PG | B29: PROCTER & GAMBLE | C29: Generi di largo consumo | D29: 96892423 | E29: 0.42 | F29: Stati Uniti | G29: New York Stock Exchange Inc. | H29: USD
A30: BAC | B30: BANK OF AMERICA CORP | C30: Finanziari | D30: 92712296 | E30: 0.41 | F30: Stati Uniti | G30: New York Stock Exchange Inc. | H30: USD
A31: PLTR | B31: PALANTIR TECHNOLOGIES INC CLASS A | C31: IT | D31: 93891279 | E31: 0.41 | F31: Stati Uniti | G31: NASDAQ | H31: USD
A32: CVX | B32: CHEVRON CORP | C32: Energia | D32: 83444403 | E32: 0.36 | F32: Stati Uniti | G32: New York Stock Exchange Inc. | H32: USD
A33: 9988 | B33: ALIBABA GROUP HOLDING LTD | C33: Consumi Discrezionali | D33: 76855885 | E33: 0.34 | F33: Cina | G33: Hong Kong Exchanges And Clearing Ltd | H33: HKD
A34: IKSA | B34: ISHARES MSCI SAUDI ARABIA CAPPED | C34: Finanziari | D34: 78489769 | E34: 0.34 | F34: Irlanda | G34: London Stock Exchange | H34: USD
A35: GE | B35: GE AEROSPACE | C35: Industriali | D35: 76614324 | E35: 0.33 | F35: Stati Uniti | G35: New York Stock Exchange Inc. | H35: USD
A36: KO | B36: COCA-COLA | C36: Generi di largo consumo | D36: 74096200 | E36: 0.32 | F36: Stati Uniti | G36: New York Stock Exchange Inc. | H36: USD
A37: ASML | B37: ASML HOLDING NV | C37: IT | D37: 74365988 | E37: 0.32 | F37: Paesi Bassi | G37: Euronext Amsterdam | H37: EUR
A38: SAP | B38: SAP | C38: IT | D38: 73717101 | E38: 0.32 | F38: Germania | G38: Xetra | H38: EUR
A39: UNH | B39: UNITEDHEALTH GROUP INC | C39: Salute | D39: 73967790 | E39: 0.32 | F39: Stati Uniti | G39: New York Stock Exchange Inc. | H39: USD
A40: WFC | B40: WELLS FARGO | C40: Finanziari | D40: 70401131 | E40: 0.31 | F40: Stati Uniti | G40: New York Stock Exchange Inc. | H40: USD
...

Sheet Time Series
B1: Money Mkt in € | C1: € Bond Mkt Short Term | D1: € Bond Mkt | E1: Global Bond Dev Mkts | F1: Global Corp Bond High Yield | G1: Em Mkts Bond Mkt | H1: Equ. Europe | I1: Equ. North America | J1: Equ. Pacific | K1: Equ. Em Mkts
A2: in € | B2: ICE Bofa Euro 0-1 yr | C2: ICE Bofa Bond Euro 1-3 Y | D2: ICE Bofa Bond. Euro | E2: ICE Bofa Bond. Global | F2: ICE Bofa Global HY | G2: ICE Bofa Bond Emerging | H2: MSCI Europe | I2: MSCI North America | J2: MSCI Pacific | K2: MSCI Emerging Markets
A3: 2000 | B3: 0.043210458 | C3: 0.047892032 | D3: 0.083903018 | E3: 0.10487753 | F3: 0.0057225468 | G3: 0.17383462 | H3: -0.019300397 | I3: -0.057888151 | J3: -0.20614969 | K3: -0.25916788
A4: 2001 | B4: 0.047402997 | C4: 0.059393889 | D4: 0.062532541 | E4: 0.047453241 | F4: 0.087266411 | G4: 0.069257981 | H4: -0.15262665 | I4: -0.076290839 | J4: -0.21150835 | K4: 0.029399749
A5: 2002 | B5: 0.035273134 | C5: 0.059999736 | D5: 0.08487556 | E5: 0.0031368277 | F5: -0.16127991 | G5: -0.049689976 | H5: -0.30504445 | I5: -0.34110843 | J5: -0.22793553 | K5: -0.20242283
A6: 2003 | B6: 0.025411503 | C6: 0.033410167 | D6: 0.037685942 | E6: -0.049184812 | F6: 0.087401597 | G6: 0.014666739 | H6: 0.15761029 | I6: 0.082617922 | J6: 0.15629158 | K6: 0.30017289
A7: 2004 | B7: 0.021831288 | C7: 0.033969726 | D7: 0.075593423 | E7: 0.020888849 | F7: 0.043264419 | G7: 0.051034586 | H7: 0.12646241 | I7: 0.032721522 | J7: 0.10709243 | K7: 0.16880286
A8: 2005 | B8: 0.021950303 | C8: 0.020481815 | D8: 0.056697384 | E8: 0.07925695 | F8: 0.16937125 | G8: 0.24110171 | H8: 0.26679539 | I8: 0.23225417 | J8: 0.4174703 | K8: 0.55039624
A9: 2006 | B9: 0.03016019 | C9: 0.017654016 | D9: -0.0028239842 | E9: -0.05107058 | F9: 0.015390709 | G9: -0.0018941893 | H9: 0.20183832 | I9: 0.033003098 | J9: 0.0063905048 | K9: 0.18598341
A10: 2007 | B10: 0.044157779 | C10: 0.037934887 | D10: 0.0097233134 | E10: -0.0086455151 | F10: -0.07089022 | G10: -0.0053456654 | H10: 0.031744812 | I10: -0.028932587 | J10: -0.047486666 | K10: 0.26070317
A11: 2008 | B11: 0.057465407 | C11: 0.070002921 | D11: 0.099693757 | E11: 0.18469272 | F11: -0.24126013 | G11: -0.012968904 | H11: -0.43286399 | I11: -0.34579211 | J11: -0.32865114 | K11: -0.50755916
A12: 2009 | B12: 0.023113024 | C12: 0.042513396 | D12: 0.043247221 | E12: -0.01275322 | F12: 0.56925753 | G12: 0.14658974 | H12: 0.32548822 | I12: 0.25316067 | J12: 0.20469975 | K12: 0.73444663
A13: 2010 | B13: 0.011052959 | C13: 0.0089584445 | D13: 0.01143811 | E13: 0.14098047 | F13: 0.21801765 | G13: 0.17277332 | H13: 0.11747023 | I13: 0.24041419 | J13: 0.24141549 | K13: 0.27476196
A14: 2011 | B14: 0.015905964 | C14: 0.0025226178 | D14: 0.021785493 | E14: 0.13575395 | F14: 0.060595095 | G14: 0.051516516 | H14: -0.075109009 | I14: 0.039165051 | J14: -0.10717121 | K14: -0.15437573
... A27: 2024 | B27: 0.035102196 | C27: 0.036641592 | D27: 0.019536411 | E27: 0.030835549 | F27: 0.16733265 | G27: 0.14425464 | H27: 0.092716357 | I27: 0.32858683 | J27: 0.14489331 | K27: 0.15266077
A29: Av Return 1yr | B29: =AVERAGE(B3:B27) -> 0.01721324 | C29: =AVERAGE(C3:C27) -> 0.022014655 | D29: =AVERAGE(D3:D27) -> 0.036239329 | E29: =AVERAGE(E3:E27) -> 0.032475936 | F29: =AVERAGE(F3:F27) -> 0.068267295 | G29: =AVERAGE(G3:G27) -> 0.064519812 | H29: =AVERAGE(H3:H27) -> 0.059985414 | I29: =AVERAGE(I3:I27) -> 0.091487311 | ... K29: =AVERAGE(K3:K27) -> 0.089549735 | L29: =SUMPRODUCT(B30:K30,B29:K29) -> 0.058192989 | M29: {=MMULT(B30:K30,TRANSPOSE(B29:K29))} -> 0.058192989
A30: Naive Weights | B30: 0.03 | C30: 0.1 | D30: 0.15 | E30: 0.12 | F30: 0.04 | G30: 0.06 | H30: 0.12 | I30: 0.23 | J30: 0.05 | K30: 0.1 | L30: =SUM(B30:K30) -> 1
A31: Sigma 1 yr | B31: =STDEV(B3:B27) -> 0.019297032 | C31: =STDEV(C3:C27) -> 0.026340407 | D31: =STDEV(D3:D27) -> 0.060234002 | E31: =STDEV(E3:E27) -> 0.079801695 | F31: =STDEV(F3:F27) -> 0.15074271 | G31: =STDEV(G3:G27) -> 0.10239394 | H31: =STDEV(H3:H27) -> 0.18120589 | I31: =STDEV(I3:I27) -> 0.18945349 | ... K31: =STDEV(K3:K27) -> 0.25474643 | L31: {=SQRT(MMULT(MMULT(B32:K32,B35:K44),TRANSPOSE(B32:K32)))} -> 0.099252838 | M31: =SUMPRODUCT(B30:K30,B31:K31) -> 0.13336318
A32: W*sigma | B32: =B30*B31 -> 0.00057891096 | C32: =C30*C31 -> 0.0026340407 | D32: =D30*D31 -> 0.0090351003 | E32: =E30*E31 -> 0.0095762034 | F32: =F30*F31 -> 0.0060297083 | G32: =G30*G31 -> 0.0061436363 | H32: =H30*H31 -> 0.021744707 | I32: =I30*I31 -> 0.043574302 | ... K32: =K30*K31 -> 0.025474643
A33: VaR (95%) 1yr | B33: =B29-1.645*B31 -> -0.014530377 | C33: =C29-1.645*C31 -> -0.021315315 | D33: =D29-1.645*D31 -> -0.062845604 | E33: =E29-1.645*E31 -> -0.098797853 | F33: =F29-1.645*F31 -> -0.17970446 | G33: =G29-1.645*G31 -> -0.10391822 | H33: =H29-1.645*H31 -> -0.23809828 | I33: =I29-1.645*I31 -> -0.22016367 | ... L33: =L29-1.645*L31 -> -0.10507793
B34: ICE Bofa Euro 0-1 yr | C34: ICE Bofa Bond Euro 1-3 Y | D34: ICE Bofa Bond. Euro | E34: ICE Bofa Bond. Global | F34: ICE Bofa Global HY | G34: ICE Bofa Bond Emerging | H34: MSCI Europe | I34: MSCI North America | J34: MSCI Pacific | K34: MSCI Emerging Markets
A35: ICE Bofa Euro 0-1 yr | B35: 1 | C35: 0.84760418 | D35: 0.39178431 | E35: 0.22319485 | F35: -0.1884378 | G35: 0.053372287 | H35: -0.3846843 | I35: -0.48281293 | J35: -0.46693916 | K35: -0.15262798
A36: ICE Bofa Bond Euro 1-3 Y | B36: 0.84760418 | C36: 1 | D36: 0.74601771 | E36: 0.27744425 | F36: -0.024258919 | G36: 0.1864368 | H36: -0.25545066 | I36: -0.30482256 | J36: -0.307718 | K36: -0.060516921
A37: ICE Bofa Bond. Euro | B37: 0.39178431 | C37: 0.74601771 | D37: 1 | E37: 0.5524229 | F37: 0.081503049 | G37: 0.50339791 | H37: -0.050072293 | I37: 0.029824714 | J37: -0.016900966 | K37: 0.022506758
A38: ICE Bofa Bond. Global | B38: 0.22319485 | C38: 0.27744425 | D38: 0.5524229 | E38: 1 | F38: 0.00091491578 | G38: 0.66385953 | H38: -0.28199577 | I38: 0.013601979 | J38: -0.11492942 | K38: -0.22515231
A39: ICE Bofa Global HY | B39: -0.1884378 | C39: -0.024258919 | D39: 0.081503049 | E39: 0.00091491578 | F39: 1 | G39: 0.57471128 | H39: 0.70351955 | I39: 0.69671578 | J39: 0.65871942 | K39: 0.77527238
A40: ICE Bofa Bond Emerging | B40: 0.053372287 | C40: 0.1864368 | D40: 0.50339791 | E40: 0.66385953 | F40: 0.57471128 | G40: 1 | H40: 0.37024191 | I40: 0.52454438 | J40: 0.46246907 | K40: 0.41448482
A41: MSCI Europe | B41: -0.3846843 | C41: -0.25545066 | D41: -0.050072293 | E41: -0.28199577 | F41: 0.70351955 | G41: 0.37024191 | H41: 1 | I41: 0.85397718 | J41: 0.86764236 | K41: 0.77310938
A42: MSCI North America | B42: -0.48281293 | C42: -0.30482256 | D42: 0.029824714 | E42: 0.013601979 | F42: 0.69671578 | G42: 0.52454438 | H42: 0.85397718 | I42: 1 | J42: 0.83363758 | K42: 0.61555711
A43: MSCI Pacific | B43: -0.46693916 | C43: -0.307718 | D43: -0.016900966 | E43: -0.11492942 | F43: 0.65871942 | G43: 0.46246907 | H43: 0.86764236 | I43: 0.83363758 | J43: 1 | K43: 0.78604221
A44: MSCI Emerging Markets | B44: -0.15262798 | C44: -0.060516921 | D44: 0.022506758 | E44: -0.22515231 | F44: 0.77527238 | G44: 0.41448482 | H44: 0.77310938 | I44: 0.61555711 | J44: 0.78604221 | K44: 1

Sheet Equity USA Hedging
B1: MSCI USA € | C1: MSCI USA $ | D1: MSCI USA HEDGED € | H1: €/$
A2: 36585 | B2: -0.008931566 | C2: -0.024737802 | D2: -0.027236265 | H2: 0.016207166
A3: 36616 | B3: 0.10554775 | C3: 0.098830027 | D3: 0.097324767 | H3: 0.0061135223
A4: 36644 | B4: 0.015185392 | C4: -0.033246032 | D4: -0.036875218 | H4: 0.050096949
A5: 36677 | B5: -0.044311016 | C5: -0.027375489 | D5: -0.029123571 | H5: -0.017412195
A6: 36707 | B6: -0.010205901 | C6: 0.023039896 | D6: 0.019811233 | H6: -0.032497068
A7: 36738 | B7: 0.015009355 | C7: -0.018821321 | D7: -0.021075781 | H7: 0.034479628
A8: 36769 | B8: 0.095421776 | C8: 0.051030496 | D8: 0.051296452 | H8: 0.042235958
A9: 36798 | B9: -0.048207263 | C9: -0.055271804 | D9: -0.056807052 | H9: 0.0074778554
A10: 36830 | B10: 0.032726987 | C10: -0.0080596293 | D10: -0.009855565 | H10: 0.041118012
A11: 36860 | B11: -0.10413021 | C11: -0.079925107 | D11: -0.079209809 | H11: -0.026307751
A12: 36889 | B12: -0.075191269 | C12: -0.0025792118 | D12: -0.0040692497 | H12: -0.072799824
A13: 36922 | B13: 0.045542554 | C13: 0.035634277 | D13: 0.034454437 | H13: 0.0095673514
... A309: 45930 | B309: 0.031657776 | C309: 0.035623702 | D309: 0.033572724 | H309: -0.0038295043
B311: MSCI USA € | C311: MSCI USA $ | D311: MSCI USA HEDGED € | F311: correl eq USA e €/$
A312: Monthly Sigma | B312: =STDEV(B2:B309) -> 0.04400348 | C312: =STDEV(C2:C309) -> 0.044323557 | D312: =STDEV(D2:D309) -> 0.044539172 | F312: =CORREL(C2:C309,H2:H309) -> -0.31807088 | H312: =STDEV(H2:H309) -> 0.0270251
B315: =B1 -> MSCI USA € | C315: =C1 -> MSCI USA $ | D315: =D1 -> MSCI USA HEDGED €
A316: =B315 -> MSCI USA €
A317: =C315 -> MSCI USA $
A318: =D315 -> MSCI USA HEDGED €

Sheet Global Bond Hedging
B1: WD CITIGROUP WGBI WORLD ALL MATS: TOTAL RETURN HEDGED - (E) | C1: WD CITIGROUP WGBI WORLD ALL MATS: TOTAL RETURN - (E) | D1: CGBI WGBI EMU ALL MATS. (E) - TOT RETURN IND
A2: 36585 | B2: 0.006986195 | C2: 0.0089103345 | D2: 0.0062819245
A3: 36616 | B3: 0.013425251 | C3: 0.0373187 | D3: 0.015954725
A4: 36644 | B4: 0.00058092648 | C4: 0.015751944 | D4: -0.00049358839
A5: 36677 | B5: 0.004043633 | C5: -0.0097054817 | D5: 0.0024691607
A6: 36707 | B6: 0.0060818395 | C6: -0.0090824207 | D6: 0.0042023143
A7: 36738 | B7: 0.0061104387 | C7: 0.017024963 | D7: 0.0039244346
A8: 36769 | B8: 0.002092397 | C8: 0.034338196 | D8: -3.988871e-05
A9: 36798 | B9: 0.0048892049 | C9: 0.0054920454 | D9: 0.0073098978
A10: 36830 | B10: 0.0070055773 | C10: 0.027951798 | D10: 0.0045441945
A11: 36860 | B11: 0.016198017 | C11: -0.0069729864 | D11: 0.014684577
A12: 36889 | B12: 0.011443976 | C12: -0.039624314 | D12: 0.014287518
A13: 36922 | B13: 0.0089286482 | C13: 0.0082825554 | D13: 0.0072968936
... A309: 45930 | B309: 0.0061737267 | C309: 0.0014669601 | D309: 0.0045815691
B311: WD CITIGROUP WGBI WORLD ALL MATS: TOTAL RETURN HEDGED - (E) | C311: WD CITIGROUP WGBI WORLD ALL MATS: TOTAL RETURN - (E) | D311: CGBI WGBI EMU ALL MATS. (E) - TOT RETURN IND
A312: Monthly sigma | B312: =STDEV(B2:B309) -> 0.010080446 | C312: =STDEV(C2:C309) -> 0.018999498 | D312: =STDEV(D2:D309) -> 0.013283725
A313: Annual sigma | B313: =B312*SQRT(12) -> 0.03491969 | C313: =C312*SQRT(12) -> 0.065816191 | D313: =D312*SQRT(12) -> 0.046016173
B315: WD CITIGROUP WGBI WORLD ALL MATS: TOTAL RETURN HEDGED - (E) | C315: WD CITIGROUP WGBI WORLD ALL MATS: TOTAL RETURN - (E) | D315: CGBI WGBI EMU ALL MATS. (E) - TOT RETURN IND
A316: WD CITIGROUP WGBI WORLD ALL MATS: TOTAL RETURN HEDGED - (E) | B316: 1
A317: WD CITIGROUP WGBI WORLD ALL MATS: TOTAL RETURN - (E) | B317: =CORREL(B2:B309,C2:C309) -> 0.54786623 | C317: 1
A318: CGBI WGBI EMU ALL MATS. (E) - TOT RETURN IND | B318: =CORREL(B2:B309,D2:D309) -> 0.88621519 | D318: 1

Sheet VaR
B1: MSCI USA
A2: 37435 | B2: -0.13066405
A3: 43921 | B3: -0.12516199
A4: 37529 | B4: -0.11527084 | D4: Time horizon | E4: 1 month | F4: 1 month | G4: 1 month
A5: 37621 | B5: -0.11056437 | D5: VaR(%) Hist sim | E5: =B5 -> -0.11056437 | F5: =B8 -> -0.097310743 | G5: =B17 -> -0.073718509
A6: 37134 | B6: -0.10749228 | D6: Confidence Level | E6: 0.99 | F6: 0.98 | G6: 0.95
A7: 36860 | B7: -0.10727781
A8: 43465 | B8: -0.097310743 | D8: Time horizon | E8: 1 month | F8: 1 month | G8: 1 month
A9: 39629 | B9: -0.096422128 | D9: VaR(%) Var-Cov | E9: =E14-E11*E15 -> -0.096617157 | F9: =E14-F11*E15 -> -0.084561934 | G9: =E14-G11*E15 -> -0.066479239
A10: 37376 | B10: -0.094340084 | D10: Confidence Level | E10: 0.99 | F10: 0.98 | G10: 0.95
A11: 45747 | B11: -0.093544297 | D11: k | E11: =_xlfn.NORM.S.INV(E10) -> 2.3263479 | F11: =_xlfn.NORM.S.INV(F10) -> 2.0537489 | G11: =_xlfn.NORM.S.INV(G10) -> 1.6448536
A12: 44925 | B12: -0.092863809
A13: 39871 | B13: -0.090281058 | E13: 1 month | G13: 1 year
A14: 36950 | B14: -0.084929463 | D14: MEAN | E14: =AVERAGE(B2:B301) -> 0.006261601 | G14: =E14*12 -> 0.075139212
A15: 42247 | B15: -0.081435675 | D15: SIGMA | E15: =STDEV(B2:B301) -> 0.044223291 | G15: =E15*SQRT(12) -> 0.15319397
A16: 43889 | B16: -0.075269731 | G16: 0.95
A17: 37162 | B17: -0.073718509 | F17: 1yr VaR 95% | G17: =G14-G11*G15 -> -0.17684245
A18: 39813 | B18: -0.073649128 | F18: 1yr VaR 99% | G18: =G14-E11*G15 -> -0.28124326
A19: 37894 | B19: -0.073046554
A20: 39780 | B20: -0.07160191
A21: 39752 | B21: -0.070552881
A22: 39478 | B22: -0.070102167
A23: 44834 | B23: -0.0683
A24: 36889 | B24: -0.068175837
A25: 40786 | B25: -0.067733396
A26: 39721 | B26: -0.064292593
A27: 39416 | B27: -0.062585325
A28: 44742 | B28: -0.061562492
A29: 43616 | B29: -0.057596693
A30: 42398 | B30: -0.056012956
... A301: 43951 | B301: 0.13986235

Sheet Grid
A2: HP/Risk Tol | B2: low | C2: medium | D2: medium-high | E2: high
A3: 1 yr
A4: 3 yrs
A5: 5 yrs | D5: 0.6
A6: 10 yrs
A7: + 10 yrs

Sheet Naive Strategy
A1: Asset Classes | B1: SAA Neutral HBA | C1: SAA Naive | E1: Weights | F1: naive | G1: neutral HBA | P1: COMPOSIZIONE DEI PORTAFOGLI NAIVE
A2: Money Mkt in € | B2: =$E$2*G2 -> 0.018 | C2: =$E$2*F2 -> 0.0135 | E2: =1-E8 -> 0.45 | F2: 0.03 | G2: 0.04 | H2: =A2 -> Money Mkt in € | P2: Porzione Azionaria | Q2: {=TRANSPOSE(A2:A12)} -> Money Mkt in € | R2: € Bond Mkt Short Term | S2: € Bond Mkt | T2: Global Bond Dev Mkts | U2: Global Corp Bond High Yield | V2: Em Mkts Bond Mkt | W2: Equ. Europe | X2: Equ. North America | Y2: Equ. Pacific | Z2: Equ. Em Mkts | AA2: Opportunities
A3: € Bond Mkt Short Term | B3: =$E$2*G3 -> 0.09 | C3: =$E$2*F3 -> 0.081 | F3: 0.18 | G3: 0.2 | H3: =A3 -> € Bond Mkt Short Term | P3: 0 | Q3: {=(1-$P3)*TRANSPOSE($F$2:$F$7)} -> 0.03 | R3: 0.18 | S3: 0.37 | T3: 0.2 | U3: 0.09 | V3: 0.13 | W3: {=$P3*TRANSPOSE($F$8:$F$12)} -> 0 | X3: 0 | Y3: 0 | Z3: 0 | AA3: 0
A4: € Bond Mkt | B4: =$E$2*G4 -> 0.18 | C4: =$E$2*F4 -> 0.1665 | F4: 0.37 | G4: 0.4 | H4: =A4 -> € Bond Mkt | P4: 0.01 | Q4: {=(1-$P4)*TRANSPOSE($F$2:$F$7)} -> 0.0297 | R4: 0.1782 | S4: 0.3663 | T4: 0.198 | U4: 0.0891 | V4: 0.1287 | W4: {=$P4*TRANSPOSE($F$8:$F$12)} -> 0.002 | X4: 0.0052 | Y4: 0.0004 | Z4: 0.0016 | AA4: 0.0008
A5: Global Bond Dev Mkts | B5: =$E$2*G5 -> 0.1035 | C5: =$E$2*F5 -> 0.09 | F5: 0.2 | G5: 0.23 | H5: =A5 -> Global Bond Dev Mkts | P5: 0.02 | Q5: {=(1-$P5)*TRANSPOSE($F$2:$F$7)} -> 0.0294 | R5: 0.1764 | S5: 0.3626 | T5: 0.196 | U5: 0.0882 | V5: 0.1274 | W5: {=$P5*TRANSPOSE($F$8:$F$12)} -> 0.004 | X5: 0.0104 | Y5: 0.0008 | Z5: 0.0032 | AA5: 0.0016
A6: Global Corp Bond High Yield | B6: =$E$2*G6 -> 0.0225 | C6: =$E$2*F6 -> 0.0405 | F6: 0.09 | G6: 0.05 | H6: =A6 -> Global Corp Bond High Yield | P6: 0.03 | Q6: {=(1-$P6)*TRANSPOSE($F$2:$F$7)} -> 0.0291 | R6: 0.1746 | S6: 0.3589 | T6: 0.194 | U6: 0.0873 | V6: 0.1261 | W6: {=$P6*TRANSPOSE($F$8:$F$12)} -> 0.006 | X6: 0.0156 | Y6: 0.0012 | Z6: 0.0048 | AA6: 0.0024
A7: Em Mkts Bond Mkt | B7: =$E$2*G7 -> 0.036 | C7: =$E$2*F7 -> 0.0585 | F7: 0.13 | G7: 0.08 | H7: =A7 -> Em Mkts Bond Mkt | P7: 0.04 | Q7: {=(1-$P7)*TRANSPOSE($F$2:$F$7)} -> 0.0288 | R7: 0.1728 | S7: 0.3552 | T7: 0.192 | U7: 0.0864 | V7: 0.1248 | W7: {=$P7*TRANSPOSE($F$8:$F$12)} -> 0.008 | X7: 0.0208 | Y7: 0.0016 | Z7: 0.0064 | AA7: 0.0032
A8: Equ. Europe | B8: =$E$8*G8 -> 0.1265 | C8: =$E$8*F8 -> 0.11 | E8: 0.55 | F8: 0.2 | G8: 0.23 | H8: =A8 -> Equ. Europe | P8: 0.05 | Q8: {=(1-$P8)*TRANSPOSE($F$2:$F$7)} -> 0.0285 | R8: 0.171 | S8: 0.3515 | T8: 0.19 | U8: 0.0855 | V8: 0.1235 | W8: {=$P8*TRANSPOSE($F$8:$F$12)} -> 0.01 | X8: 0.026 | Y8: 0.002 | Z8: 0.008 | AA8: 0.004
A9: Equ. North America | B9: =$E$8*G9 -> 0.275 | C9: =$E$8*F9 -> 0.286 | F9: 0.52 | G9: 0.5 | H9: =A9 -> Equ. North America | P9: 0.06 | Q9: {=(1-$P9)*TRANSPOSE($F$2:$F$7)} -> 0.0282 | R9: 0.1692 | S9: 0.3478 | T9: 0.188 | U9: 0.0846 | V9: 0.1222 | W9: {=$P9*TRANSPOSE($F$8:$F$12)} -> 0.012 | X9: 0.0312 | Y9: 0.0024 | Z9: 0.0096 | AA9: 0.0048
A10: Equ. Pacific | B10: =$E$8*G10 -> 0.0495 | C10: =$E$8*F10 -> 0.022 | F10: 0.04 | G10: 0.09 | H10: =A10 -> Equ. Pacific | P10: 0.07 | Q10: {=(1-$P10)*TRANSPOSE($F$2:$F$7)} -> 0.0279 | R10: 0.1674 | S10: 0.3441 | T10: 0.186 | U10: 0.0837 | V10: 0.1209 | W10: {=$P10*TRANSPOSE($F$8:$F$12)} -> 0.014 | X10: 0.0364 | Y10: 0.0028 | Z10: 0.0112 | AA10: 0.0056
A11: Equ. Em Mkts | B11: =$E$8*G11 -> 0.0715 | C11: =$E$8*F11 -> 0.088 | F11: 0.16 | G11: 0.13 | H11: =A11 -> Equ. Em Mkts | P11: 0.08 | Q11: {=(1-$P11)*TRANSPOSE($F$2:$F$7)} -> 0.0276 | R11: 0.1656 | S11: 0.3404 | T11: 0.184 | U11: 0.0828 | V11: 0.1196 | W11: {=$P11*TRANSPOSE($F$8:$F$12)} -> 0.016 | X11: 0.0416 | Y11: 0.0032 | Z11: 0.0128 | AA11: 0.0064
A12: Opportunities | B12: =$E$8*G12 -> 0.0275 | C12: =$E$8*F12 -> 0.044 | F12: 0.08 | G12: 0.05 | H12: =A12 -> Opportunities | P12: 0.09 | Q12: {=(1-$P12)*TRANSPOSE($F$2:$F$7)} -> 0.0273 | R12: 0.1638 | S12: 0.3367 | T12: 0.182 | U12: 0.0819 | V12: 0.1183 | W12: {=$P12*TRANSPOSE($F$8:$F$12)} -> 0.018 | X12: 0.0468 | Y12: 0.0036 | Z12: 0.0144 | AA12: 0.0072
B13: Long Term Views | P13: 0.1 | Q13: {=(1-$P13)*TRANSPOSE($F$2:$F$7)} -> 0.027 | R13: 0.162 | S13: 0.333 | T13: 0.18 | U13: 0.081 | V13: 0.117 | W13: {=$P13*TRANSPOSE($F$8:$F$12)} -> 0.02 | X13: 0.052 | Y13: 0.004 | Z13: 0.016 | AA13: 0.008
B14: view | C14: fiducia | P14: 0.11 | Q14: {=(1-$P14)*TRANSPOSE($F$2:$F$7)} -> 0.0267 | R14: 0.1602 | S14: 0.3293 | T14: 0.178 | U14: 0.0801 | V14: 0.1157 | W14: {=$P14*TRANSPOSE($F$8:$F$12)} -> 0.022 | X14: 0.0572 | Y14: 0.0044 | Z14: 0.0176 | AA14: 0.0088
A15: € interest rate | B15: stable | C15: medium | P15: 0.12 | Q15: {=(1-$P15)*TRANSPOSE($F$2:$F$7)} -> 0.0264 | R15: 0.1584 | S15: 0.3256 | T15: 0.176 | U15: 0.0792 | V15: 0.1144 | W15: {=$P15*TRANSPOSE($F$8:$F$12)} -> 0.024 | X15: 0.0624 | Y15: 0.0048 | Z15: 0.0192 | AA15: 0.0096
P16: 0.13 | Q16: {=(1-$P16)*TRANSPOSE($F$2:$F$7)} -> 0.0261 | R16: 0.1566 | S16: 0.3219 | T16: 0.174 | U16: 0.0783 | V16: 0.1131 | W16: {=$P16*TRANSPOSE($F$8:$F$12)} -> 0.026 | X16: 0.0676 | Y16: 0.0052 | Z16: 0.0208 | AA16: 0.0104
A17: strong currencies | B17: stable dollar $ | C17: medium | P17: 0.14 | Q17: {=(1-$P17)*TRANSPOSE($F$2:$F$7)} -> 0.0258 | R17: 0.1548 | S17: 0.3182 | T17: 0.172 | U17: 0.0774 | V17: 0.1118 | W17: {=$P17*TRANSPOSE($F$8:$F$12)} -> 0.028 | X17: 0.0728 | Y17: 0.0056 | Z17: 0.0224 | AA17: 0.0112
P18: 0.15 | Q18: {=(1-$P18)*TRANSPOSE($F$2:$F$7)} -> 0.0255 | R18: 0.153 | S18: 0.3145 | T18: 0.17 | U18: 0.0765 | V18: 0.1105 | W18: {=$P18*TRANSPOSE($F$8:$F$12)} -> 0.03 | X18: 0.078 | Y18: 0.006 | Z18: 0.024 | AA18: 0.012
A19: spread low rating bonds | B19: credit spread reduction | C19: high | P19: 0.16 | Q19: {=(1-$P19)*TRANSPOSE($F$2:$F$7)} -> 0.0252 | R19: 0.1512 | S19: 0.3108 | T19: 0.168 | U19: 0.0756 | V19: 0.1092 | W19: {=$P19*TRANSPOSE($F$8:$F$12)} -> 0.032 | X19: 0.0832 | Y19: 0.0064 | Z19: 0.0256 | AA19: 0.0128
P20: 0.17 | Q20: {=(1-$P20)*TRANSPOSE($F$2:$F$7)} -> 0.0249 | R20: 0.1494 | S20: 0.3071 | T20: 0.166 | U20: 0.0747 | V20: 0.1079 | W20: {=$P20*TRANSPOSE($F$8:$F$12)} -> 0.034 | X20: 0.0884 | Y20: 0.0068 | Z20: 0.0272 | AA20: 0.0136
A21: Equ. Europe | B21: - | C21: medium | P21: 0.18 | Q21: {=(1-$P21)*TRANSPOSE($F$2:$F$7)} -> 0.0246 | R21: 0.1476 | S21: 0.3034 | T21: 0.164 | U21: 0.0738 | V21: 0.1066 | W21: {=$P21*TRANSPOSE($F$8:$F$12)} -> 0.036 | X21: 0.0936 | Y21: 0.0072 | Z21: 0.0288 | AA21: 0.0144
A22: Equ. North America | B22: + | C22: medium | P22: 0.19 | Q22: {=(1-$P22)*TRANSPOSE($F$2:$F$7)} -> 0.0243 | R22: 0.1458 | S22: 0.2997 | T22: 0.162 | U22: 0.0729 | V22: 0.1053 | W22: {=$P22*TRANSPOSE($F$8:$F$12)} -> 0.038 | X22: 0.0988 | Y22: 0.0076 | Z22: 0.0304 | AA22: 0.0152
A23: Equ. Pacific | B23: - | C23: medium | P23: 0.2 | Q23: {=(1-$P23)*TRANSPOSE($F$2:$F$7)} -> 0.024 | R23: 0.144 | S23: 0.296 | T23: 0.16 | U23: 0.072 | V23: 0.104 | W23: {=$P23*TRANSPOSE($F$8:$F$12)} -> 0.04 | X23: 0.104 | Y23: 0.008 | Z23: 0.032 | AA23: 0.016
A24: Equ. Em Mkts | B24: + | C24: medium | P24: 0.21 | Q24: {=(1-$P24)*TRANSPOSE($F$2:$F$7)} -> 0.0237 | R24: 0.1422 | S24: 0.2923 | T24: 0.158 | U24: 0.0711 | V24: 0.1027 | W24: {=$P24*TRANSPOSE($F$8:$F$12)} -> 0.042 | X24: 0.1092 | Y24: 0.0084 | Z24: 0.0336 | AA24: 0.0168
P25: 0.22 | Q25: {=(1-$P25)*TRANSPOSE($F$2:$F$7)} -> 0.0234 | R25: 0.1404 | S25: 0.2886 | T25: 0.156 | U25: 0.0702 | V25: 0.1014 | W25: {=$P25*TRANSPOSE($F$8:$F$12)} -> 0.044 | X25: 0.1144 | Y25: 0.0088 | Z25: 0.0352 | AA25: 0.0176
A26: Opportunities | B26: + | C26: high | P26: 0.23 | Q26: {=(1-$P26)*TRANSPOSE($F$2:$F$7)} -> 0.0231 | R26: 0.1386 | S26: 0.2849 | T26: 0.154 | U26: 0.0693 | V26: 0.1001 | W26: {=$P26*TRANSPOSE($F$8:$F$12)} -> 0.046 | X26: 0.1196 | Y26: 0.0092 | Z26: 0.0368 | AA26: 0.0184
P27: 0.24 | Q27: {=(1-$P27)*TRANSPOSE($F$2:$F$7)} -> 0.0228 | R27: 0.1368 | S27: 0.2812 | T27: 0.152 | U27: 0.0684 | V27: 0.0988 | W27: {=$P27*TRANSPOSE($F$8:$F$12)} -> 0.048 | X27: 0.1248 | Y27: 0.0096 | Z27: 0.0384 | AA27: 0.0192
P28: 0.25 | Q28: {=(1-$P28)*TRANSPOSE($F$2:$F$7)} -> 0.0225 | R28: 0.135 | S28: 0.2775 | T28: 0.15 | U28: 0.0675 | V28: 0.0975 | W28: {=$P28*TRANSPOSE($F$8:$F$12)} -> 0.05 | X28: 0.13 | Y28: 0.01 | Z28: 0.04 | AA28: 0.02
P29: 0.26 | Q29: {=(1-$P29)*TRANSPOSE($F$2:$F$7)} -> 0.0222 | R29: 0.1332 | S29: 0.2738 | T29: 0.148 | U29: 0.0666 | V29: 0.0962 | W29: {=$P29*TRANSPOSE($F$8:$F$12)} -> 0.052 | X29: 0.1352 | Y29: 0.0104 | Z29: 0.0416 | AA29: 0.0208
P30: 0.27 | Q30: {=(1-$P30)*TRANSPOSE($F$2:$F$7)} -> 0.0219 | R30: 0.1314 | S30: 0.2701 | T30: 0.146 | U30: 0.0657 | V30: 0.0949 | W30: {=$P30*TRANSPOSE($F$8:$F$12)} -> 0.054 | X30: 0.1404 | Y30: 0.0108 | Z30: 0.0432 | AA30: 0.0216
P31: 0.28 | Q31: {=(1-$P31)*TRANSPOSE($F$2:$F$7)} -> 0.0216 | R31: 0.1296 | S31: 0.2664 | T31: 0.144 | U31: 0.0648 | V31: 0.0936 | W31: {=$P31*TRANSPOSE($F$8:$F$12)} -> 0.056 | X31: 0.1456 | Y31: 0.0112 | Z31: 0.0448 | AA31: 0.0224
P32: 0.29 | Q32: {=(1-$P32)*TRANSPOSE($F$2:$F$7)} -> 0.0213 | R32: 0.1278 | S32: 0.2627 | T32: 0.142 | U32: 0.0639 | V32: 0.0923 | W32: {=$P32*TRANSPOSE($F$8:$F$12)} -> 0.058 | X32: 0.1508 | Y32: 0.0116 | Z32: 0.0464 | AA32: 0.0232
P33: 0.3 | Q33: {=(1-$P33)*TRANSPOSE($F$2:$F$7)} -> 0.021 | R33: 0.126 | S33: 0.259 | T33: 0.14 | U33: 0.063 | V33: 0.091 | W33: {=$P33*TRANSPOSE($F$8:$F$12)} -> 0.06 | X33: 0.156 | Y33: 0.012 | Z33: 0.048 | AA33: 0.024
P34: 0.31 | Q34: {=(1-$P34)*TRANSPOSE($F$2:$F$7)} -> 0.0207 | R34: 0.1242 | S34: 0.2553 | T34: 0.138 | U34: 0.0621 | V34: 0.0897 | W34: {=$P34*TRANSPOSE($F$8:$F$12)} -> 0.062 | X34: 0.1612 | Y34: 0.0124 | Z34: 0.0496 | AA34: 0.0248
P35: 0.32 | Q35: {=(1-$P35)*TRANSPOSE($F$2:$F$7)} -> 0.0204 | R35: 0.1224 | S35: 0.2516 | T35: 0.136 | U35: 0.0612 | V35: 0.0884 | W35: {=$P35*TRANSPOSE($F$8:$F$12)} -> 0.064 | X35: 0.1664 | Y35: 0.0128 | Z35: 0.0512 | AA35: 0.0256
P36: 0.33 | Q36: {=(1-$P36)*TRANSPOSE($F$2:$F$7)} -> 0.0201 | R36: 0.1206 | S36: 0.2479 | T36: 0.134 | U36: 0.0603 | V36: 0.0871 | W36: {=$P36*TRANSPOSE($F$8:$F$12)} -> 0.066 | X36: 0.1716 | Y36: 0.0132 | Z36: 0.0528 | AA36: 0.0264
P37: 0.34 | Q37: {=(1-$P37)*TRANSPOSE($F$2:$F$7)} -> 0.0198 | R37: 0.1188 | S37: 0.2442 | T37: 0.132 | U37: 0.0594 | V37: 0.0858 | W37: {=$P37*TRANSPOSE($F$8:$F$12)} -> 0.068 | X37: 0.1768 | Y37: 0.0136 | Z37: 0.0544 | AA37: 0.0272
P38: 0.35 | Q38: {=(1-$P38)*TRANSPOSE($F$2:$F$7)} -> 0.0195 | R38: 0.117 | S38: 0.2405 | T38: 0.13 | U38: 0.0585 | V38: 0.0845 | W38: {=$P38*TRANSPOSE($F$8:$F$12)} -> 0.07 | X38: 0.182 | Y38: 0.014 | Z38: 0.056 | AA38: 0.028
... P103: 1 | Q103: {=(1-$P103)*TRANSPOSE($F$2:$F$7)} -> 0 | R103: 0 | S103: 0 | T103: 0 | U103: 0 | V103: 0 | W103: {=$P103*TRANSPOSE($F$8:$F$12)} -> 0.2 | X103: 0.52 | Y103: 0.04 | Z103: 0.16 | AA103: 0.08

Sheet METAPORTFOLIO example
A1: ASSET CLASSES | B1: Metaportfolio (Medium size Bank )
A2: Money Market Area € | B2: 0.00026421701
A3: Bond Area € Short Term | B3: 0.01963632
A4: Bond Area € All Maturities | B4: 0.32344321
A5: Bond € Corporate | B5: 0.054352288
A6: Bond Global | B6: 0.076320393
A7: Bond Global HY | B7: 0.0073157946
A8: Bond Emerging Mkts | B8: 0.054226423
A9: Equity Europe | B9: 0.065554189
A10: Equity North America | B10: 0.057108941
A11: Equity Pacific | B11: 0.01446757
A12: Equity Emerging Markets | B12: 0.034012546
A13: Opportunities | B13: 0.018786135
... A15: Flexible Funds medium-high risk | B15: 0.059522439
B16: 1

Sheet Mark opt
A1: Asset Classes | B1: E(r) pred | C1: s (ts) | D1: Pesi | G1: cov (ts) | H1: Money Mkt in € | I1: € Bond Mkt Short Term | J1: € Bond Mkt | K1: Global Bond Dev Mkts | L1: Global Corp Bond High Yield | M1: Em Mkts Bond Mkt | N1: Equ. Europe | O1: Equ. North America | P1: Equ. Pacific | Q1: Equ. Em Mkts | R1: Opportunities
A2: Money Mkt in € | B2: 0.02 | C2: 0.0086802842 | D2: 0 | G2: =A2 -> Money Mkt in € | H2: 7.5347334e-05 | I2: 8.4124644e-05 | J2: 8.3378228e-05 | K2: 7.1342985e-05 | L2: -0.00017397431 | M2: -6.1542754e-05 | N2: -0.00033207095 | O2: -0.00039257831 | P2: -0.00034189094 | Q2: -0.00033686116 | R2: -0.00026083404
A3: € Bond Mkt Short Term | B3: 0.029 | C3: 0.016887831 | D3: 0.60485527 | G3: =A3 -> € Bond Mkt Short Term | H3: 8.4124644e-05 | I3: 0.00028519884 | J3: 0.00052850669 | K3: 0.000301066 | L3: -1.9639822e-06 | M3: 7.8226156e-05 | N3: -0.00044277805 | O3: -0.00057545911 | P3: -0.0002638948 | Q3: -0.00051360836 | R3: -0.00054852013
A4: € Bond Mkt | B4: 0.03255 | C4: 0.04168791 | D4: 0.036078149 | G4: =A4 -> € Bond Mkt | H4: 8.3378228e-05 | I4: 0.00052850669 | J4: 0.0017378818 | K4: 0.0012112773 | L4: 0.00043922155 | M4: 0.00082645978 | N4: -0.00036330969 | O4: -0.00033697727 | P4: -0.00023877628 | Q4: -0.0004320099 | R4: -0.00066831916
A5: Global Bond Dev Mkts | B5: 0.030122243 | C5: 0.069174632 | D5: 0 | G5: =A5 -> Global Bond Dev Mkts | H5: 7.1342985e-05 | I5: 0.000301066 | J5: 0.0012112773 | K5: 0.0047851297 | L5: 0.0023664839 | M5: 0.0025755328 | N5: -0.0023069931 | O5: 0.0008906135 | P5: 0.00028093602 | Q5: -0.0019456008 | R5: -0.00055598841
A6: Global Corp Bond High Yield | B6: 0.073 | C6: 0.11065841 | D6: 0.33744985 | G6: =A6 -> Global Corp Bond High Yield | H6: -0.00017397431 | I6: -1.9639822e-06 | J6: 0.00043922155 | K6: 0.0023664839 | L6: 0.012245283 | M6: 0.00983592 | N6: 0.010775571 | O6: 0.012850416 | P6: 0.010944858 | Q6: 0.01493782 | R6: 0.011378505
A7: Em Mkts Bond Mkt | B7: 0.06 | C7: 0.12718802 | D7: 0 | G7: =A7 -> Em Mkts Bond Mkt | H7: -6.1542754e-05 | I7: 7.8226156e-05 | J7: 0.00082645978 | K7: 0.0025755328 | L7: 0.00983592 | M7: 0.016176792 | N7: 0.010983252 | O7: 0.013100393 | P7: 0.012511455 | Q7: 0.019179196 | R7: 0.011104224
A8: Equ. Europe | B8: 0.065 | C8: 0.17527257 | D8: 0 | G8: =A8 -> Equ. Europe | H8: -0.00033207095 | I8: -0.00044277805 | J8: -0.00036330969 | K8: -0.0023069931 | L8: 0.010775571 | M8: 0.010983252 | N8: 0.030720472 | O8: 0.024597742 | P8: 0.022749367 | Q8: 0.030464166 | R8: 0.022943713
A9: Equ. North America | B9: 0.075 | C9: 0.178 | D9: 0.013964444 | G9: =A9 -> Equ. North America | H9: -0.00039257831 | I9: -0.00057545911 | J9: -0.00033697727 | K9: 0.0008906135 | L9: 0.012850416 | M9: 0.013100393 | N9: 0.024597742 | O9: 0.031684 | P9: 0.022144246 | Q9: 0.028532455 | R9: 0.023753384
A10: Equ. Pacific | B10: 0.068068267 | C10: 0.18555431 | D10: 0 | G10: =A10 -> Equ. Pacific | H10: -0.00034189094 | I10: -0.0002638948 | J10: -0.00023877628 | K10: 0.00028093602 | L10: 0.010944858 | M10: 0.012511455 | N10: 0.022749367 | O10: 0.022144246 | P10: 0.034430403 | Q10: 0.034107686 | R10: 0.02169613
A11: Equ. Em Mkts | B11: 0.083775786 | C11: 0.23692683 | D11: 0.0051645757 | G11: =A11 -> Equ. Em Mkts | H11: -0.00033686116 | I11: -0.00051360836 | J11: -0.0004320099 | K11: -0.0019456008 | L11: 0.01493782 | M11: 0.019179196 | N11: 0.030464166 | O11: 0.028532455 | P11: 0.034107686 | Q11: 0.056134322 | R11: 0.028302038
A12: Opportunities | B12: 0.068743756 | C12: 0.15358287 | D12: 0.0024877134 | G12: =A12 -> Opportunities | H12: -0.00026083404 | I12: -0.00054852013 | J12: -0.00066831916 | K12: -0.00055598841 | L12: 0.011378505 | M12: 0.011104224 | N12: 0.022943713 | O12: 0.023753384 | P12: 0.02169613 | Q12: 0.028302038 | R12: 0.023587697
A13: PORTFOLIO | B13: =SUMPRODUCT(D2:D12,B2:B12) -> 0.045 | C13: {=SQRT(MMULT(MMULT(TRANSPOSE(D2:D12),H2:R12),D2:D12))} -> 0.041537399 | D13: =SUM(D2:D12) -> 1
G14: corr (ts) | H14: 1 | I14: 0.5738725 | J14: 0.23041386 | K14: 0.11881478 | L14: -0.18112014 | M14: -0.055743828 | N14: -0.21826445 | O14: -0.26406301 | P14: -0.21226705 | Q14: -0.1637958 | R14: -0.19565347
A15: 0.045 | H15: 0.5738725 | I15: 1 | J15: 0.75070012 | K15: 0.25771576 | L15: -0.0010509432 | M15: 0.036419327 | N15: -0.14958852 | O15: -0.19895543 | P15: -0.08421431 | Q15: -0.12836421 | R15: -0.21148322
A16: Targeted Return (R*) | H16: 0.23041386 | I16: 0.75070012 | J16: 1 | K16: 0.4200361 | L16: 0.095211435 | M16: 0.15587103 | N16: -0.049722496 | O16: -0.047196055 | P16: -0.030868108 | Q16: -0.04373905 | R16: -0.1043833
H17: 0.11881478 | I17: 0.25771576 | J17: 0.4200361 | K17: 1 | L17: 0.30915216 | M17: 0.29273459 | N17: -0.19027665 | O17: 0.075172263 | P17: 0.021887165 | Q17: -0.11871146 | R17: -0.052333058
H18: -0.18112014 | I18: -0.0010509432 | J18: 0.095211435 | K18: 0.30915216 | L18: 1 | M18: 0.69885067 | N18: 0.55557404 | O18: 0.67802855 | P18: 0.53303368 | Q18: 0.56975555 | R18: 0.66951145
H19: -0.055743828 | I19: 0.036419327 | J19: 0.15587103 | K19: 0.29273459 | L19: 0.69885067 | M19: 1 | N19: 0.49268665 | O19: 0.60138604 | P19: 0.53014001 | Q19: 0.6364583 | R19: 0.56845913
H20: -0.21826445 | I20: -0.14958852 | J20: -0.049722496 | K20: -0.19027665 | L20: 0.55557404 | M20: 0.49268665 | N20: 1 | O20: 0.81940102 | P20: 0.69949453 | Q20: 0.73360301 | R20: 0.85232846
H21: -0.26406301 | I21: -0.19895543 | J21: -0.047196055 | K21: 0.075172263 | L21: 0.67802855 | M21: 0.60138604 | N21: 0.81940102 | O21: 1 | P21: 0.69679505 | Q21: 0.70313726 | R21: 0.90302117
H22: -0.21226705 | I22: -0.08421431 | J22: -0.030868108 | K22: 0.021887165 | L22: 0.53303368 | M22: 0.53014001 | N22: 0.69949453 | O22: 0.69679505 | P22: 1 | Q22: 0.77583071 | R22: 0.76132213
H23: -0.1637958 | I23: -0.12836421 | J23: -0.04373905 | K23: -0.11871146 | L23: 0.56975555 | M23: 0.6364583 | N23: 0.73360301 | O23: 0.70313726 | P23: 0.77583071 | Q23: 1 | R23: 0.77778704
H24: -0.19565347 | I24: -0.21148322 | J24: -0.1043833 | K24: -0.052333058 | L24: 0.66951145 | M24: 0.56845913 | N24: 0.85232846 | O24: 0.90302117 | P24: 0.76132213 | Q24: 0.77778704 | R24: 1
A27: Sigma | B27: Expected Return | D27: Bofa ML Euro 0-1 anni | E27: Bofa ML Bond Euro 1-3 Y | F27: Bofa ML Obbl. Euro | G27: Bofa ML Obbl. Globale | H27: ML Global HY | I27: Bofa ML Obbl Emergente | J27: MSCI Europe | K27: MSCI North America | L27: MSCI Pacific | M27: MSCI Emerging Markets | N27: Opportunities
A28: 0.0082393786 | B28: 0.021027011 | D28: 0.98039599 | E28: 0 | F28: 0 | G28: 0 | H28: 0.0066436701 | I28: 0 | J28: 0.0015066792 | K28: 0.0080152254 | L28: 0.0034384305 | M28: 0 | N28: 0
A29: 0.0099530912 | B29: 0.025 | D29: 0.66710363 | E29: 0.28733845 | F29: 0 | G29: 0 | H29: 0.027098165 | I29: 0 | J29: 0 | K29: 0.012538118 | L29: 0.00072279992 | M29: 0 | N29: 0.0051988436
A30: 0.014534694 | B30: 0.03 | D30: 0.25063992 | E30: 0.67377024 | F30: 0 | G30: 0 | H30: 0.04475045 | I30: 0 | J30: 0 | K30: 0.0097608672 | L30: 0 | M30: 0 | N30: 0.021078525
A31: 0.020584336 | B31: 0.035 | D31: 0 | E31: 0.86153094 | F31: 0 | G31: 0 | H31: 0.10308865 | I31: 0 | J31: 0 | K31: 0.0092626244 | L31: 0 | M31: 0 | N31: 0.026117783
A32: 0.03024018 | B32: 0.04 | D32: 0 | E32: 0.74947572 | F32: 0 | G32: 0 | H32: 0.22268153 | I32: 0 | J32: 0 | K32: 0.012280961 | L32: 0 | M32: 0.0012376633 | N32: 0.014324129
A33: 0.0415374 | B33: 0.045 | D33: 0 | E33: 0.60487441 | F33: 0.036062638 | G33: 0 | H33: 0.33743315 | I33: 0 | J33: 0 | K33: 0.01394894 | L33: 0 | M33: 0.0051890483 | N33: 0.0024918073
A34: 0.053338885 | B34: 0.05 | D34: 0 | E34: 0.40935022 | F34: 0.12590754 | G34: 0 | H34: 0.44578769 | I34: 0 | J34: 0 | K34: 0.011381355 | L34: 0 | M34: 0.0075732 | N34: 0
A35: 0.065354063 | B35: 0.055 | D35: 0 | E35: 0.2125297 | F35: 0.2167075 | G35: 0 | H35: 0.55374655 | I35: 0 | J35: 0 | K35: 0.0075478518 | L35: 0 | M35: 0.0094683983 | N35: 0
A36: 0.077483748 | B36: 0.06 | D36: 0 | E36: 0.015709173 | F36: 0.30750745 | G36: 0 | H36: 0.66170541 | I36: 0 | J36: 0 | K36: 0.0037143879 | L36: 0 | M36: 0.011363573 | N36: 0
A37: 0.089900925 | B37: 0.065 | D37: 0 | E37: 0 | F37: 0.2010891 | G37: 0 | H37: 0.7864706 | I37: 0 | J37: 0 | K37: 0 | L37: 0 | M37: 0.012440305 | N37: 0
A38: 0.10276464 | B38: 0.07 | D38: 0 | E38: 0 | F38: 0.077415919 | G38: 0 | H38: 0.91038319 | I38: 0 | J38: 0 | K38: 0 | L38: 0 | M38: 0.012200893 | N38: 0
A39: 0.12071097 | B39: 0.075 | D39: 0 | E39: 0 | F39: 0 | G39: 0 | H39: 0.81439868 | I39: 0 | J39: 0 | K39: 0 | L39: 0 | M39: 0.18560132 | N39: 0
... A41: 0.23692683 | B41: 0.083775786 | D41: 0 | E41: 0 | F41: 0 | G41: 0 | H41: 0 | I41: 0 | J41: 0 | K41: 0 | L41: 0 | M41: 1 | N41: 0

Sheet Mark abs
A1: Asset Class | B1: E(r) | C1: s | D1: Weights | G1: COV | H1: {=TRANSPOSE(G2:G12)} -> Money Mkt in € | I1: € Bond Mkt Short Term | J1: € Bond Mkt | K1: Global Bond Dev Mkts | L1: Global Corp Bond High Yield | M1: Em Mkts Bond Mkt | N1: Equ. Europe | O1: Equ. North America | P1: Equ. Pacific | Q1: Equ. Em Mkts | R1: Opportunities | U1: Asset Class | V1: Lower Bounds | W1: Upper Bounds
A2: ='Mark opt'!A2 -> Money Mkt in € | B2: ='Mark opt'!B2 -> 0.02 | C2: ='Mark opt'!C2 -> 0.0086802842 | D2: 0 | G2: =A2 -> Money Mkt in € | H2: ='Mark opt'!H2 -> 7.5347334e-05 | I2: ='Mark opt'!I2 -> 8.4124644e-05 | J2: ='Mark opt'!J2 -> 8.3378228e-05 | K2: ='Mark opt'!K2 -> 7.1342985e-05 | L2: ='Mark opt'!L2 -> -0.00017397431 | M2: ='Mark opt'!M2 -> -6.1542754e-05 | N2: ='Mark opt'!N2 -> -0.00033207095 | O2: ='Mark opt'!O2 -> -0.00039257831 | ... R2: ='Mark opt'!R2 -> -0.00026083404 | U2: Money Mkt euro | V2: 0 | W2: 1
A3: ='Mark opt'!A3 -> € Bond Mkt Short Term | B3: ='Mark opt'!B3 -> 0.029 | C3: ='Mark opt'!C3 -> 0.016887831 | D3: 0 | G3: =A3 -> € Bond Mkt Short Term | H3: ='Mark opt'!H3 -> 8.4124644e-05 | I3: ='Mark opt'!I3 -> 0.00028519884 | J3: ='Mark opt'!J3 -> 0.00052850669 | K3: ='Mark opt'!K3 -> 0.000301066 | L3: ='Mark opt'!L3 -> -1.9639822e-06 | M3: ='Mark opt'!M3 -> 7.8226156e-05 | N3: ='Mark opt'!N3 -> -0.00044277805 | O3: ='Mark opt'!O3 -> -0.00057545911 | ... R3: ='Mark opt'!R3 -> -0.00054852013 | U3: Bond € Short Term | V3: 0 | W3: 1
A4: ='Mark opt'!A4 -> € Bond Mkt | B4: ='Mark opt'!B4 -> 0.03255 | C4: ='Mark opt'!C4 -> 0.04168791 | D4: 0.24330222 | G4: =A4 -> € Bond Mkt | H4: ='Mark opt'!H4 -> 8.3378228e-05 | I4: ='Mark opt'!I4 -> 0.00052850669 | J4: ='Mark opt'!J4 -> 0.0017378818 | K4: ='Mark opt'!K4 -> 0.0012112773 | L4: ='Mark opt'!L4 -> 0.00043922155 | M4: ='Mark opt'!M4 -> 0.00082645978 | N4: ='Mark opt'!N4 -> -0.00036330969 | O4: ='Mark opt'!O4 -> -0.00033697727 | ... R4: ='Mark opt'!R4 -> -0.00066831916 | U4: Bond € MLT | V4: 0 | W4: 1
A5: ='Mark opt'!A5 -> Global Bond Dev Mkts | B5: ='Mark opt'!B5 -> 0.030122243 | C5: ='Mark opt'!C5 -> 0.069174632 | D5: 0 | G5: =A5 -> Global Bond Dev Mkts | H5: ='Mark opt'!H5 -> 7.1342985e-05 | I5: ='Mark opt'!I5 -> 0.000301066 | J5: ='Mark opt'!J5 -> 0.0012112773 | K5: ='Mark opt'!K5 -> 0.0047851297 | L5: ='Mark opt'!L5 -> 0.0023664839 | M5: ='Mark opt'!M5 -> 0.0025755328 | N5: ='Mark opt'!N5 -> -0.0023069931 | O5: ='Mark opt'!O5 -> 0.0008906135 | ... R5: ='Mark opt'!R5 -> -0.00055598841 | U5: Global Bond Dev Mkts | V5: 0 | W5: 1
A6: ='Mark opt'!A6 -> Global Corp Bond High Yield | B6: ='Mark opt'!B6 -> 0.073 | C6: ='Mark opt'!C6 -> 0.11065841 | D6: 0.15 | G6: =A6 -> Global Corp Bond High Yield | H6: ='Mark opt'!H6 -> -0.00017397431 | I6: ='Mark opt'!I6 -> -1.9639822e-06 | J6: ='Mark opt'!J6 -> 0.00043922155 | K6: ='Mark opt'!K6 -> 0.0023664839 | L6: ='Mark opt'!L6 -> 0.012245283 | M6: ='Mark opt'!M6 -> 0.00983592 | N6: ='Mark opt'!N6 -> 0.010775571 | O6: ='Mark opt'!O6 -> 0.012850416 | ... R6: ='Mark opt'!R6 -> 0.011378505 | U6: Bond Corp. High Yield | V6: 0 | W6: 0.15
A7: ='Mark opt'!A7 -> Em Mkts Bond Mkt | B7: ='Mark opt'!B7 -> 0.06 | C7: ='Mark opt'!C7 -> 0.12718802 | D7: 0.218056 | G7: =A7 -> Em Mkts Bond Mkt | H7: ='Mark opt'!H7 -> -6.1542754e-05 | I7: ='Mark opt'!I7 -> 7.8226156e-05 | J7: ='Mark opt'!J7 -> 0.00082645978 | K7: ='Mark opt'!K7 -> 0.0025755328 | L7: ='Mark opt'!L7 -> 0.00983592 | M7: ='Mark opt'!M7 -> 0.016176792 | N7: ='Mark opt'!N7 -> 0.010983252 | O7: ='Mark opt'!O7 -> 0.013100393 | ... R7: ='Mark opt'!R7 -> 0.011104224 | U7: Bond Emerg. Markets | V7: 0 | W7: 1
A8: ='Mark opt'!A8 -> Equ. Europe | B8: ='Mark opt'!B8 -> 0.065 | C8: ='Mark opt'!C8 -> 0.17527257 | D8: 0.07 | G8: =A8 -> Equ. Europe | H8: ='Mark opt'!H8 -> -0.00033207095 | I8: ='Mark opt'!I8 -> -0.00044277805 | J8: ='Mark opt'!J8 -> -0.00036330969 | K8: ='Mark opt'!K8 -> -0.0023069931 | L8: ='Mark opt'!L8 -> 0.010775571 | M8: ='Mark opt'!M8 -> 0.010983252 | N8: ='Mark opt'!N8 -> 0.030720472 | O8: ='Mark opt'!O8 -> 0.024597742 | ... R8: ='Mark opt'!R8 -> 0.022943713 | U8: Equ Europe | V8: 0.07 | W8: 1
A9: ='Mark opt'!A9 -> Equ. North America | B9: ='Mark opt'!B9 -> 0.075 | C9: ='Mark opt'!C9 -> 0.178 | D9: 0.18 | G9: =A9 -> Equ. North America | H9: ='Mark opt'!H9 -> -0.00039257831 | I9: ='Mark opt'!I9 -> -0.00057545911 | J9: ='Mark opt'!J9 -> -0.00033697727 | K9: ='Mark opt'!K9 -> 0.0008906135 | L9: ='Mark opt'!L9 -> 0.012850416 | M9: ='Mark opt'!M9 -> 0.013100393 | N9: ='Mark opt'!N9 -> 0.024597742 | O9: ='Mark opt'!O9 -> 0.031684 | ... R9: ='Mark opt'!R9 -> 0.023753384 | U9: Equ North America | V9: 0.18 | W9: 1
A10: ='Mark opt'!A10 -> Equ. Pacific | B10: ='Mark opt'!B10 -> 0.068068267 | C10: ='Mark opt'!C10 -> 0.18555431 | D10: 0.02 | G10: =A10 -> Equ. Pacific | H10: ='Mark opt'!H10 -> -0.00034189094 | I10: ='Mark opt'!I10 -> -0.0002638948 | J10: ='Mark opt'!J10 -> -0.00023877628 | K10: ='Mark opt'!K10 -> 0.00028093602 | L10: ='Mark opt'!L10 -> 0.010944858 | M10: ='Mark opt'!M10 -> 0.012511455 | N10: ='Mark opt'!N10 -> 0.022749367 | O10: ='Mark opt'!O10 -> 0.022144246 | ... R10: ='Mark opt'!R10 -> 0.02169613 | U10: Equ Pacific | V10: 0.02 | W10: 1
A11: ='Mark opt'!A11 -> Equ. Em Mkts | B11: ='Mark opt'!B11 -> 0.083775786 | C11: ='Mark opt'!C11 -> 0.23692683 | D11: 0.031925562 | G11: =A11 -> Equ. Em Mkts | H11: ='Mark opt'!H11 -> -0.00033686116 | I11: ='Mark opt'!I11 -> -0.00051360836 | J11: ='Mark opt'!J11 -> -0.0004320099 | K11: ='Mark opt'!K11 -> -0.0019456008 | L11: ='Mark opt'!L11 -> 0.01493782 | M11: ='Mark opt'!M11 -> 0.019179196 | N11: ='Mark opt'!N11 -> 0.030464166 | O11: ='Mark opt'!O11 -> 0.028532455 | ... R11: ='Mark opt'!R11 -> 0.028302038 | U11: Equ Emerg. Markets | V11: 0 | W11: 1
A12: ='Mark opt'!A12 -> Opportunities | B12: ='Mark opt'!B12 -> 0.068743756 | C12: ='Mark opt'!C12 -> 0.15358287 | D12: 0.086716219 | G12: =A12 -> Opportunities | H12: ='Mark opt'!H12 -> -0.00026083404 | I12: ='Mark opt'!I12 -> -0.00054852013 | J12: ='Mark opt'!J12 -> -0.00066831916 | K12: ='Mark opt'!K12 -> -0.00055598841 | L12: ='Mark opt'!L12 -> 0.011378505 | M12: ='Mark opt'!M12 -> 0.011104224 | N12: ='Mark opt'!N12 -> 0.022943713 | O12: ='Mark opt'!O12 -> 0.023753384 | ... R12: ='Mark opt'!R12 -> 0.023587697 | U12: Opportunities | V12: 0 | W12: 1
A13: PORTFOLIO | B13: {=MMULT(TRANSPOSE(D2:D12),B2:B12)} -> 0.06 | C13: {=SQRT(MMULT(MMULT(TRANSPOSE(D2:D12),H2:R12),D2:D12))} -> 0.097182851 | D13: =SUM(D2:D12) -> 1
A15: 0.06
A16: Targeted Return (R*)
H20: Weights
