Workbook

Sheet Capital Allocation
A1: Patrimonio Banca | B1: 100000000
A2: CaR | B2: 60000000
A3: Free Capital | B3: =B1-B2 -> 40000000
A4: Rischio Operativo | B4: 8000000
A5: Area Crediti | B5: 27000000
A6: Area Provvig | B6: 12000000
A7: TI | B7: 8000000
A8: Trading Book | B8: 5000000
A9: Totale | B9: =SUM(B5:B8) -> 52000000
B10: limite annuale | C10: limite giornaliero
A11: Desk Equity | B11: 700000 | C11: =B11/SQRT(260) -> 43412.157
A12: Desk Bond | B12: 4000000 | C12: =B12/SQRT(260) -> 248069.47
A13: Desk Exchange | B13: 300000 | C13: =B13/SQRT(260) -> 18605.21
A14: Desk Commodities | B14: 0

Sheet DATI
A1: DATE | B1: INTESA SP | D1: VOLSWAGEN | F1: NOKIA | H1: MSCI ITALIA | J1: MSCI FINLANDIA | L1: MSCI GERMANIA | N1: Unicredit | P1: BMW | R1: IBM | T1: APPLE | V1: S&P500
A2: 45478 | B2: 3.5495 | D2: 112.8 | F2: 3.6085 | H2: 1080.503 | J2: 686.843 | L2: 1130.906 | N2: 37.015 | P2: 87.44 | R2: 176.02 | T2: 226.34 | V2: 5567.19
A3: 45481 | B3: 3.566 | C3: =(B3-B2)/B2 -> 0.004648542 | D3: 113 | E3: =(D3-D2)/D2 -> 0.0017730496 | F3: 3.638 | G3: =(F3-F2)/F2 -> 0.008175142 | H3: 1081.434 | I3: =(H3-H2)/H2 -> 0.00086163574 | J3: 683.212 | K3: =(J3-J2)/J2 -> -0.0052865065 | L3: 1130.415 | M3: =(L3-L2)/L2 -> -0.00043416517 | N3: 37.13 | O3: =(N3-N2)/N2 -> 0.0031068486 | P3: 87.32 | Q3: =(P3-P2)/P2 -> -0.0013723696 | R3: 177.64 | S3: =(R3-R2)/R2 -> 0.0092034996 | T3: 227.82 | U3: =(T3-T2)/T2 -> 0.0065388354 | V3: 5572.85 | W3: =(V3-V2)/V2 -> 0.0010166709
A4: 45482 | B4: 3.553 | C4: =(B4-B3)/B3 -> -0.0036455412 | D4: 111 | E4: =(D4-D3)/D3 -> -0.017699115 | F4: 3.5965 | G4: =(F4-F3)/F3 -> -0.011407367 | H4: 1077.123 | I4: =(H4-H3)/H3 -> -0.0039863736 | J4: 674.773 | K4: =(J4-J3)/J3 -> -0.012351949 | L4: 1117.422 | M4: =(L4-L3)/L3 -> -0.011494009 | N4: 36.725 | O4: =(N4-N3)/N3 -> -0.010907622 | P4: 87.8 | Q4: =(P4-P3)/P3 -> 0.0054970224 | R4: 176.48 | S4: =(R4-R3)/R3 -> -0.0065300608 | T4: 228.68 | U4: =(T4-T3)/T3 -> 0.00377491 | V4: 5576.98 | W4: =(V4-V3)/V3 -> 0.00074109298
A5: 45483 | B5: 3.5745 | C5: =(B5-B4)/B4 -> 0.0060512243 | D5: 113.4 | E5: =(D5-D4)/D4 -> 0.021621622 | F5: 3.6425 | G5: =(F5-F4)/F4 -> 0.012790213 | H5: 1090.516 | I5: =(H5-H4)/H4 -> 0.012434049 | J5: 679.607 | K5: =(J5-J4)/J4 -> 0.0071638907 | L5: 1127.956 | M5: =(L5-L4)/L4 -> 0.0094270562 | N5: 37.11 | O5: =(N5-N4)/N4 -> 0.010483322 | P5: 89.78 | Q5: =(P5-P4)/P4 -> 0.022551253 | R5: 177.84 | S5: =(R5-R4)/R4 -> 0.0077062557 | T5: 232.98 | U5: =(T5-T4)/T4 -> 0.018803568 | V5: 5633.91 | W5: =(V5-V4)/V4 -> 0.010208034
A6: 45484 | B6: 3.591 | C6: =(B6-B5)/B5 -> 0.0046160302 | D6: 113.7 | E6: =(D6-D5)/D5 -> 0.0026455026 | F6: 3.613 | G6: =(F6-F5)/F5 -> -0.0080988332 | H6: 1091.099 | I6: =(H6-H5)/H5 -> 0.0005346093 | J6: 682.088 | K6: =(J6-J5)/J5 -> 0.0036506393 | L6: 1136.716 | M6: =(L6-L5)/L5 -> 0.0077662604 | N6: 36.635 | O6: =(N6-N5)/N5 -> -0.012799784 | P6: 90.98 | Q6: =(P6-P5)/P5 -> 0.013366006 | R6: 178.31 | S6: =(R6-R5)/R5 -> 0.002642825 | T6: 227.57 | U6: =(T6-T5)/T5 -> -0.023220877 | V6: 5584.54 | W6: =(V6-V5)/V5 -> -0.0087630083
A7: 45485 | B7: 3.6195 | C7: =(B7-B6)/B6 -> 0.0079365079 | D7: 114 | E7: =(D7-D6)/D6 -> 0.0026385224 | F7: 3.6695 | G7: =(F7-F6)/F6 -> 0.015637974 | H7: 1099.591 | I7: =(H7-H6)/H6 -> 0.0077829784 | J7: 687.686 | K7: =(J7-J6)/J6 -> 0.0082071522 | L7: 1149.874 | M7: =(L7-L6)/L6 -> 0.011575451 | N7: 37.115 | O7: =(N7-N6)/N6 -> 0.013102225 | P7: 91.98 | Q7: =(P7-P6)/P6 -> 0.010991427 | R7: 182.83 | S7: =(R7-R6)/R6 -> 0.025349111 | T7: 230.54 | U7: =(T7-T6)/T6 -> 0.013050929 | V7: 5615.35 | W7: =(V7-V6)/V6 -> 0.0055170166
A8: 45488 | B8: 3.608 | C8: =(B8-B7)/B7 -> -0.0031772344 | D8: 115.1 | E8: =(D8-D7)/D7 -> 0.0096491228 | F8: 3.623 | G8: =(F8-F7)/F7 -> -0.012672026 | H8: 1093.376 | I8: =(H8-H7)/H7 -> -0.0056521016 | J8: 677.961 | K8: =(J8-J7)/J7 -> -0.014141629 | L8: 1139.793 | M8: =(L8-L7)/L7 -> -0.0087670475 | N8: 37.14 | O8: =(N8-N7)/N7 -> 0.00067358211 | P8: 90.6 | Q8: =(P8-P7)/P7 -> -0.015003262 | R8: 182.88 | S8: =(R8-R7)/R7 -> 0.00027347809 | T8: 234.4 | U8: =(T8-T7)/T7 -> 0.016743298 | V8: 5631.22 | W8: =(V8-V7)/V7 -> 0.0028261818
A9: 45489 | B9: 3.623 | C9: =(B9-B8)/B8 -> 0.0041574279 | D9: 113.6 | E9: =(D9-D8)/D8 -> -0.013032146 | F9: 3.521 | G9: =(F9-F8)/F8 -> -0.028153464 | H9: 1093.064 | I9: =(H9-H8)/H8 -> -0.00028535472 | J9: 672.501 | K9: =(J9-J8)/J8 -> -0.0080535606 | L9: 1135.019 | M9: =(L9-L8)/L8 -> -0.0041884798 | N9: 37.42 | O9: =(N9-N8)/N8 -> 0.0075390415 | P9: 89.14 | Q9: =(P9-P8)/P8 -> -0.01611479 | R9: 185.81 | S9: =(R9-R8)/R8 -> 0.016021435 | T9: 234.82 | U9: =(T9-T8)/T8 -> 0.0017918089 | V9: 5667.2 | W9: =(V9-V8)/V8 -> 0.0063893792
A10: 45490 | B10: 3.648 | C10: =(B10-B9)/B9 -> 0.0069003588 | D10: 112.9 | E10: =(D10-D9)/D9 -> -0.0061619718 | F10: 3.578 | G10: =(F10-F9)/F9 -> 0.016188583 | H10: 1093.628 | I10: =(H10-H9)/H9 -> 0.00051598077 | J10: 675.326 | K10: =(J10-J9)/J9 -> 0.0042007372 | L10: 1130.357 | M10: =(L10-L9)/L9 -> -0.0041074202 | N10: 37.64 | O10: =(N10-N9)/N9 -> 0.005879209 | P10: 89.46 | Q10: =(P10-P9)/P9 -> 0.0035898586 | R10: 187.45 | S10: =(R10-R9)/R9 -> 0.0088262203 | T10: 228.88 | U10: =(T10-T9)/T9 -> -0.025295971 | V10: 5588.27 | W10: =(V10-V9)/V9 -> -0.013927513
A11: 45491 | B11: 3.6675 | C11: =(B11-B10)/B10 -> 0.0053453947 | D11: 114.2 | E11: =(D11-D10)/D10 -> 0.011514615 | F11: 3.4 | G11: =(F11-F10)/F10 -> -0.049748463 | H11: 1099.288 | I11: =(H11-H10)/H10 -> 0.0051754344 | J11: 672.874 | K11: =(J11-J10)/J10 -> -0.003630839 | L11: 1126.336 | M11: =(L11-L10)/L10 -> -0.0035572832 | N11: 37.655 | O11: =(N11-N10)/N10 -> 0.00039851222 | P11: 91.5 | Q11: =(P11-P10)/P10 -> 0.022803488 | R11: 185.22 | S11: =(R11-R10)/R10 -> -0.011896506 | T11: 224.18 | U11: =(T11-T10)/T10 -> -0.020534778 | V11: 5544.59 | W11: =(V11-V10)/V10 -> -0.0078163725
A12: 45492 | B12: 3.645 | C12: =(B12-B11)/B11 -> -0.0061349693 | D12: 111.3 | E12: =(D12-D11)/D11 -> -0.025394046 | F12: 3.3745 | G12: =(F12-F11)/F11 -> -0.0075 | H12: 1090.464 | I12: =(H12-H11)/H11 -> -0.0080270138 | J12: 668.576 | K12: =(J12-J11)/J11 -> -0.0063875257 | L12: 1114.211 | M12: =(L12-L11)/L11 -> -0.010764994 | N12: 37.52 | O12: =(N12-N11)/N11 -> -0.0035851813 | P12: 89.88 | Q12: =(P12-P11)/P11 -> -0.017704918 | R12: 183.25 | S12: =(R12-R11)/R11 -> -0.010636 | T12: 224.31 | U12: =(T12-T11)/T11 -> 0.00057989116 | V12: 5505 | W12: =(V12-V11)/V11 -> -0.0071402935
A13: 45495 | B13: 3.715 | C13: =(B13-B12)/B12 -> 0.01920439 | D13: 112.3 | E13: =(D13-D12)/D12 -> 0.008984726 | F13: 3.453 | G13: =(F13-F12)/F12 -> 0.023262706 | H13: 1100.679 | I13: =(H13-H12)/H12 -> 0.009367572 | J13: 678.06 | K13: =(J13-J12)/J12 -> 0.014185373 | L13: 1128.342 | M13: =(L13-L12)/L12 -> 0.012682517 | N13: 38.655 | O13: =(N13-N12)/N12 -> 0.030250533 | P13: 91.22 | Q13: =(P13-P12)/P12 -> 0.014908767 | R13: 184.15 | S13: =(R13-R12)/R12 -> 0.0049113233 | T13: 223.96 | U13: =(T13-T12)/T12 -> -0.0015603406 | V13: 5564.41 | W13: =(V13-V12)/V12 -> 0.010792007
A14: 45496 | B14: 3.744 | C14: =(B14-B13)/B13 -> 0.0078061911 | D14: 110.5 | E14: =(D14-D13)/D13 -> -0.016028495 | F14: 3.416 | G14: =(F14-F13)/F13 -> -0.01071532 | H14: 1102.203 | I14: =(H14-H13)/H13 -> 0.0013845999 | J14: 670.798 | K14: =(J14-J13)/J13 -> -0.010709967 | L14: 1137.96 | M14: =(L14-L13)/L13 -> 0.0085240113 | N14: 39.02 | O14: =(N14-N13)/N13 -> 0.0094425042 | P14: 89.86 | Q14: =(P14-P13)/P13 -> -0.014909011 | R14: 184.1 | S14: =(R14-R13)/R13 -> -0.00027151778 | T14: 225.01 | U14: =(T14-T13)/T13 -> 0.0046883372 | V14: 5555.74 | W14: =(V14-V13)/V13 -> -0.0015581167
... A302: 45898 | B302: 5.375 | C302: =(B302-B301)/B301 -> -0.0062858199 | D302: 102.6 | E302: =(D302-D301)/D301 -> -0.0058139535 | F302: 3.679 | G302: =(F302-F301)/F301 -> 0.0024523161 | H302: 1357.465 | I302: =(H302-H301)/H301 -> -0.0052344703 | J302: 752.611 | K302: =(J302-J301)/J301 -> -0.0024097695 | L302: 1402.991 | M302: =(L302-L301)/L301 -> -0.006241664 | N302: 66.04 | O302: =(N302-N301)/N301 -> -0.0018137848 | P302: 89.3 | Q302: =(P302-P301)/P301 -> -0.013259669 | R302: 243.49 | S302: =(R302-R301)/R301 -> -0.0091156961 | T302: 232.14 | U302: =(T302-T301)/T301 -> -0.0018059856 | V302: 6460.26 | W302: =(V302-V301)/V301 -> -0.0063981691

Sheet Sim Storiche
A1: Date | B1: Intesa SP | D1: lim rischio giorn | E1: ='Capital Allocation'!C11 -> 43412.157
A2: 45481 | B2: 0.004648542 | D2: Valore di Mercato
A3: 45482 | B3: -0.0036455412 | D3: VaR (99%)
A4: 45483 | B4: 0.0060512243
A5: 45484 | B5: 0.0046160302 | D5: lim rischio giorn | E5: =E1 -> 43412.157
A6: 45485 | B6: 0.0079365079 | D6: Valore di Mercato
A7: 45488 | B7: -0.0031772344 | D7: VaR (98%)
A8: 45489 | B8: 0.0041574279
A9: 45490 | B9: 0.0069003588 | D9: lim rischio giorn | E9: =E5 -> 43412.157
A10: 45491 | B10: 0.0053453947 | D10: Valore di Mercato
A11: 45492 | B11: -0.0061349693 | D11: VaR (95%)
A12: 45495 | B12: 0.01920439
A13: 45496 | B13: 0.0078061911
A14: 45497 | B14: -0.0050747863
A15: 45498 | B15: -0.0068456376
A16: 45499 | B16: 0.001351534
A17: 45502 | B17: -0.0099878526
A18: 45503 | B18: 0.035446489
A19: 45504 | B19: -0.012376564
A20: 45505 | B20: -0.039194774
A21: 45506 | B21: -0.044123769
A22: 45509 | B22: -0.0097256496
A23: 45510 | B23: -0.014365289
... A301: 45898 | B301: -0.0062858199

Sheet Esempio scelta liv conf
A1: Date | B1: Intesa SP | D1: lim rischio giorn | E1: ='Capital Allocation'!C11 -> 43412.157
A2: 45481 | B2: 0.004648542 | D2: Valore di Mercato
A3: 45482 | B3: -0.0036455412 | C3: Alfa | D3: VaR (99%) | E3: =E2*ABS(B5) -> 0
A4: 45483 | B4: 0.0060512243
A5: 45484 | B5: 0.0046160302 | D5: lim rischio giorn | E5: =E1 -> 43412.157
A6: 45485 | B6: 0.0079365079 | D6: Valore di Mercato
A7: 45488 | B7: -0.0031772344 | C7: Beta | D7: VaR (98%) | E7: =E6*ABS(B8) -> 0
A8: 45489 | B8: 0.0041574279
A9: 45490 | B9: 0.0069003588 | D9: lim rischio giorn | E9: =E5 -> 43412.157
A10: 45491 | B10: 0.0053453947 | D10: Valore di Mercato
A11: 45492 | B11: -0.0061349693 | C11: Gamma | D11: VaR (95%) | E11: =E10*ABS(B17) -> 0
A12: 45495 | B12: 0.01920439
A13: 45496 | B13: 0.0078061911
A14: 45497 | B14: -0.0050747863
A15: 45498 | B15: -0.0068456376
A16: 45499 | B16: 0.001351534
A17: 45502 | B17: -0.0099878526
A18: 45503 | B18: 0.035446489
A19: 45504 | B19: -0.012376564
A20: 45505 | B20: -0.039194774
A21: 45506 | B21: -0.044123769
A22: 45509 | B22: -0.0097256496
A23: 45510 | B23: -0.014365289
... A301: 45898 | B301: -0.0062858199

Sheet Scelta livello confid
A1: Rating S&P | B1: Pd 1 anno
A2: AAA | B2: 1e-05 | C2: Scelta del Rating obiettivo:
A3: AA+ | B3: 0.0002 | D3: Rating S&P target | E3: PD associata | F3: livello di confidenza
A4: AA | B4: 0.0003 | D4: BBB | E4: =IF(D4="","",SUMIF(A2:A18,D4,B2:B18)) -> 0.0017 | F4: =IF(E4="","",1-E4) -> 0.9983
A5: AA- | B5: 0.00035
A6: A+ | B6: 0.0005
A7: A | B7: 0.0006
A8: A- | B8: 0.0009
A9: BBB+ | B9: 0.0012
A10: BBB | B10: 0.0017
A11: BBB- | B11: 0.0053
A12: BB+ | B12: 0.006
A13: BB | B13: 0.012
A14: BB- | B14: 0.019
A15: B+ | B15: 0.031
A16: B | B16: 0.051
... A18: CCC-C | B18: 0.211

Sheet Sim Storiche 2 TITOLI
A1: Date | B1: Intesa SP | C1: VOLKSW | D1: PORTAF | F1: lim rischio giorn | G1: ='Capital Allocation'!C11 -> 43412.157 | H1: Intesa SP | I1: VOLKSW
A2: 45481 | B2: 0.004648542 | C2: 0.0017730496 | F2: Valore di Mercato | G2: =H2+I2 -> 1000000 | H2: 600000 | I2: 400000
A3: 45482 | B3: -0.0036455412 | C3: -0.017699115 | F3: VaR (99%) | H3: =H2/$G$2 -> 0.6 | I3: =I2/$G$2 -> 0.4
A4: 45483 | B4: 0.0060512243 | C4: 0.021621622
A5: 45484 | B5: 0.0046160302 | C5: 0.0026455026
A6: 45485 | B6: 0.0079365079 | C6: 0.0026385224
A7: 45488 | B7: -0.0031772344 | C7: 0.0096491228
A8: 45489 | B8: 0.0041574279 | C8: -0.013032146
A9: 45490 | B9: 0.0069003588 | C9: -0.0061619718
A10: 45491 | B10: 0.0053453947 | C10: 0.011514615
A11: 45492 | B11: -0.0061349693 | C11: -0.025394046
A12: 45495 | B12: 0.01920439 | C12: 0.008984726
A13: 45496 | B13: 0.0078061911 | C13: -0.016028495
A14: 45497 | B14: -0.0050747863 | C14: 0.00090497738
A15: 45498 | B15: -0.0068456376 | C15: 0.0045207957
... A301: 45898 | B301: -0.0062858199 | C301: -0.0058139535

Sheet var-cov 1 titolo
A1: Date | B1: Intesa SP | D1: lim rischio giorn | E1: ='Capital Allocation'!C11 -> 43412.157
A2: 45481 | B2: 0.004648542 | D2: Valore di Mercato | E2: ='Sim Storiche'!E2 -> 0
A3: 45482 | B3: -0.0036455412 | D3: livello di confidenza | E3: 0.99
A4: 45483 | B4: 0.0060512243 | D4: Rend Medio
A5: 45484 | B5: 0.0046160302 | D5: Dev.st
A6: 45485 | B6: 0.0079365079 | D6: Multiplo di s
A7: 45488 | B7: -0.0031772344 | D7: Evento estremo %
A8: 45489 | B8: 0.0041574279 | D8: VaR VAR-COV
A9: 45490 | B9: 0.0069003588
A10: 45491 | B10: 0.0053453947
A11: 45492 | B11: -0.0061349693
A12: 45495 | B12: 0.01920439
A13: 45496 | B13: 0.0078061911
A14: 45497 | B14: -0.0050747863
A15: 45498 | B15: -0.0068456376
A16: 45499 | B16: 0.001351534
A17: 45502 | B17: -0.0099878526
A18: 45503 | B18: 0.035446489
A19: 45504 | B19: -0.012376564
A20: 45505 | B20: -0.039194774
... A301: 45898 | B301: -0.0062858199

Sheet var-cov 2 titoli
A1: Date | B1: Intesa SP | C1: VOLKSW | E1: lim rischio giorn | F1: ='Capital Allocation'!C11 -> 43412.157
A2: 45481 | B2: 0.004648542 | C2: 0.0017730496 | E2: Liv.conf. | F2: 0.99
A3: 45482 | B3: -0.0036455412 | C3: -0.017699115 | E3: VM INT | F3: ='Sim Storiche 2 TITOLI'!H2 -> 600000 | G3: =F3/SUM($F$3:$F$4) -> 0.6
A4: 45483 | B4: 0.0060512243 | C4: 0.021621622 | E4: VM Volks | F4: ='Sim Storiche 2 TITOLI'!I2 -> 400000 | G4: =F4/SUM($F$3:$F$4) -> 0.4
A5: 45484 | B5: 0.0046160302 | C5: 0.0026455026
A6: 45485 | B6: 0.0079365079 | C6: 0.0026385224 | E6: sigma INT
A7: 45488 | B7: -0.0031772344 | C7: 0.0096491228 | E7: sigma VOLKS
A8: 45489 | B8: 0.0041574279 | C8: -0.013032146 | E8: multiplo (k)
A9: 45490 | B9: 0.0069003588 | C9: -0.0061619718 | E9: VaR INT
A10: 45491 | B10: 0.0053453947 | C10: 0.011514615 | E10: VaR VOLKS
A11: 45492 | B11: -0.0061349693 | C11: -0.025394046 | E11: correlaz
A12: 45495 | B12: 0.01920439 | C12: 0.008984726 | E12: VaR PORTAFOGLIO
A13: 45496 | B13: 0.0078061911 | C13: -0.016028495
A14: 45497 | B14: -0.0050747863 | C14: 0.00090497738
A15: 45498 | B15: -0.0068456376 | C15: 0.0045207957
A16: 45499 | B16: 0.001351534 | C16: -0.00450045
A17: 45502 | B17: -0.0099878526 | C17: -0.0054249548
A18: 45503 | B18: 0.035446489 | C18: -0.00090909091
A19: 45504 | B19: -0.012376564 | C19: -0.008189263
A20: 45505 | B20: -0.039194774 | C20: -0.028440367
A21: 45506 | B21: -0.044123769 | C21: -0.015108593
A22: 45509 | B22: -0.0097256496 | C22: -0.02780441
A23: 45510 | B23: -0.014365289 | C23: -0.0088757396
A24: 45511 | B24: 0.027662106 | C24: 0.025870647
... A301: 45898 | B301: -0.0062858199 | C301: -0.0058139535

Sheet var-cov 3 titoli
A1: Date | B1: Intesa SP | C1: VOLKSW | D1: NOKIA | E1: lim rischio giorn | F1: ='Capital Allocation'!C11 -> 43412.157 | J1: Date | K1: Portafoglio
A2: 45481 | B2: 0.004648542 | C2: 0.0017730496 | D2: 0.008175142 | E2: Liv.conf. | F2: 0.99 | G2: Pesi | J2: 45481
A3: 45482 | B3: -0.0036455412 | C3: -0.017699115 | D3: -0.011407367 | E3: VM INT | F3: 300000 | G3: 0.4 | J3: 45482
A4: 45483 | B4: 0.0060512243 | C4: 0.021621622 | D4: 0.012790213 | E4: VM Volks | F4: 162000 | G4: 0.25 | J4: 45483
A5: 45484 | B5: 0.0046160302 | C5: 0.0026455026 | D5: -0.0080988332 | E5: VM NOKIA | F5: 150000 | G5: 0.35 | J5: 45484
A6: 45485 | B6: 0.0079365079 | C6: 0.0026385224 | D6: 0.015637974 | E6: sigma INT | J6: 45485
A7: 45488 | B7: -0.0031772344 | C7: 0.0096491228 | D7: -0.012672026 | E7: sigma VOLKS | J7: 45488
A8: 45489 | B8: 0.0041574279 | C8: -0.013032146 | D8: -0.028153464 | E8: sigma NOKIA | J8: 45489
A9: 45490 | B9: 0.0069003588 | C9: -0.0061619718 | D9: 0.016188583 | E9: multiplo (k) | J9: 45490
A10: 45491 | B10: 0.0053453947 | C10: 0.011514615 | D10: -0.049748463 | E10: VaR INT | J10: 45491
A11: 45492 | B11: -0.0061349693 | C11: -0.025394046 | D11: -0.0075 | E11: VaR VOLKS | J11: 45492
A12: 45495 | B12: 0.01920439 | C12: 0.008984726 | D12: 0.023262706 | E12: VaR NOKIA | J12: 45495
A13: 45496 | B13: 0.0078061911 | C13: -0.016028495 | D13: -0.01071532 | E13: VaR PORTAFOGLIO | J13: 45496 | M13: VaR PORTAFOGLIO Simulazioni Storiche | N13: =SUM(F3:F5)*ABS(K5) -> 0
A14: 45497 | B14: -0.0050747863 | C14: 0.00090497738 | D14: -0.0033665105 | J14: 45497
A15: 45498 | B15: -0.0068456376 | C15: 0.0045207957 | D15: 0.039359671 | F15: Intesa SP | G15: Volkswagen | H15: NOKIA | J15: 45498
A16: 45499 | B16: 0.001351534 | C16: -0.00450045 | D16: -0.00028260562 | E16: Intesa SP | J16: 45499
A17: 45502 | B17: -0.0099878526 | C17: -0.0054249548 | D17: 0.00098939929 | E17: Volkswagen | J17: 45502
A18: 45503 | B18: 0.035446489 | C18: -0.00090909091 | D18: 0.029935047 | E18: NOKIA | J18: 45503
A19: 45504 | B19: -0.012376564 | C19: -0.008189263 | D19: -0.0071291472 | J19: 45504
A20: 45505 | B20: -0.039194774 | C20: -0.028440367 | D20: 0.015327258 | J20: 45505
A21: 45506 | B21: -0.044123769 | C21: -0.015108593 | D21: -0.031959744 | J21: 45506
A22: 45509 | B22: -0.0097256496 | C22: -0.02780441 | D22: -0.035543692 | J22: 45509
A23: 45510 | B23: -0.014365289 | C23: -0.0088757396 | D23: -0.0062636562 | J23: 45510
A24: 45511 | B24: 0.027662106 | C24: 0.025870647 | D24: 0.020668426 | J24: 45511
A25: 45512 | B25: -0.0033285094 | C25: -0.0058195926 | D25: 0.0015797788 | J25: 45512
A26: 45513 | B26: 0.0024684188 | C26: -0.007804878 | D26: -0.0017206768 | J26: 45513
A27: 45516 | B27: 0.0053592121 | C27: -0.0098328417 | D27: 0.010485493 | J27: 45516
A28: 45517 | B28: -0.0017288575 | C28: -0.0084409136 | D28: 0.01862118 | J28: 45517
A29: 45518 | B29: 0.0070717275 | C29: -0.010015023 | D29: 0.0041864359 | J29: 45518
A30: 45519 | B30: 0 | C30: 0.020738493 | D30: 0.035158421 | J30: 45519
... A301: 45898 | B301: -0.0062858199 | C301: -0.0058139535 | D301: 0.0024523161 | J301: 45898

Sheet grafico lambda
B2: =(1-$A$6)*$A$6^(B3-1) -> 0.06 | C2: =(1-$A$6)*$A$6^(C3-1) -> 0.0564 | D2: =(1-$A$6)*$A$6^(D3-1) -> 0.053016 | E2: =(1-$A$6)*$A$6^(E3-1) -> 0.04983504 | F2: =(1-$A$6)*$A$6^(F3-1) -> 0.046844938 | G2: =(1-$A$6)*$A$6^(G3-1) -> 0.044034241 | H2: =(1-$A$6)*$A$6^(H3-1) -> 0.041392187 | I2: =(1-$A$6)*$A$6^(I3-1) -> 0.038908656 | ... IV2: =(1-$A$6)*$A$6^(IV3-1) -> 8.9665642e-09
B3: 1 | C3: 2 | D3: 3 | E3: 4 | F3: 5 | G3: 6 | H3: 7 | I3: 8 | J3: 9 | K3: 10 | L3: 11 | M3: 12 | N3: 13 | O3: 14 | P3: 15 | Q3: 16 | R3: 17 | S3: 18 | T3: 19 | U3: 20 | V3: 21 | W3: 22 | X3: 23 | Y3: 24 | Z3: 25 | AA3: 26 | AB3: 27 | AC3: 28 | AD3: 29 | AE3: 30 | AF3: 31 | AG3: 32 | AH3: 33 | AI3: 34 | AJ3: 35 | AK3: 36 | AL3: 37 | AM3: 38 | AN3: 39 | AO3: 40 | AP3: 41 | AQ3: 42 | AR3: 43 | AS3: 44 | AT3: 45 | AU3: 46 | AV3: 47 | AW3: 48 | AX3: 49 | AY3: 50 | AZ3: 51 | BA3: 52 | BB3: 53 | BC3: 54 | BD3: 55 | BE3: 56 | BF3: 57 | BG3: 58 | BH3: 59 | BI3: 60 | BJ3: 61 | BK3: 62 | BL3: 63 | BM3: 64 | BN3: 65 | BO3: 66 | BP3: 67 | BQ3: 68 | BR3: 69 | BS3: 70 | BT3: 71 | BU3: 72 | BV3: 73 | BW3: 74 | BX3: 75 | BY3: 76 | BZ3: 77 | CA3: 78 | CB3: 79 | CC3: 80 | CD3: 81 | CE3: 82 | CF3: 83 | CG3: 84 | CH3: 85 | CI3: 86 | CJ3: 87 | CK3: 88 | CL3: 89 | CM3: 90 | CN3: 91 | CO3: 92 | CP3: 93 | CQ3: 94 | CR3: 95 | CS3: 96 | CT3: 97 | CU3: 98 | CV3: 99 | CW3: 100 | CX3: 101 | CY3: 102 | CZ3: 103 | DA3: 104 | DB3: 105 | DC3: 106 | DD3: 107 | DE3: 108 | DF3: 109 | DG3: 110 | DH3: 111 | DI3: 112 | DJ3: 113 | DK3: 114 | DL3: 115 | DM3: 116 | DN3: 117 | DO3: 118 | DP3: 119 | DQ3: 120 | DR3: 121 | DS3: 122 | DT3: 123 | DU3: 124 | DV3: 125 | DW3: 126 | DX3: 127 | DY3: 128 | DZ3: 129 | EA3: 130 | EB3: 131 | EC3: 132 | ED3: 133 | EE3: 134 | EF3: 135 | EG3: 136 | EH3: 137 | EI3: 138 | EJ3: 139 | EK3: 140 | EL3: 141 | EM3: 142 | EN3: 143 | EO3: 144 | EP3: 145 | EQ3: 146 | ER3: 147 | ES3: 148 | ET3: 149 | EU3: 150 | EV3: 151 | EW3: 152 | EX3: 153 | EY3: 154 | EZ3: 155 | FA3: 156 | FB3: 157 | FC3: 158 | FD3: 159 | FE3: 160 | FF3: 161 | FG3: 162 | FH3: 163 | FI3: 164 | FJ3: 165 | FK3: 166 | FL3: 167 | FM3: 168 | FN3: 169 | FO3: 170 | FP3: 171 | FQ3: 172 | FR3: 173 | FS3: 174 | FT3: 175 | FU3: 176 | FV3: 177 | FW3: 178 | FX3: 179 | FY3: 180 | FZ3: 181 | GA3: 182 | GB3: 183 | GC3: 184 | GD3: 185 | GE3: 186 | GF3: 187 | GG3: 188 | GH3: 189 | GI3: 190 | GJ3: 191 | GK3: 192 | GL3: 193 | GM3: 194 | GN3: 195 | GO3: 196 | GP3: 197 | GQ3: 198 | GR3: 199 | GS3: 200 | GT3: 201 | GU3: 202 | GV3: 203 | GW3: 204 | GX3: 205 | GY3: 206 | GZ3: 207 | HA3: 208 | HB3: 209 | HC3: 210 | HD3: 211 | HE3: 212 | HF3: 213 | HG3: 214 | HH3: 215 | HI3: 216 | HJ3: 217 | HK3: 218 | HL3: 219 | HM3: 220 | HN3: 221 | HO3: 222 | HP3: 223 | HQ3: 224 | HR3: 225 | HS3: 226 | HT3: 227 | HU3: 228 | HV3: 229 | HW3: 230 | HX3: 231 | HY3: 232 | HZ3: 233 | IA3: 234 | IB3: 235 | IC3: 236 | ID3: 237 | IE3: 238 | IF3: 239 | IG3: 240 | IH3: 241 | II3: 242 | IJ3: 243 | IK3: 244 | IL3: 245 | IM3: 246 | IN3: 247 | IO3: 248 | IP3: 249 | IQ3: 250 | IR3: 251 | IS3: 252 | IT3: 253 | IU3: 254 | IV3: 255
A5: Lambda
A6: 0.94
A7: DATI
A8: =LN(0.01)/LN(A6) -> 74.426507

Sheet sigma esp INTESA
A1: Date | B1: Intesa SP
A2: 45481 | B2: 0.004648542 | D2: sigma semplice | E2: ewma 0,99 | F2: ewma 0,94
A3: 45482 | B3: -0.0036455412
A4: 45483 | B4: 0.0060512243
A5: 45484 | B5: 0.0046160302
A6: 45485 | B6: 0.0079365079
A7: 45488 | B7: -0.0031772344
A8: 45489 | B8: 0.0041574279
A9: 45490 | B9: 0.0069003588
A10: 45491 | B10: 0.0053453947
A11: 45492 | B11: -0.0061349693
A12: 45495 | B12: 0.01920439
A13: 45496 | B13: 0.0078061911
A14: 45497 | B14: -0.0050747863
... A301: 45898 | B301: -0.0062858199

Sheet Effetto Echo
B1: MSCI USA | G1: sempli | H1: espon | I1: NUM
A2: 40480 | B2: 0.022538214 | G2: 0.053420757 | H2: 0.051607033 | I2: 1
A3: 40451 | B3: 0.011959904 | G3: 0.053213046 | H3: 0.050718408 | I3: 2
A4: 40421 | B4: -0.020500052 | G4: 0.046366242 | H4: 0.048040163 | I4: 3
A5: 40389 | B5: 0.0065437947 | G5: 0.043985973 | H5: 0.047055832 | I5: 4
A6: 40359 | B6: -0.051938374 | G6: 0.043407006 | H6: 0.046071157 | I6: 5
A7: 40329 | B7: -0.0075491368 | G7: 0.042921602 | H7: 0.045145155 | I7: 6
A8: 40298 | B8: 0.027479559 | G8: 0.04569599 | H8: 0.050507342 | I8: 7
A9: 40268 | B9: 0.06543882 | G9: 0.045248413 | H9: 0.04945015 | I9: 8
A10: 40235 | B10: 0.058508538 | G10: 0.04560465 | H10: 0.049865361 | I10: 9
A11: 40207 | B11: -0.0056760352 | G11: 0.046244309 | H11: 0.050172403 | I11: 10
A12: 40178 | B12: 0.062652765 | G12: 0.046293536 | H12: 0.049694595 | I12: 11
A13: 40147 | B13: 0.041251544 | G13: 0.046301683 | H13: 0.049086032 | I13: 12
... A150: 35976 | B150: 0.054881413 | G150: 0.043100918 | H150: 0.039603513 | I150: 149
A151: 35944 | B151: -0.027494214
A152: 35915 | B152: -0.019312734
A153: 35885 | B153: 0.07078634
A154: 35853 | B154: 0.061227656
A155: 35825 | B155: 0.028558479
A156: 35795 | B156: 0.033251558
A157: 35762 | B157: 0.073202637
A158: 35734 | B158: -0.053233091
A159: 35703 | B159: 0.031113897
A160: 35671 | B160: -0.079253712
A161: 35642 | B161: 0.136077
A162: 35611 | B162: 0.066911329
... A178: 35124 | B178: -0.0035834555
A179: 35095 | B179: 0.074800433 | C179: sempli | D179: espon
A180: 35062 | B180: 0.0036085261 | C180: =STDEV(B180:B239) -> 0.043100918 | D180: =[1]!ewma(B180:B239,0.96) -> #NAME? | E180: 149
A181: 35033 | B181: 0.069555332 | C181: =STDEV(B181:B240) -> 0.043119693 | D181: =[1]!ewma(B181:B240,0.96) -> #NAME? | E181: 148
A182: 35003 | B182: -0.012551815 | C182: =STDEV(B182:B241) -> 0.042736726 | D182: =[1]!ewma(B182:B241,0.96) -> #NAME? | E182: 147
A183: 34971 | B183: 0.010001389 | C183: =STDEV(B183:B242) -> 0.043051659 | D183: =[1]!ewma(B183:B242,0.96) -> #NAME? | E183: 146
A184: 34942 | B184: 0.062403999 | C184: =STDEV(B184:B243) -> 0.043882195 | D184: =[1]!ewma(B184:B243,0.96) -> #NAME? | E184: 145
A185: 34911 | B185: 0.029545737 | C185: =STDEV(B185:B244) -> 0.045667708 | D185: =[1]!ewma(B185:B244,0.96) -> #NAME? | E185: 144
A186: 34880 | B186: 0.001774465 | C186: =STDEV(B186:B245) -> 0.04607719 | D186: =[1]!ewma(B186:B245,0.96) -> #NAME? | E186: 143
A187: 34850 | B187: 0.060134306 | C187: =STDEV(B187:B246) -> 0.046228169 | D187: =[1]!ewma(B187:B246,0.96) -> #NAME? | E187: 142
A188: 34817 | B188: 0.039717919 | C188: =STDEV(B188:B247) -> 0.047205202 | D188: =[1]!ewma(B188:B247,0.96) -> #NAME? | E188: 141
A189: 34789 | B189: -0.042349105 | C189: =STDEV(B189:B248) -> 0.047260355 | D189: =[1]!ewma(B189:B248,0.96) -> #NAME? | E189: 140
A190: 34758 | B190: 0.0023995929 | C190: =STDEV(B190:B249) -> 0.046915819 | D190: =[1]!ewma(B190:B249,0.96) -> #NAME? | E190: 139
A191: 34730 | B191: 0.0024222991 | C191: =STDEV(B191:B250) -> 0.04694503 | D191: =[1]!ewma(B191:B250,0.96) -> #NAME? | E191: 138
...

Sheet corr esp INT-VOLKS
A1: Date | B1: Intesa SP | C1: VOLKSW | E1: CORR SEMPLICE
A2: 45481 | B2: 0.004648542 | C2: 0.0017730496
A3: 45482 | B3: -0.0036455412 | C3: -0.017699115
A4: 45483 | B4: 0.0060512243 | C4: 0.021621622
A5: 45484 | B5: 0.0046160302 | C5: 0.0026455026 | E5: CORR ESPON | H5: COV ESPON
A6: 45485 | B6: 0.0079365079 | C6: 0.0026385224
A7: 45488 | B7: -0.0031772344 | C7: 0.0096491228
A8: 45489 | B8: 0.0041574279 | C8: -0.013032146
A9: 45490 | B9: 0.0069003588 | C9: -0.0061619718
A10: 45491 | B10: 0.0053453947 | C10: 0.011514615
A11: 45492 | B11: -0.0061349693 | C11: -0.025394046
A12: 45495 | B12: 0.01920439 | C12: 0.008984726
A13: 45496 | B13: 0.0078061911 | C13: -0.016028495
A14: 45497 | B14: -0.0050747863 | C14: 0.00090497738
A15: 45498 | B15: -0.0068456376 | C15: 0.0045207957
A16: 45499 | B16: 0.001351534 | C16: -0.00450045
A17: 45502 | B17: -0.0099878526 | C17: -0.0054249548
... A301: 45898 | B301: -0.0062858199 | C301: -0.0058139535

Sheet Asset versus Delta Normal
A1: Date | B1: Intesa SP | C1: Unicredit | D1: BMW | E1: VOLKSW | G1: lim rischio giorn | H1: ='Capital Allocation'!C11 -> 43412.157 | L1: Date | M1: Intesa SP | N1: Unicredit | O1: BMW | P1: VOLKSW | Q1: MKT ITALIA | R1: MKT GERMANIA | T1: lim rischio giorn | U1: =H1 -> 43412.157
A2: 45481 | B2: 0.004648542 | C2: 0.0031068486 | D2: -0.0013723696 | E2: 0.0017730496 | G2: Liv.conf. | H2: 0.99 | L2: 45481 | M2: 0.004648542 | N2: 0.0031068486 | O2: -0.0013723696 | P2: 0.0017730496 | Q2: 0.00086163574 | R2: -0.00043416517 | T2: Liv.conf. | U2: 0.99
A3: 45482 | B3: -0.0036455412 | C3: -0.010907622 | D3: 0.0054970224 | E3: -0.017699115 | G3: VM INT | H3: 150000 | L3: 45482 | M3: -0.0036455412 | N3: -0.010907622 | O3: 0.0054970224 | P3: -0.017699115 | Q3: -0.0039863736 | R3: -0.011494009 | T3: VM INT | U3: 150000 | W3: ITALIA | X3: INT
A4: 45483 | B4: 0.0060512243 | C4: 0.010483322 | D4: 0.022551253 | E4: 0.021621622 | G4: VM UNICREDIT | H4: 162000 | L4: 45483 | M4: 0.0060512243 | N4: 0.010483322 | O4: 0.022551253 | P4: 0.021621622 | Q4: 0.012434049 | R4: 0.0094270562 | T4: VM UNICREDIT | U4: 162000 | X4: FIAT
A5: 45484 | B5: 0.0046160302 | C5: -0.012799784 | D5: 0.013366006 | E5: 0.0026455026 | G5: VM BMW | H5: 100000 | L5: 45484 | M5: 0.0046160302 | N5: -0.012799784 | O5: 0.013366006 | P5: 0.0026455026 | Q5: 0.0005346093 | R5: 0.0077662604 | T5: VM BMW | U5: 100000
A6: 45485 | B6: 0.0079365079 | C6: 0.013102225 | D6: 0.010991427 | E6: 0.0026385224 | G6: VM VOLKS | H6: 140000 | L6: 45485 | M6: 0.0079365079 | N6: 0.013102225 | O6: 0.010991427 | P6: 0.0026385224 | Q6: 0.0077829784 | R6: 0.011575451 | T6: VM VOLKS | U6: 140000 | W6: GERMANIA | X6: BMW
A7: 45488 | B7: -0.0031772344 | C7: 0.00067358211 | D7: -0.015003262 | E7: 0.0096491228 | G7: PORT | H7: =SUM(H3:H6) -> 552000 | L7: 45488 | M7: -0.0031772344 | N7: 0.00067358211 | O7: -0.015003262 | P7: 0.0096491228 | Q7: -0.0056521016 | R7: -0.0087670475 | T7: PORT | U7: =SUM(U3:U6) -> 552000 | X7: VOLKS
A8: 45489 | B8: 0.0041574279 | C8: 0.0075390415 | D8: -0.01611479 | E8: -0.013032146 | L8: 45489 | M8: 0.0041574279 | N8: 0.0075390415 | O8: -0.01611479 | P8: -0.013032146 | Q8: -0.00028535472 | R8: -0.0041884798
A9: 45490 | B9: 0.0069003588 | C9: 0.005879209 | D9: 0.0035898586 | E9: -0.0061619718 | G9: K | H9: =NORMSINV(H2) -> 2.3263479 | L9: 45490 | M9: 0.0069003588 | N9: 0.005879209 | O9: 0.0035898586 | P9: -0.0061619718 | Q9: 0.00051598077 | R9: -0.0041074202 | T9: K | U9: =NORMSINV(U2) -> 2.3263479
A10: 45491 | B10: 0.0053453947 | C10: 0.00039851222 | D10: 0.022803488 | E10: 0.011514615 | L10: 45491 | M10: 0.0053453947 | N10: 0.00039851222 | O10: 0.022803488 | P10: 0.011514615 | Q10: 0.0051754344 | R10: -0.0035572832
A11: 45492 | B11: -0.0061349693 | C11: -0.0035851813 | D11: -0.017704918 | E11: -0.025394046 | G11: SIGMA INT | L11: 45492 | M11: -0.0061349693 | N11: -0.0035851813 | O11: -0.017704918 | P11: -0.025394046 | Q11: -0.0080270138 | R11: -0.010764994 | T11: SIGMA MKT IT
A12: 45495 | B12: 0.01920439 | C12: 0.030250533 | D12: 0.014908767 | E12: 0.008984726 | G12: SIGMA UNICREDIT | L12: 45495 | M12: 0.01920439 | N12: 0.030250533 | O12: 0.014908767 | P12: 0.008984726 | Q12: 0.009367572 | R12: 0.012682517 | T12: SIGMA MKT GERM
A13: 45496 | B13: 0.0078061911 | C13: 0.0094425042 | D13: -0.014909011 | E13: -0.016028495 | G13: SIGMA BMW | L13: 45496 | M13: 0.0078061911 | N13: 0.0094425042 | O13: -0.014909011 | P13: -0.016028495 | Q13: 0.0013845999 | R13: 0.0085240113
A14: 45497 | B14: -0.0050747863 | C14: 0.0020502307 | D14: -0.0095704429 | E14: 0.00090497738 | G14: SIGMA VOLKS | L14: 45497 | M14: -0.0050747863 | N14: 0.0020502307 | O14: -0.0095704429 | P14: 0.00090497738 | Q14: -0.0044846548 | R14: -0.0089924075
A15: 45498 | B15: -0.0068456376 | C15: -0.02685422 | D15: -0.011910112 | E15: 0.0045207957 | L15: 45498 | M15: -0.0068456376 | N15: -0.02685422 | O15: -0.011910112 | P15: 0.0045207957 | Q15: -0.015271677 | R15: -0.0042634432 | T15: BETA ITALIANI | W15: BETA TEDESCHI
A16: 45499 | B16: 0.001351534 | C16: -0.0055190539 | D16: -0.0025017057 | E16: -0.00450045 | G16: VAR INT | L16: 45499 | M16: 0.001351534 | N16: -0.0055190539 | O16: -0.0025017057 | P16: -0.00450045 | Q16: 0.0030504311 | R16: 0.0060405069 | T16: INTESA | U16: =COVAR(M2:M301,$Q$2:$Q$301)/VAR($Q$2:$Q$301) -> 1.272506 | W16: BMW | X16: =COVAR(O2:O301,$R$2:$R$301)/VAR($R$2:$R$301) -> 0.62218301
A17: 45502 | B17: -0.0099878526 | C17: 0.0013213531 | D17: -0.013451892 | E17: -0.0054249548 | G17: VAR UNICREDIT | L17: 45502 | M17: -0.0099878526 | N17: 0.0013213531 | O17: -0.013451892 | P17: -0.0054249548 | Q17: -0.0057658293 | R17: -0.0051579974 | T17: UNICREDIT | U17: =COVAR(N2:N301,$Q$2:$Q$301)/VAR($Q$2:$Q$301) -> 1.496989 | W17: VOLKS | X17: =COVAR(P2:P301,$R$2:$R$301)/VAR($R$2:$R$301) -> 0.7222636
A18: 45503 | B18: 0.035446489 | C18: 0.011876485 | D18: -0.00069332101 | E18: -0.00090909091 | G18: VAR BMW | L18: 45503 | M18: 0.035446489 | N18: 0.011876485 | O18: -0.00069332101 | P18: -0.00090909091 | Q18: 0.0080506705 | R18: 0.0037370704 | T18: VaR Intesa SP | W18: VaR BMW
A19: 45504 | B19: -0.012376564 | C19: -0.010041732 | D19: -0.0048566142 | E19: -0.008189263 | G19: VAR VOLKS | I19: =SUM(H16:H19) -> 0 | L19: 45504 | M19: -0.012376564 | N19: -0.010041732 | O19: -0.0048566142 | P19: -0.008189263 | Q19: -0.0045497019 | R19: 0.0025565676 | T19: VaR unicredit | W19: VaR VOLKS
A20: 45505 | B20: -0.039194774 | C20: -0.057041233 | D20: -0.033929816 | E20: -0.028440367 | L20: 45505 | M20: -0.039194774 | N20: -0.057041233 | O20: -0.033929816 | P20: -0.028440367 | Q20: -0.024782596 | R20: -0.021233307 | T20: VaR ITALIA | W20: Var GERMANIA
A21: 45506 | B21: -0.044123769 | C21: -0.05001397 | D21: -0.0096223238 | E21: -0.015108593 | G21: var port (asset norm) | L21: 45506 | M21: -0.044123769 | N21: -0.05001397 | O21: -0.0096223238 | P21: -0.015108593 | Q21: -0.022519977 | R21: -0.023437479
A22: 45509 | B22: -0.0097256496 | C22: -0.025441176 | D22: -0.029876123 | E22: -0.02780441 | L22: 45509 | M22: -0.0097256496 | N22: -0.025441176 | O22: -0.029876123 | P22: -0.02780441 | Q22: -0.021219727 | R22: -0.018659557 | U22: corr(IT,Germ)
A23: 45510 | B23: -0.014365289 | C23: -0.016146069 | D23: 0.0027541312 | E23: -0.0088757396 | H23: Intesa SP | I23: Unicredit | J23: BMW | K23: VOLKSW | L23: 45510 | M23: -0.014365289 | N23: -0.016146069 | O23: 0.0027541312 | P23: -0.0088757396 | Q23: -0.0067352783 | R23: -0.00024603377 | U23: var PORT (delta normal)
A24: 45511 | B24: 0.027662106 | C24: 0.047852761 | D24: -0.002247191 | E24: 0.025870647 | G24: Intesa SP | L24: 45511 | M24: 0.027662106 | N24: 0.047852761 | O24: -0.002247191 | P24: 0.025870647 | Q24: 0.023442427 | R24: 0.014149009
A25: 45512 | B25: -0.0033285094 | C25: 0.00058548009 | D25: 0.0022522523 | E25: -0.0058195926 | G25: Unicredit | L25: 45512 | M25: -0.0033285094 | N25: 0.00058548009 | O25: 0.0022522523 | P25: -0.0058195926 | Q25: -0.0034420119 | R25: 0.0039272017
A26: 45513 | B26: 0.0024684188 | C26: 0.007753072 | D26: -0.0037453184 | E26: -0.007804878 | G26: BMW | L26: 45513 | M26: 0.0024684188 | N26: 0.007753072 | O26: -0.0037453184 | P26: -0.007804878 | Q26: 0.001315026 | R26: 0.0027079114
A27: 45516 | B27: 0.0053592121 | C27: 0.0036289737 | D27: -0.013533835 | E27: -0.0098328417 | G27: VOLKSW | L27: 45516 | M27: 0.0053592121 | N27: 0.0036289737 | O27: -0.013533835 | P27: -0.0098328417 | Q27: 0.0042056837 | R27: 0.00012653283
A28: 45517 | B28: -0.0017288575 | C28: 0.001880243 | D28: 0.011432927 | E28: -0.0084409136 | L28: 45517 | M28: -0.0017288575 | N28: 0.001880243 | O28: 0.011432927 | P28: -0.0084409136 | Q28: 0.0027012273 | R28: 0.004974789
A29: 45518 | B29: 0.0070717275 | C29: 0.011982099 | D29: 0.011554886 | E29: -0.010015023 | L29: 45518 | M29: 0.0070717275 | N29: 0.011982099 | O29: 0.011554886 | P29: -0.010015023 | Q29: 0.0110582 | R29: 0.0047360572
A30: 45519 | B30: 0 | C30: 0 | D30: 0.015147753 | E30: 0.020738493 | L30: 45519 | M30: 0 | N30: 0 | O30: 0.015147753 | P30: 0.020738493 | Q30: 0 | R30: 0.0160737
A31: 45520 | B31: 0.030954428 | C31: 0.036804565 | D31: -0.00073385519 | E31: 0.0039643211 | L31: 45520 | M31: 0.030954428 | N31: 0.036804565 | O31: -0.00073385519 | P31: 0.0039643211 | Q31: 0.021492496 | R31: 0.0074313036
A32: 45523 | B32: 0.0047261607 | C32: 0.0090809026 | D32: 0.014198286 | E32: 0.029615005 | L32: 45523 | M32: 0.0047261607 | N32: 0.0090809026 | O32: 0.014198286 | P32: 0.029615005 | Q32: 0.0067804 | R32: 0.0055234304
A33: 45524 | B33: -0.0053956835 | C33: -0.022497955 | D33: -0.00072411296 | E33: -0.012464046 | L33: 45524 | M33: -0.0053956835 | N33: -0.022497955 | O33: -0.00072411296 | P33: -0.012464046 | Q33: -0.0054551733 | R33: -0.003539142
A34: 45525 | B34: 0.0059813604 | C34: -0.0019528526 | D34: 0.011111111 | E34: 0.02038835 | L34: 45525 | M34: 0.0059813604 | N34: -0.0019528526 | O34: 0.011111111 | P34: 0.02038835 | Q34: 0.0073854065 | R34: 0.005236167
A35: 45526 | B35: 0.001659292 | C35: 0.010342418 | D35: -0.0050167224 | E35: -0.012369172 | L35: 45526 | M35: 0.001659292 | N35: 0.010342418 | O35: -0.0050167224 | P35: -0.012369172 | Q35: 0.00037820743 | R35: 0.0028191178
A36: 45527 | B36: 0.015323026 | C36: 0.011066538 | D36: 0.0088835534 | E36: 0.014450867 | L36: 45527 | M36: 0.015323026 | N36: 0.011066538 | O36: 0.0088835534 | P36: 0.014450867 | Q36: 0.010194703 | R36: 0.0073570454
A37: 45530 | B37: -0.003942896 | C37: -0.0035572582 | D37: 0.011423132 | E37: 0.0028490028 | L37: 45530 | M37: -0.003942896 | N37: -0.0035572582 | O37: 0.011423132 | P37: 0.0028490028 | Q37: -0.00087570598 | R37: -0.0010247647
A38: 45531 | B38: 0.01010101 | C38: 0.0019222848 | D38: 0 | E38: -0.0066287879 | L38: 45531 | M38: 0.01010101 | N38: 0.0019222848 | O38: 0 | P38: -0.0066287879 | Q38: 0.0058253198 | R38: 0.003849227
A39: 45532 | B39: 0.00040540541 | C39: 0.0017815541 | D39: -0.016470588 | E39: -0.01620591 | L39: 45532 | M39: 0.00040540541 | N39: 0.0017815541 | O39: -0.016470588 | P39: -0.01620591 | Q39: 0.0032049077 | R39: 0.0052390084
... A301: 45898 | B301: -0.0062858199 | C301: -0.0018137848 | D301: -0.013259669 | E301: -0.0058139535 | L301: 45898 | M301: -0.0062858199 | N301: -0.0018137848 | O301: -0.013259669 | P301: -0.0058139535 | Q301: -0.0052344703 | R301: -0.006241664

Sheet VaR Bond
A1: Limite operativo Giornaliero | B1: ='Capital Allocation'!C12 -> 248069.47
B4: V. Mkt | C4: Dur. Modificata | D4: Tres
A5: BOT Trimestrale | B5: 17500000 | C5: =0.25/(1+D5) -> 0.24777007 | D5: 0.009
A6: BTP strip Decennale | B6: 16000000 | C6: =10/(1+D6) -> 9.6107641 | D6: 0.0405
A7: Valore di Mercato Portafoglio | B7: =B6+B5 -> 33500000
A9: Livello di confidenza | B9: 0.99
A11: Input Modello VaR "Var-Cov" | B11: Tassi 3 mesi | C11: Tassi 10 anni
A12: Rendimento atteso | F12: correlazioni | G12: tasso 3 mesi | H12: tasso 10 anni
A13: Deviazione Standard t. interesse | B13: 0.0033 | C13: 0.001 | F13: tasso 3 mesi | G13: 1
A14: Multiplo di Sigma (k) | B14: =NORMSINV($B$9) -> 2.3263479 | C14: =NORMSINV($B$9) -> 2.3263479 | F14: tasso 10 anni | G14: 0.15 | H14: 1
A15: VaR
A17: VaR Portafoglio | C17: =IF($B$1<ABS(B17),"No rispetto limite",IF($B$1*95%<ABS(B17),"Si è vicini al limite","ok")) -> ok

Sheet Future+titoli
A1: Date | B1: IBM | C1: APPLE | D1: S&P 500 | F1: lim rischio giorn | G1: ='Capital Allocation'!C11 -> 43412.157 | I1: Tasso €/$ | J1: 1.17
A2: 45481 | B2: 0.0092034996 | C2: 0.0065388354 | D2: 0.0010166709 | F2: Liv.conf. | G2: 0.99
A3: 45482 | B3: -0.0065300608 | C3: 0.00377491 | D3: 0.00074109298 | F3: VM IBM | H3: 300000
A4: 45483 | B4: 0.0077062557 | C4: 0.018803568 | D4: 0.010208034 | F4: VM APPLE | H4: 162000
A5: 45484 | B5: 0.002642825 | C5: -0.023220877 | D5: -0.0087630083 | F5: VM FUTURE | H5: -250000 | L5: Posiz in $
A6: 45485 | B6: 0.025349111 | C6: 0.013050929 | D6: 0.0055170166 | G6: =SUM(G3:G5) -> 0 | L6: =G6 -> 0 | M6: VM €
A7: 45488 | B7: 0.00027347809 | C7: 0.016743298 | D7: 0.0028261818 | F7: Sigma Mercato | H7: trasferimento rischio cambio al desk valutario | L7: 2.326 | M7: k
A8: 45489 | B8: 0.016021435 | C8: 0.0017918089 | D8: 0.0063893792 | F8: multiplo (k) | G8: =NORMSINV(G2) -> 2.3263479 | L8: ='VaR Exchange'!F12 -> 0 | M8: sigma
A9: 45490 | B9: 0.0088262203 | C9: -0.025295971 | D9: -0.013927513 | F9: VaR IBM | M9: VaR
A10: 45491 | B10: -0.011896506 | C10: -0.020534778 | D10: -0.0078163725 | F10: VaR APPLE
A11: 45492 | B11: -0.010636 | C11: 0.00057989116 | D11: -0.0071402935 | F11: VaR Future
A12: 45495 | B12: 0.0049113233 | C12: -0.0015603406 | D12: 0.010792007 | F12: VaR PORTAFOGLIO
A13: 45496 | B13: -0.00027151778 | C13: 0.0046883372 | D13: -0.0015581167
A14: 45497 | B14: -0.00043454644 | C14: -0.028754278 | D14: -0.023149031 | F14: Beta IBM | G14: Beta APPLE
A15: 45498 | B15: 0.043256168 | C15: -0.0048046124 | D15: -0.0051426813
A16: 45499 | B16: -0.0011980415 | C16: 0.0021610189 | D16: 0.011090491
A17: 45502 | B17: -0.001303781 | C17: 0.0012846394 | D17: 0.00081332088
A18: 45503 | B18: -0.0024020888 | C18: 0.0025659824 | D18: -0.004960154
A19: 45504 | B19: 0.0057579564 | C19: 0.014990859 | D19: 0.015793424
A20: 45505 | B20: -0.012907255 | C20: -0.01675072 | D20: -0.01369357
A21: 45506 | B21: -0.0028472003 | C21: 0.00686939 | D21: -0.01838184
A22: 45509 | B22: -0.030721235 | C22: -0.048167015 | D22: -0.029968802
A23: 45510 | B23: 0.019038787 | C23: -0.0097481722 | D23: 0.010354143
A24: 45511 | B24: 0 | C24: 0.01249819 | D24: -0.0077346885
A25: 45512 | B25: 0.031102784 | C25: 0.016633305 | D25: 0.0230426
A26: 45513 | B26: -0.0060225326 | C26: 0.013735877 | D26: 0.0046716585
... A301: 45898 | B301: -0.0091156961 | C301: -0.0018059856 | D301: -0.0063981691

Sheet VaR Exchange
A1: Date | B1: €/$ | C1: €/Y | E1: Limite operativo Giornaliero | F1: ='Capital Allocation'!C13 -> 18605.21
A2: t-300 | B2: 0.00095231617 | C2: 0.0056911787 | E2: Tasso $/€ | F2: 1.17
A3: t-299 | B3: 0.0044411041 | C3: 0.003682826 | E3: Tasso Y/€ | F3: 124
A4: t-298 | B4: 0.00088901046 | C4: 0.0013547076 | G4: M-t-M
A5: t-297 | B5: 0.0032244786 | C5: 0.0075832259 | E5: Posizione in $ | F5: 1000000
A6: t-296 | B6: -0.001028031 | C6: -0.015748619 | E6: Posizione in Y | F6: 60000000
A7: t-295 | B7: 0.0012351609 | C7: 0 | E7: Valore di Mercato Portafoglio | F7: -
A8: t-294 | B8: 0.0037192644 | C8: 0.0011956359
A9: t-293 | B9: 0.012765067 | C9: 0.0047300848 | E9: Livello di confidenza | F9: 0.99
A10: t-292 | B10: 0.0020269798 | C10: 0.0015791848
A11: t-291 | B11: 0.003366295 | C11: 0.007729615 | E11: Input Modello VaR "Var-Cov" | F11: $/€ | G11: Y/€
A12: t-290 | B12: -0.0019598236 | C12: 0.0023547284 | E12: Deviazione Standard | J12: correlazioni | K12: $/€ | L12: Y/€
A13: t-289 | B13: 0.0038645306 | C13: -0.0061900808 | E13: Multiplo di Sigma (k) | F13: =NORMSINV($F$9) -> 2.3263479 | G13: =NORMSINV($F$9) -> 2.3263479 | J13: $/€
A14: t-288 | B14: -0.0076697811 | C14: -0.0049575603 | E14: VaR | J14: Y/€
A15: t-287 | B15: 0.00097710776 | C15: -0.0069371923
A16: t-286 | B16: 0.004275601 | C16: 0.0037436358 | E16: VaR Portafoglio | F16: =SQRT(F14^2+(G14)^2+2*F14*(G14)*K14) -> 0 | G16: =IF($F$1<ABS(F16),"No rispetto limite",IF($F$1*95%<ABS(F16),"Si è vicini al limite","ok")) -> ok
A17: t-285 | B17: 0.0018960674 | C17: -0.0051396648
A18: t-284 | B18: -0.0056560296 | C18: -0.0053345188
A19: t-283 | B19: -0.0004187897 | C19: -0.0032493907
A20: t-282 | B20: 0.00041896516 | C20: 0.0001477214
A21: t-281 | B21: 0.0059707783 | C21: 0.010297739
A22: t-280 | B22: -0.0012628034 | C22: 0.0015695067
A23: t-279 | B23: 0.0092756496 | C23: -0.00022416499
A24: t-278 | B24: 0.0028403039 | C24: 0.0069219773
A25: t-277 | B25: -0.010260735 | C25: -0.014386355
A26: t-276 | B26: -0.0033620509 | C26: -0.0096937651
A27: t-275 | B27: 0.0040084388 | C27: -0.0039499671
A28: t-274 | B28: 0.0043082139 | C28: 0.0072944297
... A301: t-1 | B301: 0.0035148262 | C301: 0.006235895

Sheet AGGREGAZIONE
A1: VAR BOND | B1: ='VaR Bond'!B17 -> 0
A2: VAR EQUITY | B2: ='var-cov 3 titoli'!F13 -> 0
A3: VAR EXCHANGE | B3: ='VaR Exchange'!F16 -> 0
A4: VAR TRADING BOOK | B4: =SQRT(B1^2+B2^2+B3^2+2*B1*B2*B8+2*B1*B3*B9+2*B2*B3*C9) -> 0
B6: VAR BOND | C6: VAR EQUITY | D6: VAR EXCHANGE
A7: VAR BOND | B7: 1 | C7: =B8 -> 0.08 | D7: =B9 -> -0.02
A8: VAR EQUITY | B8: 0.08 | C8: 1 | D8: =C9 -> 0.15
A9: VAR EXCHANGE | B9: -0.02 | C9: 0.15 | D9: 1

Sheet ConditionalVaR
A1: Date | B1: Intesa SP | D1: lim rischio giorn | E1: ='Capital Allocation'!C11 -> 43412.157
A2: 45481 | B2: 0.004648542 | D2: Valore di Mercato | E2: 320000
A3: 45482 | B3: -0.0036455412 | D3: VaR (99%)
A4: 45483 | B4: 0.0060512243
A5: 45484 | B5: 0.0046160302 | D5: Co-VaR (99%)
A6: 45485 | B6: 0.0079365079
A7: 45488 | B7: -0.0031772344
A8: 45489 | B8: 0.0041574279
A9: 45490 | B9: 0.0069003588
A10: 45491 | B10: 0.0053453947
A11: 45492 | B11: -0.0061349693
A12: 45495 | B12: 0.01920439
A13: 45496 | B13: 0.0078061911
A14: 45497 | B14: -0.0050747863
A15: 45498 | B15: -0.0068456376
A16: 45499 | B16: 0.001351534
A17: 45502 | B17: -0.0099878526
... A301: 45898 | B301: -0.0062858199
